BEGIN:VCALENDAR
VERSION:2.0
METHOD:PUBLISH
X-WR-CALNAME:Jász Napló |  november 04 2012- december 04 2012
PRODID:-//strange bird labs//Drupal iCal API//EN
BEGIN:VEVENT
DTSTAMP;VALUE=DATE-TIME:20260423T011903Z
DTSTART;VALUE=DATE-TIME:20121030T070000Z
DTEND;VALUE=DATE-TIME:20121115T160000Z
UID:http://jasznaplo.hu/ruth-stephan-vechta-szobraszmuvesz-%E2%80%9Cart-europa-im-fokus%E2%80%9D-kiallitasa
URL;VALUE=URI:http://jasznaplo.hu/ruth-stephan-vechta-szobraszmuvesz-%E2%80%9Cart-europa-im-fokus%E2%80%9D-kiallitasa
SUMMARY:Ruth Stephan (Vechta) szobrászművesz -  “Art Europa im Fokus” kiállítása 
DESCRIPTION:Helyszín\:
 Városi Könyvtár Jászberény\, Bercsényi u. 1.
 
 A kiállítás megtekinthető 2012. november 15-ig a könyvtár nyitvatartási idejében\: h\, k\, cs\, p\: 9-18 | szo\: 9-13
END:VEVENT
BEGIN:VEVENT
DTSTAMP;VALUE=DATE-TIME:20260423T011903Z
DTSTART;VALUE=DATE-TIME:20121030T110000Z
DTEND;VALUE=DATE-TIME:20121115T153000Z
UID:http://jasznaplo.hu/eletkorok-valogatas-vuics-istvan-muveszeti-hagyatekabol-0
URL;VALUE=URI:http://jasznaplo.hu/eletkorok-valogatas-vuics-istvan-muveszeti-hagyatekabol-0
SUMMARY:Életkorok - Válogatás Vuics István művészeti hagyatékából
DESCRIPTION:Megtekinthető\: 2012. november 15-ig November 1-én zárva.
 
 Nyitva\: naponta 13.00 és 17.30 között
 
 Rendező\: Hamza Gyűjtemény és Jász Galéria 
 
 Helyszín\: egykori Jászkürt Fogadó Jászberény\, Déryné u. 6.
END:VEVENT
BEGIN:VEVENT
DTSTAMP;VALUE=DATE-TIME:20260423T011903Z
DTSTART;VALUE=DATE-TIME:20121104T130000Z
DTEND;VALUE=DATE-TIME:20121104T130000Z
UID:http://jasznaplo.hu/filmvetites-egy-fiunak-fele-1944-rendezo-hamza-d-akos
URL;VALUE=URI:http://jasznaplo.hu/filmvetites-egy-fiunak-fele-1944-rendezo-hamza-d-akos
SUMMARY:FILMVETÍTÉS\: EGY FIÚNAK A FELE (1944) - Rendező\: Hamza D. Ákos
DESCRIPTION:<p>Mikszáth Kálmán novellája alapján készült fekete-fehér film\, amelyet politikai felhangjai miatt a cenzúra betiltott\, a faji megkülönböztetés ellen foglal állást.</p>
 <p>KÖSZÖNTŐK\:<br />
 Sérgio Eduardo Moreira Lima\, a Brazil Köztársaság magyarországi nagykövete<br />
 Dr. Cser-Palkovics András\, az Országgyűlés kulturális és sajtóbizottságának elnöke<br />
 Dr. Deme Péter\, a Pulszky Társaság Magyar Múzeumi Egyesület elnöke</p>
 <p>KONCERT ÉS VETÍTÉS\:<br />
 HAMZA-FILMZENÉK MODERN FELDOLGOZÁSBAN – Szaniszló Richárd ütőhangszeres művész koncertje.</p>
 <p>Meghívott előadónk néhány Hamza-film kísérő zenéjének saját feldolgozásait adja majd elő vibrafonon és MalletKat-hangszereken\, így az 1940-es évek dallamait dzsesszes improvizációkkal hozza majd közelebb korunk ízlésvilágához. A fekete-fehér moziművek hangulatát tehát valódi hangszínkavalkád fogja életre kelteni ezen az estén.</p>
 <p>...</p>
 <p>A hangverseny alatt a Különös találkozás című kiállítás virtuális bemutatóját láthatja majd a publikum.</p>
 
END:VEVENT
BEGIN:VEVENT
DTSTAMP;VALUE=DATE-TIME:20260423T011903Z
DTSTART;VALUE=DATE-TIME:20121106T170000Z
DTEND;VALUE=DATE-TIME:20121106T170000Z
UID:http://jasznaplo.hu/bodocs-tibor-onallo-estje
URL;VALUE=URI:http://jasznaplo.hu/bodocs-tibor-onallo-estje
SUMMARY:Bödőcs Tibor önálló estje
DESCRIPTION:<p>Helyszín\: Ifjúsági Ház (Jászberény\, Bercsényi u. 1/A)<br />
 Belépődíj\: 2.300.-</p>
 
END:VEVENT
BEGIN:VEVENT
DTSTAMP;VALUE=DATE-TIME:20260423T011903Z
DTSTART;VALUE=DATE-TIME:20121110T170000Z
DTEND;VALUE=DATE-TIME:20121110T170000Z
UID:http://jasznaplo.hu/ochotnicky-bela-aria-es-dalestje
URL;VALUE=URI:http://jasznaplo.hu/ochotnicky-bela-aria-es-dalestje
SUMMARY:Ochotnicky Béla ária- és dalestje
DESCRIPTION:<p>Helyszín\: Déryné Rendezvényház (Jászberény\, Lehel vezér tér 33.)<br />
 Belépés díjtalan.</p>
 
END:VEVENT
BEGIN:VEVENT
DTSTAMP;VALUE=DATE-TIME:20260423T011903Z
DTSTART;VALUE=DATE-TIME:20121113T080000Z
DTEND;VALUE=DATE-TIME:20121113T080000Z
UID:http://jasznaplo.hu/magyar-nyelv-napja-unnepseg-varosi-konyvtarban
URL;VALUE=URI:http://jasznaplo.hu/magyar-nyelv-napja-unnepseg-varosi-konyvtarban
SUMMARY:A Magyar Nyelv Napja - ünnepség a Városi Könyvtárban
DESCRIPTION:<p>Jászberény Város Önkormányzata<br />
 és a JÁSZKERÜLET Nonprofit Kft. - Városi Könyvtár Jászberény<br />
 tisztelettel meghívja Önt\, hogy ünnepeljük meg együtt a magyar nyelv napját<br />
 2012. november 13-án (kedden) 10.00 órakor<br />
 a Városi Könyvtár kamaratermében.</p>
 <p>Az ünnepséget megnyitja Juhász Dániel alpolgármester.<br />
 Elhangzik Gyimóthy Gábor Nyelvlecke című verse.</p>
 <p>Előadás\:<br />
 Gyimóthy Gábor<br />
 (Svájcban élő hazánkfia)<br />
 Beszéljünk tudatosan\, beszéljünk tudatosan magyarul!<br />
 Az  előadás a „Toll és Kereszt?” irodalmi sorozat keretében kerül megtartásra<br />
 Belépés ingyenes!</p>
 
END:VEVENT
BEGIN:VEVENT
DTSTAMP;VALUE=DATE-TIME:20260423T011903Z
DTSTART;VALUE=DATE-TIME:20121116T150000Z
DTEND;VALUE=DATE-TIME:20121116T150000Z
UID:http://jasznaplo.hu/montenegro-hegyek-orszaga
URL;VALUE=URI:http://jasznaplo.hu/montenegro-hegyek-orszaga
SUMMARY:Montenegró\, a hegyek országa
DESCRIPTION:<p>Helyszín\: Ifjúsági Ház (Jászberény\, Bercsényi u. 1/A)<br />
 Nagy János vetítéssel egybekötött előadása egy alig ismert\, felfedezésre váró országról.<br />
 Belépés díjtalan.</p>
 
END:VEVENT
BEGIN:VEVENT
DTSTAMP;VALUE=DATE-TIME:20260423T011903Z
DTSTART;VALUE=DATE-TIME:20121117T070000Z
DTEND;VALUE=DATE-TIME:20121117T070000Z
UID:http://jasznaplo.hu/spiritualis-nap
URL;VALUE=URI:http://jasznaplo.hu/spiritualis-nap
SUMMARY:Spirituális nap
DESCRIPTION:<p>\\"Amint megbízol önmagadban\, tudni fogod\, hogy élj.\\" - Goethe<br />
 2012. november 17. szombat </p>
 <p>Városi Könyvtár<br />
 09.00-9.45<br />
 Dr. Csákó Zoltán parapszichológus\, tarot mestertanár\:<br />
 Hogyan éljük meg harmonikusan a négy elem misztériumát életünkben?               ingyenes<br />
 10.00-10.45<br />
 Hamonn Zsuzsa spirituális előadó\:<br />
 Felemelkedés a tudatos léthez                            500\,-/650\,-<br />
 11.00-12.30<br />
 Kovács Ilona spirituális előadó\:<br />
 2012 valódi üzenete Kryon tanításai alapján        500\,- /650\,-<br />
 12.45-13.00<br />
 HAHOTA JÓGA – Szabóné Tecus klubvezető       ingyenes<br />
 13.00-14.30<br />
 Bánfi Andrea kineziológus\:<br />
 Stressz MEG-OLDÁS kineziológiával és a mesék bölcsességével<br />
                                                                   500\,- /650\,-<br />
 14.30-16.00<br />
  Dr. Sári László író\, kelet-kutató\:<br />
 \\"Lelked szélfútta madártoll\\"\: az ázsiai nő       950\,-/1.200\,-	</p>
 <p>Lehel Film-Színház<br />
 16.30-19.00<br />
 Spirituális (nem zenés) beszélgetés Révész Sándorral\:</p>
 
END:VEVENT
BEGIN:VEVENT
DTSTAMP;VALUE=DATE-TIME:20260423T011903Z
DTSTART;VALUE=DATE-TIME:20121117T080000Z
DTEND;VALUE=DATE-TIME:20121117T100000Z
UID:http://jasznaplo.hu/optikaland-tizedszer
URL;VALUE=URI:http://jasznaplo.hu/optikaland-tizedszer
SUMMARY:OPTIKALAND TIZEDSZER!
DESCRIPTION:<p>Múzeumpedagógiai foglalkozássorozat 7-16 éveseknek</p>
 <p>A következő foglalkozás időpontja\:<br />
 2012. november 17. (szombat) 10-től 12 óráig.<br />
 A további időpontokról friss információ a honlapon!</p>
 <p>A foglalkozások fő célja a résztvevők képzőművészeti alkotások befogadását segítő képességeinek\, valamint tényleges alkotóképességeinek fejlesztése\, mindez a múzeum absztrakt képzőművészeti gyűjteményére támaszkodva. Fontos szerepet kap a színek\, a formák és ezek kölcsönhatásának vizsgálata\, miközben a résztvevők különféle technikákat (montázs\, viaszfestés\, kartonmetszet\, kollázs\, fonalgrafika) ismerhetnek meg és sajátíthatnak el. A művészeti eljárások kiválasztása a résztvevő gyerekek életkorához és felkészültségéhez igazodik.</p>
 <p>A részvétel díja\: 800 Ft/alkalom\, mely tartalmazza az adott foglalkozás részvételi díját\, valamint az anyag- és eszközköltséget is. Az elkészült munkákat a gyerekek hazavihetik.</p>
 
END:VEVENT
BEGIN:VEVENT
DTSTAMP;VALUE=DATE-TIME:20260423T011903Z
DTSTART;VALUE=DATE-TIME:20121124T090000Z
DTEND;VALUE=DATE-TIME:20121124T090000Z
UID:http://jasznaplo.hu/tarsastanc-verseny-3
URL;VALUE=URI:http://jasznaplo.hu/tarsastanc-verseny-3
SUMMARY:TÁRSASTÁNC VERSENY
DESCRIPTION:<p>az Ifjúsági Házban  (Jászberény\, Bercsényi u. 1/A)<br />
 tánciskolások és művészeti iskolások részére</p>
 <p>kezdő\, haladó kategóriákban<br />
 gyermek\, junior\, ifjúsági és felnőtt korcsoportokban</p>
 <p>Bemutatót tart a LEHEL-MELODY TSE - Jászberény</p>
 <p>Belépő\: 1.000.- Ft.</p>
 
END:VEVENT
BEGIN:VEVENT
DTSTAMP;VALUE=DATE-TIME:20260423T011903Z
DTSTART;VALUE=DATE-TIME:20121130T150000Z
DTEND;VALUE=DATE-TIME:20121130T150000Z
UID:http://jasznaplo.hu/vaczi-anna-fenykepesz-kiallitasanak-megnyitoja
URL;VALUE=URI:http://jasznaplo.hu/vaczi-anna-fenykepesz-kiallitasanak-megnyitoja
SUMMARY:Váczi Anna fényképész kiállításának megnyitója
DESCRIPTION:<p>Városi Könyvtár\, Jászberény\, Bercsényi út 1.<br />
 Megnyitja\: V. Pócz Ilona művésztanár<br />
 Fiatal\, jászberényi fényképész munkáinak bemutatása.<br />
 <a href=\\"http\://www.facebook.com/events/397819456954863/\\" title=\\"http\://www.facebook.com/events/397819456954863/\\" rel=\\"nofollow\\">http\://www.facebook.com/events/397819456954863/</a></p>
 
END:VEVENT
BEGIN:VEVENT
DTSTAMP;VALUE=DATE-TIME:20260423T011903Z
DTSTART;VALUE=DATE-TIME:20121130T160000Z
DTEND;VALUE=DATE-TIME:20121130T160000Z
UID:http://jasznaplo.hu/az-osmuveltseg-nyomai
URL;VALUE=URI:http://jasznaplo.hu/az-osmuveltseg-nyomai
SUMMARY:Az ősműveltség nyomai
DESCRIPTION:<p>Helyszín\: Déryné Rendezvényház<br />
 Szervező\: Jászkerület Kft.<br />
 Jászország című sorozatban \\"Az ősműveltség nyomai a magyar ábécében\\" címmel Koricsánszky Attila ad írástörténeti áttekintést a magyar múltból. Egy csésze teára vendég minden érdeklődő.</p>
 
END:VEVENT
BEGIN:VEVENT
DTSTAMP;VALUE=DATE-TIME:20260423T011903Z
DTSTART;VALUE=DATE-TIME:20121201T130000Z
DTEND;VALUE=DATE-TIME:20121201T130000Z
UID:http://jasznaplo.hu/jotekonysagi-musor-csoke-nikolett-javara
URL;VALUE=URI:http://jasznaplo.hu/jotekonysagi-musor-csoke-nikolett-javara
SUMMARY:Jótékonysági műsor Csőke Nikolett javára
DESCRIPTION:<p>Meghívó<br />
 Szeretettel meghívjuk  A Jászberényi  Ifjúsági házban \, Bercsényi út 1/a \, 2012 december 1 \, 15 órakor kezdődő jótékonysági műsorunkra\, melynek bevételével Csőke Nikolett májátültetésre váró 8 éves kislány gyógykezelését  támogatjuk.</p>
 <p>Fellépők\: Rácz Aladár Zeneiskola Fúvószenekara<br />
 Oszvald Marika primadonna<br />
 Mága Zoltán hegedűművész tanítványa \: a 8 éves Burai Zsolt<br />
 Jászapáti Gyöngyszemek táncos lányai<br />
 Janesz és Édua  pop-ének<br />
 Meglepetés vendégek</p>
 <p>Szervező\: Csatári Édua dalszövegíró-menedzser</p>
 <p>Jegyek kaphatók a helyszínen\: 800 ft/fő<br />
 A műsorral kapcsolatban érdeklődni\: 06-20 2126340</p>
 
END:VEVENT
BEGIN:VEVENT
DTSTAMP;VALUE=DATE-TIME:20260423T011903Z
DTSTART;VALUE=DATE-TIME:20121202T120000Z
DTEND;VALUE=DATE-TIME:20121202T120000Z
UID:http://jasznaplo.hu/advent-1-vasarnap
URL;VALUE=URI:http://jasznaplo.hu/advent-1-vasarnap
SUMMARY:Advent 1. vasárnap
DESCRIPTION:<p>Jászberény Főterén<br />
 Advent első vasárnapja / december 02.<br />
 14.00 – 16.00 Kézműves karácsony - ünnepi dísz és ajándékkészítő kézműves foglalkozás<br />
 15.00 Adventi Matiné\: HARLEKIN Bábszínház Déryné Rendezvényház Díszterme<br />
 16.00 Ünnepi tér / gyertyagyújtás Közreműködő\: Cantate Nobisz Énekegyüttes<br />
 17.00 Megnyitó FÉNYEK-LÁNYOK-LÉNYEK Csóti Gabriella Rózsa – agyagász ünnepi kiállítása és vásár Megtekinthető\: december 02-23 között a Déryné Rendezvényházban.<br />
 17.00 Ünnepi Pódium Sztárvendég\: Kökény Attila Ifjúsági Ház</p>
 
END:VEVENT
END:VCALENDAR
