BEGIN:VCALENDAR
VERSION:2.0
METHOD:PUBLISH
X-WR-CALNAME:Jász Napló |  június 16 2012- július 16 2012
PRODID:-//strange bird labs//Drupal iCal API//EN
BEGIN:VEVENT
DTSTAMP;VALUE=DATE-TIME:20260425T123231Z
DTSTART;VALUE=DATE-TIME:20120616T160000Z
DTEND;VALUE=DATE-TIME:20120616T160000Z
UID:http://jasznaplo.hu/toltson-egy-ejszakat-jasz-muzeumban-0
URL;VALUE=URI:http://jasznaplo.hu/toltson-egy-ejszakat-jasz-muzeumban-0
SUMMARY:Töltsön egy éjszakát a Jász Múzeumban!
DESCRIPTION:<p>2012. június 16-án (szombaton) 18.00 -24 óráig</p>
 <p>Helyszín\: Jászberény\,<br />
                 a Jász Múzeum és a Városháza közös udvarán felállított nagyszínpad</p>
 <p>Boszorkányok pedig vannak…</p>
 <p>18.00 –18.05  – Hortiné dr. Bathó Edit múzeumigazgató köszöntője<br />
 18.10 –19.00  – Vasorrú bába  című mesejáték a Regélő Színjátszó Kör előadásában<br />
 19.15 – 20.15 – Beteszi Gyuri és pajtásai címmel Berecz András mesemondó műsora<br />
 20.25– 20.45 – Varga Antal füttyművész műsora<br />
 21.00 – 21.50 – Benedek Elek\: Macskacicó című mesejátéka a Kelepelő Bábcsoport<br />
                           előadásában<br />
 22.00 – 22.30 –  Igézet ne fogja… A Jászsági Hagyományőrző Egylet műsora<br />
 22.40 – 23.10 – Fordulj egyet előttem…. A Viganó AMI táncosainak műsora<br />
 23.15 – 23.45 –  Karnevál a boszorkányok éjszakáján\, a Jászapáti Fúvós Zenekar műsora<br />
 A Jászkerület Nonprofit Kft. szervezésében\:<br />
 24.00 -  01.00 – Tűzugrás és tűztánc a Margit-szigeten</p>
 
END:VEVENT
BEGIN:VEVENT
DTSTAMP;VALUE=DATE-TIME:20260425T123231Z
DTSTART;VALUE=DATE-TIME:20120616T210000Z
DTEND;VALUE=DATE-TIME:20120616T210000Z
UID:http://jasznaplo.hu/tuzugras-muzeumok-ejszakajan-2012
URL;VALUE=URI:http://jasznaplo.hu/tuzugras-muzeumok-ejszakajan-2012
SUMMARY:Tűzugrás a Múzeumok éjszakáján 2012
DESCRIPTION:<p>TÜZES SZIGET</p>
 <p>Tűzugrás\, tűztánc és szerelemvarázslás<br />
 a Margit-szigeten\, Jászberényben<br />
 2012. június 16. szombat</p>
 <p>23.00 órától<br />
 • zenés gyülekező<br />
 • készítsd el saját kívánságmécsesed és indíts útjára a Zagyván</p>
 <p>24.00 órától<br />
 • LÁNGVIRÁG TŰZSZÍNHÁZ bemutatója<br />
 • A Viganó Alapfokú Művészetoktatási Intézmény csoportjainak tűztánca – TŰZUGRÁS<br />
 Közreműködik a Zagyva Banda</p>
 <p>Tűzmester\: Kalla Pál</p>
 <p>Belépés díjtalan!</p>
 
END:VEVENT
BEGIN:VEVENT
DTSTAMP;VALUE=DATE-TIME:20260425T123231Z
DTSTART;VALUE=DATE-TIME:20120622T150000Z
DTEND;VALUE=DATE-TIME:20120622T150000Z
UID:http://jasznaplo.hu/spiritualis-utakon-sorozat-3-eloadasa
URL;VALUE=URI:http://jasznaplo.hu/spiritualis-utakon-sorozat-3-eloadasa
SUMMARY:Spirituális utakon sorozat 3. előadása
DESCRIPTION:<p>Ifjúsági Ház</p>
 <p>Túl az egón (Spirituális életmód - Tudatos sorsalakítás)<br />
 GUNAGRIHA (Dr. Fülöp Sándor) író\, Sri Chinmoy spirituális mester tanítványa\, Sri Chinmoy Központ magyarországi vezetője<br />
 500\,- Ft elővételben a könyvtárban<br />
 600\,- Ft a helyszínen</p>
 <p>„Mi is az az erő vagy képesség\, mely segítségével egy ember mindent kibír\, illetve elbír\, mindegy\, hogy milyen pszichikai megterhelésnek teszik ki? Hát nem egy belső erő\, amely minket belülről tesz erőssé?”(Gunagriha)<br />
 - Hogyan erősíthetjük belső erőnket?<br />
 - Tudatos sorsalakítás<br />
 - Benned a képesség\, hogy sorsodat átformáld! (héthetes gyakorlatsorral)</p>
 
END:VEVENT
BEGIN:VEVENT
DTSTAMP;VALUE=DATE-TIME:20260425T123231Z
DTSTART;VALUE=DATE-TIME:20120627T182900Z
DTEND;VALUE=DATE-TIME:20120627T182900Z
UID:http://jasznaplo.hu/rock-csutortok
URL;VALUE=URI:http://jasznaplo.hu/rock-csutortok
SUMMARY:Rock csütörtök
DESCRIPTION:<p>2012. július 19. csütörtök<br />
 Rock csütörtök<br />
 20\:00 – 21\:30 Hendrix Reload Zenekar<br />
 22\:00 – 23\:30 Dynamo Zenekar<br />
 Helyszín\: Margit-sziget<br />
 Belépő\: ingyenes</p>
 
END:VEVENT
BEGIN:VEVENT
DTSTAMP;VALUE=DATE-TIME:20260425T123231Z
DTSTART;VALUE=DATE-TIME:20120707T160000Z
DTEND;VALUE=DATE-TIME:20120707T160000Z
UID:http://jasznaplo.hu/nemzetkozi-korustalalkozo
URL;VALUE=URI:http://jasznaplo.hu/nemzetkozi-korustalalkozo
SUMMARY:Nemzetközi Kórustalálkozó
DESCRIPTION:<p>Helyszín\: Déryné Rendezvényház díszterme<br />
 A Székely Mihály Kórus Közművelődési Alapítvány NEMZETKÖZI KÓRUSTALÁLKOZÓT szervez\, melynek műsorában fellépnek\:<br />
 Jászsági ÁFÉSZ Székely Mihály Kórusa<br />
 Vezényel\: Cs. Nagyné Turi Márta<br />
 Chorale La Malepére Kórus (Franciaország)<br />
 Vezényel\: Risello Rémi<br />
 Societas Cantica Kórus (Szlovákia)<br />
 Vezényel\: Štefan Eperješi<br />
 A belépés díjtalan.</p>
 
END:VEVENT
BEGIN:VEVENT
DTSTAMP;VALUE=DATE-TIME:20260425T123231Z
DTSTART;VALUE=DATE-TIME:20120707T183000Z
DTEND;VALUE=DATE-TIME:20120707T183000Z
UID:http://jasznaplo.hu/marc-camoletti-leszallas-parizsban-cimu-3-felvonasos-vigjatek
URL;VALUE=URI:http://jasznaplo.hu/marc-camoletti-leszallas-parizsban-cimu-3-felvonasos-vigjatek
SUMMARY:Marc Camoletti\: Leszállás Párizsban című 3 felvonásos vígjáték
DESCRIPTION:<p>Nyári színház<br />
 Marc Camoletti\: Leszállás Párizsban című 3 felvonásos vígjáték a Nagykáta Színjátszó Egyesület előadásában.<br />
 Rendező\: Oldal Attila<br />
 Helyszín\: Szabadtéri Színpad<br />
 Kezdés\: 20.30 óra<br />
 Belépő\: felnőtt 1190 Ft diák\, nyugdíjas 890 Ft elővétel 800 Ft</p>
 
END:VEVENT
BEGIN:VEVENT
DTSTAMP;VALUE=DATE-TIME:20260425T123231Z
DTSTART;VALUE=DATE-TIME:20120712T150000Z
DTEND;VALUE=DATE-TIME:20120712T150000Z
UID:http://jasznaplo.hu/makovecz-imre-epitett-vilaga-kereszteny-vandorkiallitas
URL;VALUE=URI:http://jasznaplo.hu/makovecz-imre-epitett-vilaga-kereszteny-vandorkiallitas
SUMMARY:Makovecz Imre épített világa - Keresztény Vándorkiállítás
DESCRIPTION:<p>Helyszín\: Városi Könyvtár Jászberény (kamaraterem) 5100 Jászberény\, Bercsényi u. 1.</p>
 <p>A JÁSZKERÜLET Nonprofit Kft. szeretettel várja az érdeklődőket<br />
 Makovecz Imre<br />
 Kossuth- és Ybl-díjas építész munkáiból rendezett fotókiállítás megnyitójára<br />
 Az építészt és munkáit több szempontból bemutatja\:<br />
 Szántó József címzetes apát<br />
 Alvári Csaba\, Jászberény város főépítésze<br />
 Turi Attila építész\, Makovecz Imre tanítványa<br />
 A megnyitón elhangzik Bach-Gounod\: Ave Maria<br />
 fuvolán előadja Rigóné Csirke Tímea\, zongorán kísér Kiss Henriett<br />
 A kiállítás megtekinthető július 27-ig a könyvtár nyitvatartási idejében<br />
 H\, K\, Cs\, P\: 9-18  | Szo\: 9-13</p>
 
END:VEVENT
BEGIN:VEVENT
DTSTAMP;VALUE=DATE-TIME:20260425T123231Z
DTSTART;VALUE=DATE-TIME:20120713T160000Z
DTEND;VALUE=DATE-TIME:20120713T160000Z
UID:http://jasznaplo.hu/szolnoki-muvesztelep-kiallitas-megnyito
URL;VALUE=URI:http://jasznaplo.hu/szolnoki-muvesztelep-kiallitas-megnyito
SUMMARY:Szolnoki Művésztelep kiállítás megnyitó
DESCRIPTION:<p>Tíz év - A 110 éves Szolnoki Művésztelep legújabb korszaka<br />
 Helyszín\: Városi Bíróság\, Jászberény Lehel vezér tér 15.<br />
 Megnyitó\: 18.00 óra<br />
 A kiállítás megtekinthető 2012.július 13- 24.</p>
 <p>Kiállítók\: Ágotha Margit\, Balogh Zsófia\, Barát Fábián\, Berényi Ferenc\, Borbás Márton\, Dömény Boriska\, Fazekas Magdolna\, Gránicz Tamás\, Hangay Szabó László\, Heinrich Schorno\, Katona Zoltán\, Király György\, Kiss Zoltán László\, Kovács Jenő\, László Dániel\, Meggyes László\, Meggyes László Vendel\, Palkó Tibor\, Pogány Gábor Benő\, Rékassy Eszter\, Révi Norbert\, Simon Ferenc\, Soós György\, Szabó György\, Szalai Kata\, Varga Patrícia Minerva\, Verebes György\, Zsemlye Ildikó</p>
 
END:VEVENT
BEGIN:VEVENT
DTSTAMP;VALUE=DATE-TIME:20260425T123231Z
DTSTART;VALUE=DATE-TIME:20120713T180000Z
DTEND;VALUE=DATE-TIME:20120713T180000Z
UID:http://jasznaplo.hu/szolnoki-szimfonikus-zenekar-koncertje
URL;VALUE=URI:http://jasznaplo.hu/szolnoki-szimfonikus-zenekar-koncertje
SUMMARY:Szolnoki Szimfonikus Zenekar koncertje
DESCRIPTION:<p>„Válogatás európai szerzők népszerű műveiből” –<br />
 Rossini\, Mendelssohn\, Dvorák\, Suppé\, Liszt Ferenc\, Smetana<br />
 Vezényel\: Gál Tamás<br />
 Helyszín\: Szabadtéri Színpad<br />
 Kezdés\: 20.00 óra<br />
 Belépő\: felnőtt 1590 Ft diák\, nyugdíjas 1290 Ft elővétel 1190 Ft</p>
 
END:VEVENT
BEGIN:VEVENT
DTSTAMP;VALUE=DATE-TIME:20260425T123231Z
DTSTART;VALUE=DATE-TIME:20120714T050000Z
DTEND;VALUE=DATE-TIME:20120714T050000Z
UID:http://jasznaplo.hu/viii-harmas-keruleti-kezi-aratoverseny-es-xi-nepi-etelek-fozoversenye
URL;VALUE=URI:http://jasznaplo.hu/viii-harmas-keruleti-kezi-aratoverseny-es-xi-nepi-etelek-fozoversenye
SUMMARY:VIII. Hármas-kerületi kézi aratóverseny és XI. Népi Ételek Főzőversenye
DESCRIPTION:<p>Városunk ad otthont ez évben a jász kerület képviseletében az aratás hagyományait felelevenítő versenynek és az ehhez szorosan kapcsolódó több éves tradícióra visszatekintő arató és népi ételek seregszemléjének számos kulturális program kíséretében.<br />
 Helyszín\: Jászboldogházi út\, Margit-sziget<br />
 Belépő\: ingyenes</p>
 <p>PROGRAM<br />
 7.00 Térzene – vendégváró muzsika  Közreműködik\: Abonyi Fúvószenekar<br />
 7.30 - 9.00 Érkezés-regisztráció<br />
 8.30 Ünnepélyes megnyitó<br />
 Az aratókat köszönti Dr. Szabó Tamás\, Jászberény Város Polgármestere és<br />
 Tamás Zoltán a Jászberényi Gazdakör elnöke - emeritus jászkapitány<br />
 9.00 Főzőverseny kezdete a Margit-szigeten<br />
 9.00 Arató csapatok díszes kivonulása az aratás helyszínére hintókkal<br />
 Az érdeklődőket ingyenes buszjárat szállítja oda-vissza a Margit- sziget és a Boldogházi út (Alsómuszály) között.<br />
 9.50 A búzatáblánál az aratókat és gabonát megáldja Szántó József címzetes apát.<br />
 10.00 Aratóverseny kezdete</p>
 
END:VEVENT
BEGIN:VEVENT
DTSTAMP;VALUE=DATE-TIME:20260425T123231Z
DTSTART;VALUE=DATE-TIME:20120714T180000Z
DTEND;VALUE=DATE-TIME:20120714T180000Z
UID:http://jasznaplo.hu/nota-show
URL;VALUE=URI:http://jasznaplo.hu/nota-show
SUMMARY:Nóta show
DESCRIPTION:<p>Nótaest a Szabadtéri Színpadon<br />
 Az est címe\: \,\,Nóta Show\\"<br />
 Helyszín\: Szabadtéri Színpad<br />
 Kezdés\: 20.00 óra<br />
 Belépő\: felnőtt 1190 Ft diák\, nyugdíjas 890 Ft elővétel 800 Ft<br />
 Zenekar\: Ifj. Mága Ernő és zenekara (5 tagú cigányzenekar)<br />
 Nótaénekesek\: Bokor János\, Farkas Rozika\, Sülyi Károly\,  Csík József\, Dancza Krisztina\, Kökény Róbert<br />
 Műsorvezető\: Torda Ferenc</p>
 
END:VEVENT
END:VCALENDAR
