BEGIN:VCALENDAR
VERSION:2.0
METHOD:PUBLISH
X-WR-CALNAME:Jász Napló |  május 30 2012- június 29 2012
PRODID:-//strange bird labs//Drupal iCal API//EN
BEGIN:VEVENT
DTSTAMP;VALUE=DATE-TIME:20260425T040412Z
DTSTART;VALUE=DATE-TIME:20120530T150000Z
DTEND;VALUE=DATE-TIME:20120530T150000Z
UID:http://jasznaplo.hu/magyar-tanc-igazsaga
URL;VALUE=URI:http://jasznaplo.hu/magyar-tanc-igazsaga
SUMMARY:A magyar tánc igazsága
DESCRIPTION:<p>Jász Múzeum</p>
 <p>            A magyar tánc igazsága</p>
 <p>            Hol lakozik a magyar igazság? Miért három? Mi köze a sánta kutyához és merre van elásva?</p>
 <p>            Várszegi Tibor előadása</p>
 <p>Hazatalálás – Ismerjük fel valódi tanítóinkat! – A hetedik te magad légy!</p>
 
END:VEVENT
BEGIN:VEVENT
DTSTAMP;VALUE=DATE-TIME:20260425T040412Z
DTSTART;VALUE=DATE-TIME:20120531T150000Z
DTEND;VALUE=DATE-TIME:20120531T150000Z
UID:http://jasznaplo.hu/muzeumi-estek-hajta-mente-termeszeti-ertekei
URL;VALUE=URI:http://jasznaplo.hu/muzeumi-estek-hajta-mente-termeszeti-ertekei
SUMMARY:Múzeumi esték - A Hajta mente természeti értékei
DESCRIPTION:Vidra Tamás előadása
 Helyszín\: Jász Múzeum
END:VEVENT
BEGIN:VEVENT
DTSTAMP;VALUE=DATE-TIME:20260425T040412Z
DTSTART;VALUE=DATE-TIME:20120601T170000Z
DTEND;VALUE=DATE-TIME:20120601T170000Z
UID:http://jasznaplo.hu/magyarok-menni-bamako-vetitessel-egybekotott-badar-sandor-stand-comedy-est
URL;VALUE=URI:http://jasznaplo.hu/magyarok-menni-bamako-vetitessel-egybekotott-badar-sandor-stand-comedy-est
SUMMARY:Magyarok menni Bamako - Vetítéssel egybekötött Badár Sándor Stand up Comedy est
DESCRIPTION:<p>Magyarok menni Bamako<br />
 Vetítéssel egybekötött Badár Sándor Stand up Comedy est</p>
 <p>Badár Sándor és Kőváry Barna elindult a Bamako Rallyn\,<br />
 ebből született egy film és a ma este stand up comedy előadása.<br />
 Jöjjön el és legyen részese a jászberényi születésű humorista\,<br />
 Badár Sándor előadásának.</p>
 <p>Időpont\: Június 01. Péntek 19\:00 óra<br />
 Helyszín\: Lehel Film-Színház\, Jászberény\, Fürdő út 3.<br />
 Jegyek elővételben 1700 Ft\, helyszínen 1900 Ft<br />
 Jegyelővétel\: Lehel Film - Színházban\, telefon\: 411-607\,<br />
 hétköznap\: 12.00 – 20.00 óráig\, hétvégén\: 16.00-20.00-ig.</p>
 <p><a href=\\"https\://www.facebook.com/events/384093831632834/\\" title=\\"https\://www.facebook.com/events/384093831632834/\\" rel=\\"nofollow\\">https\://www.facebook.com/events/384093831632834/</a></p>
 
END:VEVENT
BEGIN:VEVENT
DTSTAMP;VALUE=DATE-TIME:20260425T040412Z
DTSTART;VALUE=DATE-TIME:20120603T070000Z
DTEND;VALUE=DATE-TIME:20120603T070000Z
UID:http://jasznaplo.hu/varosi-gyermeknap
URL;VALUE=URI:http://jasznaplo.hu/varosi-gyermeknap
SUMMARY:Városi Gyermeknap
DESCRIPTION:<p>Jászberény<br />
 2012.június 3. vasárnap</p>
 <p>Programok a Szabadtéri Színpadon\:<br />
 9.00-9.30 Lujzi és Majzi bohócok vendégváró műsora<br />
 9.45-10.45 Alma Együttes koncertje - az Electrolux Lehel Kft. és az Electrolux Lehel Kft. Vasas Szakszervezeti Szövetség támogatásával<br />
 10.45-11.00 Jász Trió TV Gyermekszépségverseny eredményhirdetése<br />
 11.00-11.30 Mesemondó lány – Magyar népmesék csokra<br />
 11.30-12.30 Az Ezeregyéjszaka meséi mesejáték<br />
 12.30-13.00 Lujzi és Majzi bohócok búcsúzó műsora</p>
 <p>Programok a Kapitány kertben\:<br />
 9.00-13.00 Népi játszótér\, breki játék\, élményjáték\, ügyességi és kreatív játékok\, kézműves foglakozások természetes anyagból\, arcfestés\, lufihajtogató bohóc\, Kalandozói 3+1 próba – Harc a Kő Gólem ellen</p>
 <p>Programok a Margit-szigeten\:<br />
 Már szombaton 14.00 órától indul a vidámpark és kirakodóvásár.</p>
 <p>Belépés díjtalan!</p>
 <p>Szeretettel várjuk programjainkra!</p>
 <p><a href=\\"http\://www.facebook.com/jaszberenyiprogramok\\" title=\\"www.facebook.com/jaszberenyiprogramok\\" rel=\\"nofollow\\">www.facebook.com/jaszberenyiprogramok</a></p>
 
END:VEVENT
BEGIN:VEVENT
DTSTAMP;VALUE=DATE-TIME:20260425T040412Z
DTSTART;VALUE=DATE-TIME:20120604T160000Z
DTEND;VALUE=DATE-TIME:20120604T160000Z
UID:http://jasznaplo.hu/nemzeti-osszetartozas-napja
URL;VALUE=URI:http://jasznaplo.hu/nemzeti-osszetartozas-napja
SUMMARY:Nemzeti Összetartozás Napja
DESCRIPTION:<p>Jászberény Város Önkormányzata</p>
 <p>Tisztelettel meghívja</p>
 <p>A kárpát-medence kulturális értékeit és örökségét bemutató gálaműsorára</p>
 <p>A Nemzeti Összetartozás Napja alkalmából</p>
 <p>Helyszín\: LEHEL Film - Színház</p>
 <p>Időpont\: 2012. Június 4. 18.00 óra</p>
 <p>Közreműködnek\: Palotásy János Vegyeskar\, VIGANÓ AMI csoportjai\,</p>
 <p>Palotásy János Zeneiskola növendékei és a város oktatási intézményeinek tanulói</p>
 <p>Rendező\: Jászkerület Nonprofit Kft.</p>
 
END:VEVENT
BEGIN:VEVENT
DTSTAMP;VALUE=DATE-TIME:20260425T040412Z
DTSTART;VALUE=DATE-TIME:20120607T080000Z
DTEND;VALUE=DATE-TIME:20120607T080000Z
UID:http://jasznaplo.hu/konyves-csutortok-2012
URL;VALUE=URI:http://jasznaplo.hu/konyves-csutortok-2012
SUMMARY:Könyves csütörtök 2012
DESCRIPTION:<p>2012. június 7.<br />
 Mondjon velünk csütörtököt \:)</p>
 <p>A 83. Ünnepi Könyvhét alkalmából Jászberény város kulturális intézményei kirakodóvásárt szerveznek 2012. június 7-én 10-20 óráig a COOP Áruház átriumában</p>
 <p>Képes anyagok\, plakátok\:<br />
 <a href=\\"http\://www.facebook.com/media/set/?set=a.373867112673600.92177.281107358616243&amp\;type=1\\" title=\\"http\://www.facebook.com/media/set/?set=a.373867112673600.92177.281107358616243&amp\;type=1\\" rel=\\"nofollow\\">http\://www.facebook.com/media/set/?set=a.373867112673600.92177.281107358...</a></p>
 <p>Program\:<br />
 10.00 Dr. Szabó Tamás polgármester köszöntője<br />
 10.15 Rendhagyó irodalom óra Kassovitz Lászlóval a Pamacs könyvek szerzőjével - foglalkozás alsó tagozatos gyerekekkel<br />
 13.00 A Titkok Könyvtára - játékos akadályverseny felső tagozatos diákoknak a pavilonoknál 2 fős csapatoknak.</p>
 <p>Író-olvasó találkozók<br />
 15.00 Csepeli György\; Murányi István\; Prazsák Gergő Új tekintélyelvűség a mai Magyarországon című művüket mutatják be<br />
 Moderátor\: dr. Szarvák Tibor\, egyetemi docens\, tanszékvezető (SZIE ABK)<br />
 16.00 Kiss Erika\: A Szekuritás ötven éve 1962-2012<br />
 17.00 L. Murányi László\, Gelei József Süllyedő világ\, kíméletlen riportkönyv a végekről könyvüket mutatják be</p>
 
END:VEVENT
BEGIN:VEVENT
DTSTAMP;VALUE=DATE-TIME:20260425T040412Z
DTSTART;VALUE=DATE-TIME:20120607T150000Z
DTEND;VALUE=DATE-TIME:20120607T150000Z
UID:http://jasznaplo.hu/szinek-utak-velkeine-pocz-ilona-kiallitasa-2012
URL;VALUE=URI:http://jasznaplo.hu/szinek-utak-velkeine-pocz-ilona-kiallitasa-2012
SUMMARY:Színek - Utak - Velkeiné Pócz Ilona kiállítása 2012
DESCRIPTION:<p>Helyszín\: Jász Múzeum<br />
 A kiállítást a közönség figyelmébe ajánlja\:<br />
 Réti Tamás\, a Lehel Vezér Gimnázium tanulója<br />
 Közreműködnek\:<br />
 Pócz Ildikó főiskolai hallgató és a Lehel Vezér Gimnázium Férfikara<br />
 Vezényel\: Deméné Ilonka Gabriella</p>
 
END:VEVENT
BEGIN:VEVENT
DTSTAMP;VALUE=DATE-TIME:20260425T040412Z
DTSTART;VALUE=DATE-TIME:20120609T180000Z
DTEND;VALUE=DATE-TIME:20120609T180000Z
UID:http://jasznaplo.hu/edda-koncert-jaszberenyben
URL;VALUE=URI:http://jasznaplo.hu/edda-koncert-jaszberenyben
SUMMARY:Edda koncert Jászberényben
DESCRIPTION:<p>Szabadtéri Színpad<br />
 Belépődíj\: elővételben 2.500.- a rendezvény napján 2.800.-<br />
 A belépőjegyek megvásárolhatók\:<br />
 Óra-Ékszer-Ajándék üzlet<br />
 Jászberény\, Lehel vezér tér 16.</p>
 
END:VEVENT
BEGIN:VEVENT
DTSTAMP;VALUE=DATE-TIME:20260425T040412Z
DTSTART;VALUE=DATE-TIME:20120615T140000Z
DTEND;VALUE=DATE-TIME:20120615T140000Z
UID:http://jasznaplo.hu/eloadas-nagy-imrerol
URL;VALUE=URI:http://jasznaplo.hu/eloadas-nagy-imrerol
SUMMARY:Előadás Nagy Imréről
DESCRIPTION:Városi Könyvtár kamaraterme
 Nagy Imre „új szakasz politikájának” (1953-1955) értékelése az új kutatások tükrében
 Előadó\: Dr. Sipos József\, a Szegedi Tudományegyetem docense
 Az előadás Nagy Imre Társaság helyi szervezete és a Városi Könyvtár közös szervezésében valósul meg.
END:VEVENT
BEGIN:VEVENT
DTSTAMP;VALUE=DATE-TIME:20260425T040412Z
DTSTART;VALUE=DATE-TIME:20120615T150000Z
DTEND;VALUE=DATE-TIME:20120615T150000Z
UID:http://jasznaplo.hu/muzeumok-ejszakaja-hamzaban
URL;VALUE=URI:http://jasznaplo.hu/muzeumok-ejszakaja-hamzaban
SUMMARY:Múzeumok Éjszakája a Hamzában
DESCRIPTION:<p>2012. június 15.\, péntek</p>
 <p>A Hamza Gyűjtemény és Jász Galéria idén is csatlakozik a Múzeumok Éjszakája című országos rendezvénysorozathoz. Programjaink helyszíne ezúttal a múzeum Gyöngyösi úti épülete és udvara\, valamint a szomszédos Verseny utca.<br />
 2012. június 15-én\, pénteken a látogatókat délutántól éjfélig fogadjuk.</p>
 <p>Programterv</p>
 <p>17 órától\: Kézműves-foglalkozások kicsiknek és nagyoknak<br />
 •	A Hamza Studio szabadtéri képzőművészeti akciója\, amelynek témája Hamza D. Ákos egyik zenei ihletésű művének átértelmezése. A 12 részből álló\, 1\,5x2 méteres mű darabonként készül majd el\, ennek menetét követve fog kialakulni a színpad háttérképe is. Az egyes részletek kivitelezésére bárki vállalkozhat. A kész festményt az alkotók a Palotásy János Zeneiskola javára ajánlják fel.<br />
 •	OptiKaland – elsősorban gyermekeknek</p>
 <p>17.30-18.00\: Tárlatvezetés a múzeum állandó kiállításaiban<br />
 •	Különös találkozás – Hamza D. Ákos filmrendezői munkássága</p>
 
END:VEVENT
BEGIN:VEVENT
DTSTAMP;VALUE=DATE-TIME:20260425T040412Z
DTSTART;VALUE=DATE-TIME:20120616T160000Z
DTEND;VALUE=DATE-TIME:20120616T160000Z
UID:http://jasznaplo.hu/toltson-egy-ejszakat-jasz-muzeumban-0
URL;VALUE=URI:http://jasznaplo.hu/toltson-egy-ejszakat-jasz-muzeumban-0
SUMMARY:Töltsön egy éjszakát a Jász Múzeumban!
DESCRIPTION:<p>2012. június 16-án (szombaton) 18.00 -24 óráig</p>
 <p>Helyszín\: Jászberény\,<br />
                 a Jász Múzeum és a Városháza közös udvarán felállított nagyszínpad</p>
 <p>Boszorkányok pedig vannak…</p>
 <p>18.00 –18.05  – Hortiné dr. Bathó Edit múzeumigazgató köszöntője<br />
 18.10 –19.00  – Vasorrú bába  című mesejáték a Regélő Színjátszó Kör előadásában<br />
 19.15 – 20.15 – Beteszi Gyuri és pajtásai címmel Berecz András mesemondó műsora<br />
 20.25– 20.45 – Varga Antal füttyművész műsora<br />
 21.00 – 21.50 – Benedek Elek\: Macskacicó című mesejátéka a Kelepelő Bábcsoport<br />
                           előadásában<br />
 22.00 – 22.30 –  Igézet ne fogja… A Jászsági Hagyományőrző Egylet műsora<br />
 22.40 – 23.10 – Fordulj egyet előttem…. A Viganó AMI táncosainak műsora<br />
 23.15 – 23.45 –  Karnevál a boszorkányok éjszakáján\, a Jászapáti Fúvós Zenekar műsora<br />
 A Jászkerület Nonprofit Kft. szervezésében\:<br />
 24.00 -  01.00 – Tűzugrás és tűztánc a Margit-szigeten</p>
 
END:VEVENT
BEGIN:VEVENT
DTSTAMP;VALUE=DATE-TIME:20260425T040412Z
DTSTART;VALUE=DATE-TIME:20120616T210000Z
DTEND;VALUE=DATE-TIME:20120616T210000Z
UID:http://jasznaplo.hu/tuzugras-muzeumok-ejszakajan-2012
URL;VALUE=URI:http://jasznaplo.hu/tuzugras-muzeumok-ejszakajan-2012
SUMMARY:Tűzugrás a Múzeumok éjszakáján 2012
DESCRIPTION:<p>TÜZES SZIGET</p>
 <p>Tűzugrás\, tűztánc és szerelemvarázslás<br />
 a Margit-szigeten\, Jászberényben<br />
 2012. június 16. szombat</p>
 <p>23.00 órától<br />
 • zenés gyülekező<br />
 • készítsd el saját kívánságmécsesed és indíts útjára a Zagyván</p>
 <p>24.00 órától<br />
 • LÁNGVIRÁG TŰZSZÍNHÁZ bemutatója<br />
 • A Viganó Alapfokú Művészetoktatási Intézmény csoportjainak tűztánca – TŰZUGRÁS<br />
 Közreműködik a Zagyva Banda</p>
 <p>Tűzmester\: Kalla Pál</p>
 <p>Belépés díjtalan!</p>
 
END:VEVENT
BEGIN:VEVENT
DTSTAMP;VALUE=DATE-TIME:20260425T040412Z
DTSTART;VALUE=DATE-TIME:20120622T150000Z
DTEND;VALUE=DATE-TIME:20120622T150000Z
UID:http://jasznaplo.hu/spiritualis-utakon-sorozat-3-eloadasa
URL;VALUE=URI:http://jasznaplo.hu/spiritualis-utakon-sorozat-3-eloadasa
SUMMARY:Spirituális utakon sorozat 3. előadása
DESCRIPTION:<p>Ifjúsági Ház</p>
 <p>Túl az egón (Spirituális életmód - Tudatos sorsalakítás)<br />
 GUNAGRIHA (Dr. Fülöp Sándor) író\, Sri Chinmoy spirituális mester tanítványa\, Sri Chinmoy Központ magyarországi vezetője<br />
 500\,- Ft elővételben a könyvtárban<br />
 600\,- Ft a helyszínen</p>
 <p>„Mi is az az erő vagy képesség\, mely segítségével egy ember mindent kibír\, illetve elbír\, mindegy\, hogy milyen pszichikai megterhelésnek teszik ki? Hát nem egy belső erő\, amely minket belülről tesz erőssé?”(Gunagriha)<br />
 - Hogyan erősíthetjük belső erőnket?<br />
 - Tudatos sorsalakítás<br />
 - Benned a képesség\, hogy sorsodat átformáld! (héthetes gyakorlatsorral)</p>
 
END:VEVENT
BEGIN:VEVENT
DTSTAMP;VALUE=DATE-TIME:20260425T040412Z
DTSTART;VALUE=DATE-TIME:20120627T182900Z
DTEND;VALUE=DATE-TIME:20120627T182900Z
UID:http://jasznaplo.hu/rock-csutortok
URL;VALUE=URI:http://jasznaplo.hu/rock-csutortok
SUMMARY:Rock csütörtök
DESCRIPTION:<p>2012. július 19. csütörtök<br />
 Rock csütörtök<br />
 20\:00 – 21\:30 Hendrix Reload Zenekar<br />
 22\:00 – 23\:30 Dynamo Zenekar<br />
 Helyszín\: Margit-sziget<br />
 Belépő\: ingyenes</p>
 
END:VEVENT
END:VCALENDAR
