BEGIN:VCALENDAR
VERSION:2.0
METHOD:PUBLISH
X-WR-CALNAME:Jász Napló |  december 10 2011- január 09 2012
PRODID:-//strange bird labs//Drupal iCal API//EN
BEGIN:VEVENT
DTSTAMP;VALUE=DATE-TIME:20260424T145057Z
DTSTART;VALUE=DATE-TIME:20111117T060000Z
DTEND;VALUE=DATE-TIME:20111220T150000Z
UID:http://jasznaplo.hu/termeszet-vilaga-fotokiallitas
URL;VALUE=URI:http://jasznaplo.hu/termeszet-vilaga-fotokiallitas
SUMMARY:Természet világa - fotókiállítás
DESCRIPTION:a Lehel Vezér Gimnázium emeleti galériájában
 a Digitálisan Fotózók Klubjának fotói.
END:VEVENT
BEGIN:VEVENT
DTSTAMP;VALUE=DATE-TIME:20260424T145057Z
DTSTART;VALUE=DATE-TIME:20111210T170000Z
DTEND;VALUE=DATE-TIME:20111210T170000Z
UID:http://jasznaplo.hu/fenyo-nelkul-nincs-karacsony
URL;VALUE=URI:http://jasznaplo.hu/fenyo-nelkul-nincs-karacsony
SUMMARY:Fenyő nélkül nincs karácsony
DESCRIPTION:Ifjúsági Ház
 Jászberény\, Bercsényi u. 1/A
 Telefon\: 57/411-823
 Rendező\: Lendület Rt
 Információ\: 20/3333179
END:VEVENT
BEGIN:VEVENT
DTSTAMP;VALUE=DATE-TIME:20260424T145057Z
DTSTART;VALUE=DATE-TIME:20111211T140000Z
DTEND;VALUE=DATE-TIME:20111211T140000Z
UID:http://jasznaplo.hu/jaszsagi-afesz-szekely-mihaly-korus-unnepi-hangversenye
URL;VALUE=URI:http://jasznaplo.hu/jaszsagi-afesz-szekely-mihaly-korus-unnepi-hangversenye
SUMMARY:Jászsági ÁFÉSZ Székely Mihály Kórus ünnepi hangversenye
DESCRIPTION:<p>Helyszín\: Szentkúti Templom</p>
 <p>KÖZREMŰKÖDIK<br />
 a Palotásy János Zeneiskola Vonósegyüttese<br />
 Betanította\: Tímárné Molnár Mária<br />
 Zongorán kísér\: Farkasné Szőke Tünde<br />
 Szólót énekel\: Turi Melinda</p>
 <p>Vezényel\: Cs. Nagyné Turi Márta</p>
 <p>A belépés díjtalan.</p>
 
END:VEVENT
BEGIN:VEVENT
DTSTAMP;VALUE=DATE-TIME:20260424T145057Z
DTSTART;VALUE=DATE-TIME:20111212T150000Z
DTEND;VALUE=DATE-TIME:20111212T150000Z
UID:http://jasznaplo.hu/karacsonyi-tancbemutato
URL;VALUE=URI:http://jasznaplo.hu/karacsonyi-tancbemutato
SUMMARY:Karácsonyi táncbemutató
DESCRIPTION:Ifjúsági Ház
 Jászberény\, Bercsényi u. 1/A
 Telefon\: 57/411-823
 Rendező\: Valentine Tánciskola
END:VEVENT
BEGIN:VEVENT
DTSTAMP;VALUE=DATE-TIME:20260424T145057Z
DTSTART;VALUE=DATE-TIME:20111217T070000Z
DTEND;VALUE=DATE-TIME:20111217T070000Z
UID:http://jasznaplo.hu/gyermekkaracsony
URL;VALUE=URI:http://jasznaplo.hu/gyermekkaracsony
SUMMARY:GYERMEKKARÁCSONY
DESCRIPTION:<p>a Déryné Művelődési Központ dísztermében (Jászberény\, Lehel vezér tér 33.)<br />
 ÜNNEPI  JÁTSZÓHÁZ<br />
 Programok\:<br />
 9.00-13 óráig 	Karácsonyi készülődés<br />
 				ajándékötletek\, angyalkák\, ablakdíszek\, karácsonyfadíszek természetes anyagokból\,<br />
 				gyertyamártás</p>
 <p>9.00-11 óráig	Mesekuckó - mesefilmek diavetítése</p>
 <p>11.00 órakor 	Jászsági betlehemes<br />
 				Jászsági Hagyományőrző Egylet műsora</p>
 <p>A belépés díjtalan.</p>
 
END:VEVENT
BEGIN:VEVENT
DTSTAMP;VALUE=DATE-TIME:20260424T145057Z
DTSTART;VALUE=DATE-TIME:20111218T090000Z
DTEND;VALUE=DATE-TIME:20111218T090000Z
UID:http://jasznaplo.hu/csajkovszkij-diotoro-babjatek-4-eves-kortol-0
URL;VALUE=URI:http://jasznaplo.hu/csajkovszkij-diotoro-babjatek-4-eves-kortol-0
SUMMARY:Csajkovszkij\: Diótörő - bábjáték 4 éves kortól
DESCRIPTION:<p>a Malom Film Színházban (Jászberény\, Fürdő u. 3.)<br />
 Bóbita Bábszínház<br />
 Felnőtt jegy\: 1.000.- Ft<br />
 Gyermek jegy\: 500.- Ft</p>
 
END:VEVENT
BEGIN:VEVENT
DTSTAMP;VALUE=DATE-TIME:20260424T145057Z
DTSTART;VALUE=DATE-TIME:20111218T130000Z
DTEND;VALUE=DATE-TIME:20111218T130000Z
UID:http://jasznaplo.hu/csajkovszkij-diotoro-babjatek-4-eves-kortol
URL;VALUE=URI:http://jasznaplo.hu/csajkovszkij-diotoro-babjatek-4-eves-kortol
SUMMARY:Csajkovszkij\: Diótörő - bábjáték 4 éves kortól
DESCRIPTION:<p>a Malom Film Színházban (Jászberény\, Fürdő u. 3.)<br />
 Bóbita Bábszínház<br />
 Felnőtt jegy\: 1.000.- Ft<br />
 Gyermek jegy\: 500.- Ft</p>
 
END:VEVENT
BEGIN:VEVENT
DTSTAMP;VALUE=DATE-TIME:20260424T145057Z
DTSTART;VALUE=DATE-TIME:20111218T160000Z
DTEND;VALUE=DATE-TIME:20111218T160000Z
UID:http://jasznaplo.hu/deryne-vegyeskar-adventi-hangversenye
URL;VALUE=URI:http://jasznaplo.hu/deryne-vegyeskar-adventi-hangversenye
SUMMARY:Déryné Vegyeskar adventi hangversenye
DESCRIPTION:<p>A Déryné Vegyeskar tisztelettel meghívja Önt és kedves családját<br />
 2011.  december 18-án (vasárnap) 18.00 órára<br />
 a Ferences Templomba</p>
 <p>ADVENTI HANGVERSENYÉRE<br />
 Szólót énekel\: Banka Sándorné<br />
 Zongorán közreműködik\: Gál Andrea<br />
 Vezényel\: Ferencz Sándor<br />
 Vendégként fellép a jászárokszállási Óvónők Kamarakórusa<br />
 Karnagy\: Csikós Sándorné</p>
 <p>A belépés díjtalan.</p>
 
END:VEVENT
BEGIN:VEVENT
DTSTAMP;VALUE=DATE-TIME:20260424T145057Z
DTSTART;VALUE=DATE-TIME:20111221T160000Z
DTEND;VALUE=DATE-TIME:20111221T160000Z
UID:http://jasznaplo.hu/deryne-emleknap
URL;VALUE=URI:http://jasznaplo.hu/deryne-emleknap
SUMMARY:Déryné emléknap
DESCRIPTION:<p>Malom Film - Színház (Jászberény\, Fürdő u. 3.)<br />
 Szeretet\, Szépség\, Szív\, Szolgálat...<br />
 Pitti Katalin Liszt-díjas Érdemes Művész</p>
 
END:VEVENT
BEGIN:VEVENT
DTSTAMP;VALUE=DATE-TIME:20260424T145057Z
DTSTART;VALUE=DATE-TIME:20120108T150000Z
DTEND;VALUE=DATE-TIME:20120108T150000Z
UID:http://jasznaplo.hu/ujevi-koncert-2012
URL;VALUE=URI:http://jasznaplo.hu/ujevi-koncert-2012
SUMMARY:Újévi koncert 2012
DESCRIPTION:<p>2012. január 8-án (vasárnap) 17.00 órakor<br />
 a Déryné Művelődési Központ dísztermében<br />
 Fellépnek\:<br />
 -150 éves Palotásy János Vegyeskar<br />
 Zongorán közreműködik\: Farkasné Szőke Tünde<br />
 Vezényel\:<br />
 Bedőné Bakki Katalin<br />
 Thormanné Husznay Mária<br />
 - Palotásy János Zeneiskola AMI tanárai\, növendékei</p>
 <p>Köszöntőt mond\:<br />
 Dr. Szabó Tamás polgármester<br />
 A belépés díjtalan.</p>
 
END:VEVENT
END:VCALENDAR
