BEGIN:VCALENDAR
VERSION:2.0
METHOD:PUBLISH
X-WR-CALNAME:Jász Napló |  október 24 2011- október 31 2011
PRODID:-//strange bird labs//Drupal iCal API//EN
BEGIN:VEVENT
DTSTAMP;VALUE=DATE-TIME:20260418T235747Z
DTSTART;VALUE=DATE-TIME:20111028T070000Z
DTEND;VALUE=DATE-TIME:20111028T070000Z
UID:http://jasznaplo.hu/varosi-egeszsegnap-jaszbereny
URL;VALUE=URI:http://jasznaplo.hu/varosi-egeszsegnap-jaszbereny
SUMMARY:Városi egészségnap - Jászberény
DESCRIPTION:<p>Jászberény Város Önkormányzatának Humán Erőforrás Bizottsága szeretettel hív minden kedves érdeklődőt az<br />
 október 28-án 9.00 órakor kezdődő városi egészségnapra.<br />
 A rendezvény helyszíne\:<br />
 Bercsényi úti sportcsarnok\,  Ifjúsági Ház\, városi könyvtár.<br />
 Tervezett programok\:<br />
 különböző szűrések\, életmód- és táplálkozási tanácsadások\, orvosi tanácsadások\, egyéni problémák kezelése\, kiállítások\, kóstolók\, diétás tanácsadások\, sportprogramok\, játékos ügyességi versenyek\, vetélkedők\, totók\, kérdőívek kitöltése.</p>
 
END:VEVENT
BEGIN:VEVENT
DTSTAMP;VALUE=DATE-TIME:20260418T235747Z
DTSTART;VALUE=DATE-TIME:20111028T160000Z
DTEND;VALUE=DATE-TIME:20111028T160000Z
UID:http://jasznaplo.hu/meddig-vagyok-esztergalyos-cecilia
URL;VALUE=URI:http://jasznaplo.hu/meddig-vagyok-esztergalyos-cecilia
SUMMARY:M/Eddig vagyok?! - Esztergályos Cecília
DESCRIPTION:Zenés beszélgetés 
 Malom Film Színház
 Jászberény\, Fürdő u. 3.
END:VEVENT
BEGIN:VEVENT
DTSTAMP;VALUE=DATE-TIME:20260418T235747Z
DTSTART;VALUE=DATE-TIME:20111029T140000Z
DTEND;VALUE=DATE-TIME:20111029T140000Z
UID:http://jasznaplo.hu/vidam-magyarnota-est
URL;VALUE=URI:http://jasznaplo.hu/vidam-magyarnota-est
SUMMARY:Vidám magyarnóta est
DESCRIPTION:Déryné Központ  (Jászberény\, Lehel vezér tér 33.)
 
 Fellépő művészek\:
 sztárvendég\: Madarász Katalin
 Nyertes Zsuzsa
 Molnár László
 Törőcsik Márta
 Kiss Gusztáv
 Békési Kocsor Irén
 
 Zenei kíséret\: Látó Imre és népi zenekara
 Szerkesztő-rendező\: Kiss Gusztáv
 Jegyek 1.300.- Ft-os áron kaphatók a Tourinform Irodában (Jászberény\, Lehel vezér tér 33. Telefon\: 57/406-439
END:VEVENT
END:VCALENDAR
