BEGIN:VCALENDAR
VERSION:2.0
METHOD:PUBLISH
X-WR-CALNAME:Jász Napló |  október 04 2011- november 03 2011
PRODID:-//strange bird labs//Drupal iCal API//EN
BEGIN:VEVENT
DTSTAMP;VALUE=DATE-TIME:20260424T051235Z
DTSTART;VALUE=DATE-TIME:20111005T150000Z
DTEND;VALUE=DATE-TIME:20111005T150000Z
UID:http://jasznaplo.hu/nemzet-sportoloja-balczo-andras
URL;VALUE=URI:http://jasznaplo.hu/nemzet-sportoloja-balczo-andras
SUMMARY:A Nemzet Sportolója - Balczó András
DESCRIPTION:<p>Déryné Ház (DMK)<br />
 Jászberény\, Lehel vezér tér 33.<br />
 Rendező\: Jászkerület Nonprofit Kft.</p>
 
END:VEVENT
BEGIN:VEVENT
DTSTAMP;VALUE=DATE-TIME:20260424T051235Z
DTSTART;VALUE=DATE-TIME:20111006T160000Z
DTEND;VALUE=DATE-TIME:20111006T160000Z
UID:http://jasznaplo.hu/nemzet-szinesze-bodrogi-gyula
URL;VALUE=URI:http://jasznaplo.hu/nemzet-szinesze-bodrogi-gyula
SUMMARY:A Nemzet Színésze - Bodrogi Gyula
DESCRIPTION:Malom-Film-Színház
 Jászberény\, Fürdő u. 3.
END:VEVENT
BEGIN:VEVENT
DTSTAMP;VALUE=DATE-TIME:20260424T051235Z
DTSTART;VALUE=DATE-TIME:20111007T120000Z
DTEND;VALUE=DATE-TIME:20111007T120000Z
UID:http://jasznaplo.hu/rajzpalyazat-eredmenyhirdetese
URL;VALUE=URI:http://jasznaplo.hu/rajzpalyazat-eredmenyhirdetese
SUMMARY:Rajzpályázat eredményhirdetése
DESCRIPTION:a Városi Könyvtárban Vagyóczki Kata művészeti díjas író\, festő 3 meséjéhez készült illusztrációs rajzpályázat eredményhirdetése.
END:VEVENT
BEGIN:VEVENT
DTSTAMP;VALUE=DATE-TIME:20260424T051235Z
DTSTART;VALUE=DATE-TIME:20111007T143000Z
DTEND;VALUE=DATE-TIME:20111007T143000Z
UID:http://jasznaplo.hu/jaszbereny-mi-varosunk-szabadteri-fotokiallitas-megnyitoja
URL;VALUE=URI:http://jasznaplo.hu/jaszbereny-mi-varosunk-szabadteri-fotokiallitas-megnyitoja
SUMMARY:Jászberény a mi városunk - szabadtéri fotókiállítás megnyitója
DESCRIPTION:Helyszín\: Déryné Művelődési Központ előtt
 Jászberény\, Lehel vezér tér 33.
 Szervező\: Jászberény Város Önkormányzata\, Hamza Gyűjtemény és Jász Galéria
END:VEVENT
BEGIN:VEVENT
DTSTAMP;VALUE=DATE-TIME:20260424T051235Z
DTSTART;VALUE=DATE-TIME:20111008T063000Z
DTEND;VALUE=DATE-TIME:20111008T063000Z
UID:http://jasznaplo.hu/sportnap-az-eselyegyenloseg-jegyeben
URL;VALUE=URI:http://jasznaplo.hu/sportnap-az-eselyegyenloseg-jegyeben
SUMMARY:Sportnap az esélyegyenlőség jegyében
DESCRIPTION:Ifjúsági Ház
 Jászberény\, Bercsényi u. 1/A
 Telefon\: 57/411-823
 Szervező\: Olajág-Jász Mozgássérültek Egyesülete
END:VEVENT
BEGIN:VEVENT
DTSTAMP;VALUE=DATE-TIME:20260424T051235Z
DTSTART;VALUE=DATE-TIME:20111008T150000Z
DTEND;VALUE=DATE-TIME:20111008T150000Z
UID:http://jasznaplo.hu/ki-mit-tud-tanc-nyelven-tancgala
URL;VALUE=URI:http://jasznaplo.hu/ki-mit-tud-tanc-nyelven-tancgala
SUMMARY:Ki-mit-tud a tánc nyelvén? - táncgála
DESCRIPTION:<p>MEGHÍVÓ</p>
 <p>A Jász Múzeumért Kulturális Alapítvány és a<br />
 Folklór Kulturális Közalapítvány</p>
 <p>A „Jászberény funkcióbővítő integrált településközpont fejlesztése”<br />
 című projekt (kódszám\: ÉAOP-5.1. 1/D-2F-2009-0003) keretében</p>
 <p>Ki-mit-tud a tánc nyelvén?<br />
 címmel jászberényi  táncgálát rendez</p>
 <p>2011. október 8-án (szombaton) 17 órai kezdettel<br />
 Jászberényben\, a Belvárosi Sportcsarnokban.</p>
 <p>A műsor széleskörű áttekintést ad a táncművészet különböző ágairól\,<br />
 amelyeket a város tanuló ifjúsága a tánccsoportokban<br />
 magas szinten művel.</p>
 <p>A műsorban közreműködnek\:<br />
 Dance Fitness Sport Egyesület<br />
 Jászság Népi Együttes<br />
 Jártató Ifjúsági Táncegyüttes<br />
 Moon Woofers Rock and roll Történeti Tánccsoport<br />
 Lehel-Melody Tánc-Sport Egyesület<br />
 Valentin Tánciskola<br />
 Viganó Alapfokú Művészetoktatási Intézmény csoportjai<br />
 Zagyva Banda</p>
 <p>Az est háziasszonyai\:<br />
 Gál Dobos Bea\, Hortiné dr. Bathó Edit</p>
 <p>A belépés díjtalan!</p>
 <p>Minden kedves vendéget szeretettel várunk!</p>
 
END:VEVENT
BEGIN:VEVENT
DTSTAMP;VALUE=DATE-TIME:20260424T051235Z
DTSTART;VALUE=DATE-TIME:20111013T160000Z
DTEND;VALUE=DATE-TIME:20111013T160000Z
UID:http://jasznaplo.hu/orkeny-istvan-totek-tragikomedia
URL;VALUE=URI:http://jasznaplo.hu/orkeny-istvan-totek-tragikomedia
SUMMARY:Örkény István\: Tóték - tragikomédia
DESCRIPTION:<p>a Malom Film-Színházban (Jászberény\, Fürdő u. 3.)</p>
 <p>Beregszászi Illyés Gyula Magyar Nemzeti Színház</p>
 <p>Rendező\: Vidnyánszky Attila</p>
 <p>Főbb szereplők\: Trill Zsolt\, Szűcs Nelli\, Varga József</p>
 <p>Az idilli nyugalomban élő Tót családhoz egy szép nap beállít a fronton harcoló fiuk parancsnoka.<br />
 Ettől kezdve mindenestül felfordul a család élete.</p>
 
END:VEVENT
BEGIN:VEVENT
DTSTAMP;VALUE=DATE-TIME:20260424T051235Z
DTSTART;VALUE=DATE-TIME:20111015T160000Z
DTEND;VALUE=DATE-TIME:20111015T160000Z
UID:http://jasznaplo.hu/en-tancolnek-veled
URL;VALUE=URI:http://jasznaplo.hu/en-tancolnek-veled
SUMMARY:\\"Én táncolnék veled\\"
DESCRIPTION:<p>A Lendület RT szeretettel vár minden táncoslábú vendéget október 15-én 18 órától a DMK Ifjúsági Házba Ritmikus Társasági Rituáléjára\, ahol az első 1 órában felnőtt tanítványaink záró bálját láthatják\, és élvezhetik a megtanulható táncok sokaságát\, majd a MoonWoofers Rock and Roll Történeti tánccsapat szórakoztató műsora következik\, a „Made in Hungária” musical népszerű slágerein szárnyalva! Az est további részében a vendégeké a főszerep! Nincs több kifogás\, hogy „FÁJ A LÁBAM!” A szervezők kísérletet tesznek arra\, hogy megtanítsanak önöknek egy pár tánclépést! Ezt követően „Ötórai Tea” keretén belül rophatják a táncokat\, kifulladásig!</p>
 
END:VEVENT
BEGIN:VEVENT
DTSTAMP;VALUE=DATE-TIME:20260424T051235Z
DTSTART;VALUE=DATE-TIME:20111016T090000Z
DTEND;VALUE=DATE-TIME:20111016T090000Z
UID:http://jasznaplo.hu/bajusz-harlekin-babszinhaz
URL;VALUE=URI:http://jasznaplo.hu/bajusz-harlekin-babszinhaz
SUMMARY:A bajusz - Harlekin Bábszínház
DESCRIPTION:Családi vasárnap a Malom Film Színházban
END:VEVENT
BEGIN:VEVENT
DTSTAMP;VALUE=DATE-TIME:20260424T051235Z
DTSTART;VALUE=DATE-TIME:20111020T160000Z
DTEND;VALUE=DATE-TIME:20111020T160000Z
UID:http://jasznaplo.hu/szuvenir-erdelyi-gyorgy-eloadasa
URL;VALUE=URI:http://jasznaplo.hu/szuvenir-erdelyi-gyorgy-eloadasa
SUMMARY:Szuvenír - Erdélyi György előadása
DESCRIPTION:56 megidézése a Malom Film Színházban
END:VEVENT
BEGIN:VEVENT
DTSTAMP;VALUE=DATE-TIME:20260424T051235Z
DTSTART;VALUE=DATE-TIME:20111021T160000Z
DTEND;VALUE=DATE-TIME:20111021T160000Z
UID:http://jasznaplo.hu/telefondoktor-barka-szinhaz
URL;VALUE=URI:http://jasznaplo.hu/telefondoktor-barka-szinhaz
SUMMARY:Telefondoktor - Bárka Színház
DESCRIPTION:Bohózat
 Malom Film Színház
 Jászberény\, Fürdő u. 3.
END:VEVENT
BEGIN:VEVENT
DTSTAMP;VALUE=DATE-TIME:20260424T051235Z
DTSTART;VALUE=DATE-TIME:20111028T070000Z
DTEND;VALUE=DATE-TIME:20111028T070000Z
UID:http://jasznaplo.hu/varosi-egeszsegnap-jaszbereny
URL;VALUE=URI:http://jasznaplo.hu/varosi-egeszsegnap-jaszbereny
SUMMARY:Városi egészségnap - Jászberény
DESCRIPTION:<p>Jászberény Város Önkormányzatának Humán Erőforrás Bizottsága szeretettel hív minden kedves érdeklődőt az<br />
 október 28-án 9.00 órakor kezdődő városi egészségnapra.<br />
 A rendezvény helyszíne\:<br />
 Bercsényi úti sportcsarnok\,  Ifjúsági Ház\, városi könyvtár.<br />
 Tervezett programok\:<br />
 különböző szűrések\, életmód- és táplálkozási tanácsadások\, orvosi tanácsadások\, egyéni problémák kezelése\, kiállítások\, kóstolók\, diétás tanácsadások\, sportprogramok\, játékos ügyességi versenyek\, vetélkedők\, totók\, kérdőívek kitöltése.</p>
 
END:VEVENT
BEGIN:VEVENT
DTSTAMP;VALUE=DATE-TIME:20260424T051235Z
DTSTART;VALUE=DATE-TIME:20111028T160000Z
DTEND;VALUE=DATE-TIME:20111028T160000Z
UID:http://jasznaplo.hu/meddig-vagyok-esztergalyos-cecilia
URL;VALUE=URI:http://jasznaplo.hu/meddig-vagyok-esztergalyos-cecilia
SUMMARY:M/Eddig vagyok?! - Esztergályos Cecília
DESCRIPTION:Zenés beszélgetés 
 Malom Film Színház
 Jászberény\, Fürdő u. 3.
END:VEVENT
BEGIN:VEVENT
DTSTAMP;VALUE=DATE-TIME:20260424T051235Z
DTSTART;VALUE=DATE-TIME:20111029T140000Z
DTEND;VALUE=DATE-TIME:20111029T140000Z
UID:http://jasznaplo.hu/vidam-magyarnota-est
URL;VALUE=URI:http://jasznaplo.hu/vidam-magyarnota-est
SUMMARY:Vidám magyarnóta est
DESCRIPTION:Déryné Központ  (Jászberény\, Lehel vezér tér 33.)
 
 Fellépő művészek\:
 sztárvendég\: Madarász Katalin
 Nyertes Zsuzsa
 Molnár László
 Törőcsik Márta
 Kiss Gusztáv
 Békési Kocsor Irén
 
 Zenei kíséret\: Látó Imre és népi zenekara
 Szerkesztő-rendező\: Kiss Gusztáv
 Jegyek 1.300.- Ft-os áron kaphatók a Tourinform Irodában (Jászberény\, Lehel vezér tér 33. Telefon\: 57/406-439
END:VEVENT
END:VCALENDAR
