BEGIN:VCALENDAR
VERSION:2.0
METHOD:PUBLISH
X-WR-CALNAME:Jász Napló |  szeptember 26 2011- október 03 2011
PRODID:-//strange bird labs//Drupal iCal API//EN
BEGIN:VEVENT
DTSTAMP;VALUE=DATE-TIME:20260424T105826Z
DTSTART;VALUE=DATE-TIME:20110929T160000Z
DTEND;VALUE=DATE-TIME:20110929T160000Z
UID:http://jasznaplo.hu/edes-rozam-deryne-emleknap
URL;VALUE=URI:http://jasznaplo.hu/edes-rozam-deryne-emleknap
SUMMARY:Édes Rózám! - Déryné emléknap
DESCRIPTION:<p>Csomor Csilla előadása</p>
 <p>Rendező\: Őze Áron</p>
 <p>Szeptember 29. 18 óra.</p>
 <p>„Déryné Széppataki Róza sorsa\, pályája\, életútja sok ponton összeforr sorsommal. Mindketten Jászberényben születtünk\, az a fajta szakmai alázat\, a hivatás elsőbbsége\, örök elkötelezettsége a színház iránt számomra példaértékű” – vallja magáról a művésznő.</p>
 <p>Szeptember 29-én 17 órakor koszorúzás és Déryné emlékplakettek átadása az emléktáblájánál.</p>
 <p>Szeptember 28-án 20.30 órakor a Déryné c. film (1951) vetítése a Jász Trió TV műsorán Tolnay Klári főszereplésével. Rendező Kalmár László.</p>
 <p>A Déryné Művelődési Központtal\, a Jász Múzeumért Alapítvánnyal\, a Jász Trió TV-vel\, valamint a Városvédő és Szépítő Egyesülettel közös rendezvény.</p>
 
END:VEVENT
BEGIN:VEVENT
DTSTAMP;VALUE=DATE-TIME:20260424T105826Z
DTSTART;VALUE=DATE-TIME:20111001T060000Z
DTEND;VALUE=DATE-TIME:20111001T060000Z
UID:http://jasznaplo.hu/hajta-5080-kerekparos-teljesitmenytura
URL;VALUE=URI:http://jasznaplo.hu/hajta-5080-kerekparos-teljesitmenytura
SUMMARY:Hajta 50/80 kerékpáros teljesítménytúra
DESCRIPTION:<p>Október elsején\, szombaton immár huszadik alkalommal indulhatnak a teljesítménytúrázók a Zagyvamenti és a Hajta Természetvédelmi Területeket felfedezni. Most kerékpárral lehet tekerni a Jászberény körüli\, farmosi\, újerdői tanyavidéken.</p>
 <p>A rajt és a cél a Gyakorló általános iskolánál lesz a Sportpálya utcán. Indítás 8-9 óra között. Az 50 km-es szintidő 14 év alatt és 50 felett 7 óra\, egyébként 6 óra. A 80 km-es távot választóknak 14 év alatt és 50 felett 9 óra\, egyébként 8 óra.</p>
 <p>A szervezők csak mountain bike kerékpárral indulókat engednek a versenyre!</p>
 <p>Ezzel egy időben főleg a kisgyermekekkel túrázóknak ajánlják a Zagyva körüli tekergőt\, melynek távja 20 kilométer. Ezt 9-10 óra között indítják\, itt nincs szintidő.</p>
 <p>A verseny esőnapja október 8.</p>
 <p>Bővebb felvilágosítást Faragó László 57/411-162 és Patakiné Kocza Anita 57/406-439 ad\, illetve a <a href=\\"http\://www.hajta.atw.hu\\" title=\\"www.hajta.atw.hu\\" rel=\\"nofollow\\">www.hajta.atw.hu</a> oldalon található.</p>
 
END:VEVENT
END:VCALENDAR
