BEGIN:VCALENDAR
VERSION:2.0
METHOD:PUBLISH
X-WR-CALNAME:Jász Napló |  május 20 2011- június 19 2011
PRODID:-//strange bird labs//Drupal iCal API//EN
BEGIN:VEVENT
DTSTAMP;VALUE=DATE-TIME:20260423T075222Z
DTSTART;VALUE=DATE-TIME:20110520T080000Z
DTEND;VALUE=DATE-TIME:20110604T150000Z
UID:http://jasznaplo.hu/keleti-eva-fotomuvesz-kiallitasa-0
URL;VALUE=URI:http://jasznaplo.hu/keleti-eva-fotomuvesz-kiallitasa-0
SUMMARY:Keleti Éva fotóművész kiállítása
DESCRIPTION:<p>Helyszín\: Déryné utca 6.<br><br>nyitva\:<br>H. – P. 10.00 – 17.00<br>Sz. 10.00 – 12.00 – 14.00 – 16.00</p>
END:VEVENT
BEGIN:VEVENT
DTSTAMP;VALUE=DATE-TIME:20260423T075222Z
DTSTART;VALUE=DATE-TIME:20110520T133000Z
DTEND;VALUE=DATE-TIME:20110520T133000Z
UID:http://jasznaplo.hu/fuvoszenekar-es-uto-egyuttes-koncertje
URL;VALUE=URI:http://jasznaplo.hu/fuvoszenekar-es-uto-egyuttes-koncertje
SUMMARY:Fúvószenekar és ütő együttes koncertje
DESCRIPTION:<p><strong></strong>&nbsp\; Palotásy János Zeneiskola Alapfokú Művészetoktatási Intézmény<br />
 &nbsp\;&nbsp\;Fúvószenekarának és ütő együttesének koncertje<br />
 &nbsp\;&nbsp\;Helyszín\: a város Főtere</p>
 
END:VEVENT
BEGIN:VEVENT
DTSTAMP;VALUE=DATE-TIME:20260423T075222Z
DTSTART;VALUE=DATE-TIME:20110520T150000Z
DTEND;VALUE=DATE-TIME:20110520T150000Z
UID:http://jasznaplo.hu/korusok-hangversenye
URL;VALUE=URI:http://jasznaplo.hu/korusok-hangversenye
SUMMARY:Kórusok hangversenye
DESCRIPTION:<p><strong></strong>&nbsp\; A Juniata College&nbsp\; Koncert Kórus és a<br />
 &nbsp\;&nbsp\;Jászsági ÁFÉSZ Székely Mihály Kórus közös hangversenye<br />
 &nbsp\;&nbsp\;Helyszín\: Déryné Művelődési Központ</p>
 
END:VEVENT
BEGIN:VEVENT
DTSTAMP;VALUE=DATE-TIME:20260423T075222Z
DTSTART;VALUE=DATE-TIME:20110521T080000Z
DTEND;VALUE=DATE-TIME:20110521T160000Z
UID:http://jasznaplo.hu/muzeumi-vilagnap-nyitott-muhely
URL;VALUE=URI:http://jasznaplo.hu/muzeumi-vilagnap-nyitott-muhely
SUMMARY:Múzeumi Világnap - Nyitott MűHely
DESCRIPTION:<div><strong>2011. május 21. (szombat)\: Múzeumi Világnap - Nyitott  MűHely</strong></div> <div><strong></strong>&nbsp\;</div> <div><strong>10-12 óra\:</strong></div> <div><strong>OptiKaland</strong> képzőművészeti és kézműves fejlesztő  foglalkozás 7-14 éveseknek.<br>Az elkészült munkákat mindenki  hazaviheti.<br>Részvételi díj\: 900\,- Ft/fő.&nbsp\;</div> <div><strong>14-18 óra\:<br>Nyitott MűHely</strong> a Hamza Studio  közreműködésével.<br>Családi alkotó délután\: linómetszés és -nyomás\, grafikai  játék.<br>A rendezvényen a részvétel díjtalan.<br>&nbsp\;<br>Információ\:<br>Hamza  Gyűjtemény és Jász Galéria<br>5100 Jászberény\, Gyöngyösi út 7. 57/503-260</div> <div><a href=\\"http\://www.hamzamuzeum.hu/\\">www.hamzamuzeum.hu</a></div>
END:VEVENT
BEGIN:VEVENT
DTSTAMP;VALUE=DATE-TIME:20260423T075222Z
DTSTART;VALUE=DATE-TIME:20110526T080000Z
DTEND;VALUE=DATE-TIME:20110526T080000Z
UID:http://jasznaplo.hu/vasarhelyi-emlekunnepseg
URL;VALUE=URI:http://jasznaplo.hu/vasarhelyi-emlekunnepseg
SUMMARY:Vásárhelyi emlékünnepség 
DESCRIPTION:<p>Május 26-án\, csütörtökön <br>10.00 órakor<br>Vásárhelyi emlékünnepség<br>a Gróf Apponyi A. Általános Iskola és Alapfokú Művészetoktatási Intézmény udvarán<br><br><br><br></p>
END:VEVENT
BEGIN:VEVENT
DTSTAMP;VALUE=DATE-TIME:20260423T075222Z
DTSTART;VALUE=DATE-TIME:20110526T120000Z
DTEND;VALUE=DATE-TIME:20110526T120000Z
UID:http://jasznaplo.hu/vasarhelyi-nyomaban-vetelkedo
URL;VALUE=URI:http://jasznaplo.hu/vasarhelyi-nyomaban-vetelkedo
SUMMARY:Vásárhelyi nyomában - vetélkedő
DESCRIPTION:<p>a Déryné Művelődési Központ dísztermében<br> „Vásárhelyi nyomában” c. Környezet és természetvédelmi vetélkedő döntője</p>
END:VEVENT
BEGIN:VEVENT
DTSTAMP;VALUE=DATE-TIME:20260423T075222Z
DTSTART;VALUE=DATE-TIME:20110526T160000Z
DTEND;VALUE=DATE-TIME:20110526T160000Z
UID:http://jasznaplo.hu/hagyomanyok-tovabbelese-modern-torok-tarsadalomban
URL;VALUE=URI:http://jasznaplo.hu/hagyomanyok-tovabbelese-modern-torok-tarsadalomban
SUMMARY:A hagyományok továbbélése a modern török társadalomban
DESCRIPTION:<p><strong></strong>&nbsp\; Előadó\: Dr. Bartha Júlia néprajzkutató<br />
 &nbsp\;&nbsp\;Helyszín\: Jász Múzeum</p>
 
END:VEVENT
BEGIN:VEVENT
DTSTAMP;VALUE=DATE-TIME:20260423T075222Z
DTSTART;VALUE=DATE-TIME:20110528T070000Z
DTEND;VALUE=DATE-TIME:20110528T070000Z
UID:http://jasznaplo.hu/szulofoldunk-jaszsag-helyismereti-vetelkedo
URL;VALUE=URI:http://jasznaplo.hu/szulofoldunk-jaszsag-helyismereti-vetelkedo
SUMMARY:Szülőföldünk a Jászság - helyismereti vetélkedő
DESCRIPTION:<p>a Jászság általános és középiskolás diákjainak (döntő)</p><p>Helyszín\: Déryné Művelődési Központ</p>
END:VEVENT
BEGIN:VEVENT
DTSTAMP;VALUE=DATE-TIME:20260423T075222Z
DTSTART;VALUE=DATE-TIME:20110528T090000Z
DTEND;VALUE=DATE-TIME:20110529T120000Z
UID:http://jasznaplo.hu/v-makettinfo-kupa-jaszbereny
URL;VALUE=URI:http://jasznaplo.hu/v-makettinfo-kupa-jaszbereny
SUMMARY:V. Makettinfo Kupa - Jászberény
DESCRIPTION:<p>Részletes program itt\:</p><pre id=\\"line1\\"><span>&nbsp\;</span><a href=\\"view-source\:http\://jasznaplo.hu/files/images/mekett.jpg\\">http\://jasznaplo.hu/files/images/mekett.jpg</a></pre>
END:VEVENT
BEGIN:VEVENT
DTSTAMP;VALUE=DATE-TIME:20260423T075222Z
DTSTART;VALUE=DATE-TIME:20110530T150000Z
DTEND;VALUE=DATE-TIME:20110530T150000Z
UID:http://jasznaplo.hu/palotasy-janos-zeneiskola-hangversenye-1
URL;VALUE=URI:http://jasznaplo.hu/palotasy-janos-zeneiskola-hangversenye-1
SUMMARY:Palotásy János Zeneiskola hangversenye
DESCRIPTION:<p>Helyszín\: Déryné Művelődési Központ</p>
END:VEVENT
BEGIN:VEVENT
DTSTAMP;VALUE=DATE-TIME:20260423T075222Z
DTSTART;VALUE=DATE-TIME:20110531T170000Z
DTEND;VALUE=DATE-TIME:20110531T170000Z
UID:http://jasznaplo.hu/rakasz-gergely-koncertje
URL;VALUE=URI:http://jasznaplo.hu/rakasz-gergely-koncertje
SUMMARY:Rákász Gergely koncertje
DESCRIPTION:<p>Helyszín\: Déryné Művelődési Központ<br><br>Rákász Gergely - Egy koncert kékben<br>Gershwin - Rawel - Strauss látványkoncert<br><br>Papp Norbert festőművész különleges látványvilágával<br><br>Belépődíj\:<br>diák\, nyugdíjas\: 1.490.-<br>felnőtt\: 1.990.-</p>
END:VEVENT
BEGIN:VEVENT
DTSTAMP;VALUE=DATE-TIME:20260423T075222Z
DTSTART;VALUE=DATE-TIME:20110601T160000Z
DTEND;VALUE=DATE-TIME:20110601T160000Z
UID:http://jasznaplo.hu/francia-kortars-cirkusz
URL;VALUE=URI:http://jasznaplo.hu/francia-kortars-cirkusz
SUMMARY:FRANCIA KORTÁRS CIRKUSZ
DESCRIPTION:<p>Co-op Star Zrt. áruház átriuma <br><br></p>
END:VEVENT
BEGIN:VEVENT
DTSTAMP;VALUE=DATE-TIME:20260423T075222Z
DTSTART;VALUE=DATE-TIME:20110602T080000Z
DTEND;VALUE=DATE-TIME:20110602T180000Z
UID:http://jasznaplo.hu/konyves-csutortok-0
URL;VALUE=URI:http://jasznaplo.hu/konyves-csutortok-0
SUMMARY:Könyves Csütörtök
DESCRIPTION:<p><strong></strong>&nbsp\; Ünnepi Könyvhét rendezvénye<br />
 &nbsp\;&nbsp\;Helyszín\: Déryné Művelődési Központ előtti szerviz út</p>
 
END:VEVENT
BEGIN:VEVENT
DTSTAMP;VALUE=DATE-TIME:20260423T075222Z
DTSTART;VALUE=DATE-TIME:20110603T150000Z
DTEND;VALUE=DATE-TIME:20110603T150000Z
UID:http://jasznaplo.hu/tancbemutato-szandi-koncert
URL;VALUE=URI:http://jasznaplo.hu/tancbemutato-szandi-koncert
SUMMARY:Táncbemutató\, Szandi koncert
DESCRIPTION:<p>Főtér - Déryné Művelődési Központ előtt<br>17.00-18.00&nbsp\;&nbsp\;&nbsp\; <br>Mozgásvilág Táncklub bemutatója\, <br>a jászberényi Zoltán Erika Tánciskola bemutatója\,<br>Silver TSE Szolnok Alapfokú Művészeti Iskola jászberényi növendékeinek bemutatója<br>18.00-19.00&nbsp\;&nbsp\;&nbsp\; <br>Szandi koncert</p>
END:VEVENT
BEGIN:VEVENT
DTSTAMP;VALUE=DATE-TIME:20260423T075222Z
DTSTART;VALUE=DATE-TIME:20110604T080000Z
DTEND;VALUE=DATE-TIME:20110604T160000Z
UID:http://jasznaplo.hu/jatszo-nap-nepi-gyermekjatekokkal
URL;VALUE=URI:http://jasznaplo.hu/jatszo-nap-nepi-gyermekjatekokkal
SUMMARY:JÁTSZÓ-NAP NÉPI GYERMEKJÁTÉKOKKAL
DESCRIPTION:<p>Főtér - Déryné Művelődési Központ előtt<br>JÁTSZÓ-NAP NÉPI GYERMEKJÁTÉKOKKAL<br>10.00-18.00&nbsp\;&nbsp\;&nbsp\; <br>Népi játszótér - ügyességi\, kreatív táblás játékokkal<br>10.30-11.00&nbsp\;&nbsp\;&nbsp\; <br>Kelepelő Bábcsoport - Dunna mese<br>11.00-12.00&nbsp\;&nbsp\;&nbsp\; <br>Ricsi Bohóc és barátja<br>15.00-16.00&nbsp\;&nbsp\;&nbsp\; <br>Regélő Színjátszókör - A talléros kalap c. mese előadása<br>16.00-17.00&nbsp\;&nbsp\;&nbsp\; <br>Csurgó Zenekar - „Három egész napon át” népzenei gyermek koncert<br>17.00-18.00&nbsp\;&nbsp\;&nbsp\; <br>Utcaszínház <br>Maszk Bábszínház - Mátyás király bolondos bolondja<br>Egész nap kerékpáros ügyességi verseny.<br>A Gróf Apponyi Albert Ált. Isk. Nagy Vagy című országos vetélkedőn nyert akadálypályája.<br>Mászófal\, ugrálóvár\, faházakban vásározók.<br>14.30-tól &nbsp\;&nbsp\;&nbsp\; <br>kézműves asztaloknál foglalkozások</p>
END:VEVENT
BEGIN:VEVENT
DTSTAMP;VALUE=DATE-TIME:20260423T075222Z
DTSTART;VALUE=DATE-TIME:20110605T130000Z
DTEND;VALUE=DATE-TIME:20110605T160000Z
UID:http://jasznaplo.hu/jazzbereny-band-utos-egyuttes
URL;VALUE=URI:http://jasznaplo.hu/jazzbereny-band-utos-egyuttes
SUMMARY:JazzBerény - Band ütős együttes
DESCRIPTION:<p>Június 5. (vasárnap)<br>Főtér - Déryné Művelődési Központ előtt<br>15.00-16.00&nbsp\;&nbsp\;&nbsp\; <br>JazzBerény - Band ütős együttes műsora<br>16.00-18.00&nbsp\;&nbsp\;&nbsp\; <br>Sisa Shóóó!!!</p>
END:VEVENT
BEGIN:VEVENT
DTSTAMP;VALUE=DATE-TIME:20260423T075222Z
DTSTART;VALUE=DATE-TIME:20110605T140000Z
DTEND;VALUE=DATE-TIME:20110605T140000Z
UID:http://jasznaplo.hu/sisa-shooo
URL;VALUE=URI:http://jasznaplo.hu/sisa-shooo
SUMMARY:Sisa Shóóó!!!
DESCRIPTION:<p>Június 5. (vasárnap)<br> Főtér - Déryné Művelődési Központ előtt<br> 16.00-18.00&nbsp\;&nbsp\;&nbsp\; <br> Sisa Shóóó!!!</p>
END:VEVENT
BEGIN:VEVENT
DTSTAMP;VALUE=DATE-TIME:20260423T075222Z
DTSTART;VALUE=DATE-TIME:20110607T060000Z
DTEND;VALUE=DATE-TIME:20110708T140000Z
UID:http://jasznaplo.hu/cserta-imre-fafaragasai
URL;VALUE=URI:http://jasznaplo.hu/cserta-imre-fafaragasai
SUMMARY:Cserta Imre fafaragásai 
DESCRIPTION:<p>Déryné Művelődési Központ aula <br>Cserta Imre fafaragásai láthatók<br>Megtekinthető nyitvatartási időben.</p>
END:VEVENT
BEGIN:VEVENT
DTSTAMP;VALUE=DATE-TIME:20260423T075222Z
DTSTART;VALUE=DATE-TIME:20110607T150000Z
DTEND;VALUE=DATE-TIME:20110710T160000Z
UID:http://jasznaplo.hu/telek-bela-karikaturaibol-kiallitas
URL;VALUE=URI:http://jasznaplo.hu/telek-bela-karikaturaibol-kiallitas
SUMMARY:Telek Béla karikatúráiból kiállítás
DESCRIPTION:<p>Városi Könyvtár és Információs Központ<br>Telek Béla karikatúráiból kiállítás<br>Megnyitó\: <br>június 7. (kedd) 17. 00 óra<br>Látogatható\: a könyvtár nyitvatartási idejében</p>
END:VEVENT
BEGIN:VEVENT
DTSTAMP;VALUE=DATE-TIME:20260423T075222Z
DTSTART;VALUE=DATE-TIME:20110609T140000Z
DTEND;VALUE=DATE-TIME:20110618T150000Z
UID:http://jasznaplo.hu/%E2%80%9C-vilagok-hataran%E2%80%9D-kiallitas
URL;VALUE=URI:http://jasznaplo.hu/%E2%80%9C-vilagok-hataran%E2%80%9D-kiallitas
SUMMARY:“A VILÁGOK HATÁRÁN” - kiállítás
DESCRIPTION:<p>Déryné u. 6.<br>Bényi Eszter textilművész és Bényi László festőművész kiállítása<br>Megnyitó\: <br>június 9. (csütörtök) 16.00 óra<br>A kiállítást megnyitja\: <br>Szabó Jánosné a Városi Könyvtár és Információs Központ igazgatója<br>Látogatható\: <br>hétköznap 10.00-17.00 óráig<br>szombaton\: 10.00-13.00 óráig<br>vasárnap\: zárva<br><br></p>
END:VEVENT
BEGIN:VEVENT
DTSTAMP;VALUE=DATE-TIME:20260423T075222Z
DTSTART;VALUE=DATE-TIME:20110610T183000Z
DTEND;VALUE=DATE-TIME:20110610T183000Z
UID:http://jasznaplo.hu/bikini-koncert
URL;VALUE=URI:http://jasznaplo.hu/bikini-koncert
SUMMARY:BIKINI KONCERT
DESCRIPTION:<p>Szabadtéri Színpad<br>Belépődíj\:<br>elővételben\: 2.000.- Ft<br>helyszínen\:&nbsp\; 2.200.- Ft</p>
END:VEVENT
BEGIN:VEVENT
DTSTAMP;VALUE=DATE-TIME:20260423T075222Z
DTSTART;VALUE=DATE-TIME:20110612T170000Z
DTEND;VALUE=DATE-TIME:20110612T170000Z
UID:http://jasznaplo.hu/dr-kiraly-csaba-orgonamuvesz-hangversenye
URL;VALUE=URI:http://jasznaplo.hu/dr-kiraly-csaba-orgonamuvesz-hangversenye
SUMMARY:DR. KIRÁLY CSABA orgonaművész hangversenye
DESCRIPTION:<p>Ferences Templom<br>A belépés díjtalan. <br>Adományokat a Templom orgonájának további felújítására köszönettel elfogadnak.</p>
END:VEVENT
BEGIN:VEVENT
DTSTAMP;VALUE=DATE-TIME:20260423T075222Z
DTSTART;VALUE=DATE-TIME:20110616T160000Z
DTEND;VALUE=DATE-TIME:20110616T160000Z
UID:http://jasznaplo.hu/uzenet-multbol-cimu-idoszaki-kiallitas-megnyito
URL;VALUE=URI:http://jasznaplo.hu/uzenet-multbol-cimu-idoszaki-kiallitas-megnyito
SUMMARY:Üzenet a múltból  című időszaki kiállítás megnyitó
DESCRIPTION:<p>Jász Múzeum</p>
END:VEVENT
BEGIN:VEVENT
DTSTAMP;VALUE=DATE-TIME:20260423T075222Z
DTSTART;VALUE=DATE-TIME:20110617T160000Z
DTEND;VALUE=DATE-TIME:20110617T160000Z
UID:http://jasznaplo.hu/unnepi-hangverseny-0
URL;VALUE=URI:http://jasznaplo.hu/unnepi-hangverseny-0
SUMMARY:ÜNNEPI Hangverseny 
DESCRIPTION:<p>Déryné Művelődési Központ díszterme<br>ÜNNEPI Hangverseny <br>Liszt Ferenc születésének <br>200. évfordulója alkalmából<br>Fellépnek\: <br>Szolnoki Szimfonikus Zenekar <br>Váradi László a Budapesti Liszt Ferenc Zeneművészeti Egyetem Kivételes Tehetségek Előkészítő Tagozatának zongoraszakos hallgatója<br>Vezényel\: <br>Bali József<br>A belépés díjtalan.</p>
END:VEVENT
END:VCALENDAR
