BEGIN:VCALENDAR
VERSION:2.0
METHOD:PUBLISH
X-WR-CALNAME:Jász Napló |  november 26 2010- december 26 2010
PRODID:-//strange bird labs//Drupal iCal API//EN
BEGIN:VEVENT
DTSTAMP;VALUE=DATE-TIME:20260419T183852Z
DTSTART;VALUE=DATE-TIME:20101108T070000Z
DTEND;VALUE=DATE-TIME:20101201T160000Z
UID:http://jasznaplo.hu/kiallitas/termeszetfotok-kiallitas
URL;VALUE=URI:http://jasznaplo.hu/kiallitas/termeszetfotok-kiallitas
SUMMARY:Természetfotók - kiállítás
DESCRIPTION:<p><strong><em></em></strong></p>
 <p>a Déryné Művelődési Központ aulájában<br />
 <strong>Hr</strong><strong>abóczki Andrásné </strong>a Digitálisan Fotózók Klubja tagjának fotói láthatók.</p>
 <p></p>
 
END:VEVENT
BEGIN:VEVENT
DTSTAMP;VALUE=DATE-TIME:20260419T183852Z
DTSTART;VALUE=DATE-TIME:20101126T080000Z
DTEND;VALUE=DATE-TIME:20101126T090000Z
UID:http://jasznaplo.hu/hangverseny/szolnoki-szimfonikus-zenekar-hangversenye
URL;VALUE=URI:http://jasznaplo.hu/hangverseny/szolnoki-szimfonikus-zenekar-hangversenye
SUMMARY:Szolnoki Szimfonikus Zenekar hangversenye
DESCRIPTION:<p><strong><em></em></strong></p>
 <p>November 26.(péntek)<br />
 9.00 és 10.10 óra</p>
 <p>DMK Ifjúsági Ház</p>
 <p>&#160\;</p>
 <p>Filharmóniai hangversenysorozat<br />
 1. elõadás általános iskolásoknak</p>
 <p>&#160\;</p>
 <p>Mûsor\:</p>
 <p>Kacsóh Pongrác\: János vitéz<br />
 - daljáték keresztmetszet<br />
 - Petõfi Sándor elbeszélõ költeménye nyomán</p>
 <p>&#160\;</p>
 <p><strong></strong></p>
 <p>SZOLNOKI SZIMFONIKUS ZENEKAR</p>
 
END:VEVENT
BEGIN:VEVENT
DTSTAMP;VALUE=DATE-TIME:20260419T183852Z
DTSTART;VALUE=DATE-TIME:20101126T091000Z
DTEND;VALUE=DATE-TIME:20101126T101000Z
UID:http://jasznaplo.hu/hangverseny/szolnoki-szimfonikus-zenekar-hangversenye-0
URL;VALUE=URI:http://jasznaplo.hu/hangverseny/szolnoki-szimfonikus-zenekar-hangversenye-0
SUMMARY:Szolnoki Szimfonikus Zenekar hangversenye
DESCRIPTION:<p>DMK Ifjúsági Ház </p>
 <p>Filharmóniai hangversenysorozat<br />
 1. előadás általános iskolásoknak </p>
 <p>Műsor\:<br />
 Kacsóh Pongrác\: János vitéz<br />
 - daljáték keresztmetszet<br />
 - Petőfi Sándor elbeszélő költeménye nyomán </p>
 <p>SZOLNOKI SZIMFONIKUS ZENEKAR </p>
 <p>Vezényel\: Bolyky Zoltán </p>
 <p>Bérletek 1.000.- Ft-os áron vásárolhatók a Déryné Művelődési Központban<br />
 Dr. Kissné Kohári Erzsébetnél.</p>
 
END:VEVENT
BEGIN:VEVENT
DTSTAMP;VALUE=DATE-TIME:20260419T183852Z
DTSTART;VALUE=DATE-TIME:20101127T130000Z
DTEND;VALUE=DATE-TIME:20101127T180000Z
UID:http://jasznaplo.hu/eloadas/i-oszi-lelki-nagytakaritas
URL;VALUE=URI:http://jasznaplo.hu/eloadas/i-oszi-lelki-nagytakaritas
SUMMARY:I. Őszi lelki nagytakarítás
DESCRIPTION:<p>Helyszín\: DMK Ifjúsági Ház ( Jászberény\, Bercsényi u. 1/a.)<br />
 I. Őszi lelki nagytakarítás Horváth Jutka pszichológussal<br />
 A tanfolyamok segítenek egészségesebbé\, harmónikusabbá\,öntudatosabbá válni és így megkönnyítik az ünnep előtti készülődést.<br />
 Mi vár az érdeklődőre a tréningen?<br />
 Nevetés- sírás\, felismerések\, önfelismerés\,önbizalom erősödés\, terhek lerakása\,szívet-lelket átmelegítő szeretet\, elfogadás\, békesség.<br />
 Mindkét napon vezetett meditáció\, ezért megjelenés kényelmes öltözetben\, folyadékkal\, polifómmal\, vagy pléddel. </p>
 <p><strong><em></em></strong></p>
 <p>December 4. (szombat) 9.00-13.00 óra</p>
 
END:VEVENT
BEGIN:VEVENT
DTSTAMP;VALUE=DATE-TIME:20260419T183852Z
DTSTART;VALUE=DATE-TIME:20101130T230000Z
DTEND;VALUE=DATE-TIME:20101223T150000Z
UID:http://jasznaplo.hu/kiallitas/jasz-szinfolt-foltvarro-klub-kiallitasa
URL;VALUE=URI:http://jasznaplo.hu/kiallitas/jasz-szinfolt-foltvarro-klub-kiallitasa
SUMMARY:Jász-Színfolt Foltvarró Klub kiállítása
DESCRIPTION:<p>Kiállítás\: a DMK aulájában<br />
 december 1-től január 5-ig </p>
 <p>Jász Színfolt Foltvarró Klub<br />
 Ünnepi kézimunka kiállítása</p>
 
END:VEVENT
BEGIN:VEVENT
DTSTAMP;VALUE=DATE-TIME:20260419T183852Z
DTSTART;VALUE=DATE-TIME:20101201T083000Z
DTEND;VALUE=DATE-TIME:20101201T093000Z
UID:http://jasznaplo.hu/szinhaz/bolyongas-mesei
URL;VALUE=URI:http://jasznaplo.hu/szinhaz/bolyongas-mesei
SUMMARY:A bolyongás meséi
DESCRIPTION:<p>DMK Ifjúsági Ház</p>
 <p>Sepsiszentgyörgyi Osonó Műhely </p>
 <p>A belépés ingyenes.</p>
 <p>A Malom Film Színház szervezése.</p>
 
END:VEVENT
BEGIN:VEVENT
DTSTAMP;VALUE=DATE-TIME:20260419T183852Z
DTSTART;VALUE=DATE-TIME:20101201T103000Z
DTEND;VALUE=DATE-TIME:20101201T113000Z
UID:http://jasznaplo.hu/szinhaz/bolyongas-mesei-0
URL;VALUE=URI:http://jasznaplo.hu/szinhaz/bolyongas-mesei-0
SUMMARY:A bolyongás meséi
DESCRIPTION:<p>DMK Ifjúsági Ház </p>
 <p>Sepsiszentgyörgyi Osonó Műhely </p>
 <p>A belépés ingyenes. </p>
 <p>A Malom Film Színház szervezése.</p>
 
END:VEVENT
BEGIN:VEVENT
DTSTAMP;VALUE=DATE-TIME:20260419T183852Z
DTSTART;VALUE=DATE-TIME:20101202T083000Z
DTEND;VALUE=DATE-TIME:20101202T093000Z
UID:http://jasznaplo.hu/szinhaz/bolyongas-mesei-1
URL;VALUE=URI:http://jasznaplo.hu/szinhaz/bolyongas-mesei-1
SUMMARY:A bolyongás meséi
DESCRIPTION:<p>DMK Ifjúsági Ház</p>
 <p>Sepsiszentgyörgyi Osonó Műhely </p>
 <p>A belépés ingyenes.</p>
 <p>A Malom Film Színház szervezése.</p>
 
END:VEVENT
BEGIN:VEVENT
DTSTAMP;VALUE=DATE-TIME:20260419T183852Z
DTSTART;VALUE=DATE-TIME:20101202T103000Z
DTEND;VALUE=DATE-TIME:20101202T113000Z
UID:http://jasznaplo.hu/szinhaz/bolyongas-mesei-2
URL;VALUE=URI:http://jasznaplo.hu/szinhaz/bolyongas-mesei-2
SUMMARY:A bolyongás meséi
DESCRIPTION:<p>DMK Ifjúsági Ház </p>
 <p>Sepsiszentgyörgyi Osonó Műhely </p>
 <p>A belépés ingyenes. </p>
 <p>A Malom Film Színház szervezése.</p>
 
END:VEVENT
BEGIN:VEVENT
DTSTAMP;VALUE=DATE-TIME:20260419T183852Z
DTSTART;VALUE=DATE-TIME:20101203T130000Z
DTEND;VALUE=DATE-TIME:20101203T160000Z
UID:http://jasznaplo.hu/egyeb/co-op-star-zrt-nyugdijas-talalkozo
URL;VALUE=URI:http://jasznaplo.hu/egyeb/co-op-star-zrt-nyugdijas-talalkozo
SUMMARY:Co-Op STAR Zrt. nyugdíjas találkozó
DESCRIPTION:<p>DMK Ifjúsági Ház</p>
 
END:VEVENT
BEGIN:VEVENT
DTSTAMP;VALUE=DATE-TIME:20260419T183852Z
DTSTART;VALUE=DATE-TIME:20101203T170000Z
DTEND;VALUE=DATE-TIME:20101203T180000Z
UID:http://jasznaplo.hu/hangverseny/rakasz-gergely-karacsonyi-orgonahangversenye
URL;VALUE=URI:http://jasznaplo.hu/hangverseny/rakasz-gergely-karacsonyi-orgonahangversenye
SUMMARY:Rákász Gergely karácsonyi orgonahangversenye
DESCRIPTION:<p>Református Templom</p>
 <p>Belépődíj\: 1.990.-<br />
 Diák\, nyugdíjas\: 1.490.-</p>
 
END:VEVENT
BEGIN:VEVENT
DTSTAMP;VALUE=DATE-TIME:20260419T183852Z
DTSTART;VALUE=DATE-TIME:20101204T080000Z
DTEND;VALUE=DATE-TIME:20101204T120000Z
UID:http://jasznaplo.hu/eloadas/ii-karacsony-elotti-elengedes-toltodes-noknek
URL;VALUE=URI:http://jasznaplo.hu/eloadas/ii-karacsony-elotti-elengedes-toltodes-noknek
SUMMARY:II. Karácsony elõtti elengedés\, töltõdés nõknek 
DESCRIPTION:<p>Helyszín\: DMK Ifjúsági Ház ( Jászberény\, Bercsényi u. 1/a.)<strong></strong></p>
 <p>II. Karácsony elõtti elengedés\, töltõdés nõknek<br />
 Horváth Jutka pszichológussal </p>
 <p>Érdeklõdni és jelentkezni lehet a<br />
 DMK Gyermekek Házában<br />
 Telefon\: 57/411-783\,<br />
 mobil\: 06 30 2103319</p>
 
END:VEVENT
BEGIN:VEVENT
DTSTAMP;VALUE=DATE-TIME:20260419T183852Z
DTSTART;VALUE=DATE-TIME:20101204T090000Z
DTEND;VALUE=DATE-TIME:20101204T103000Z
UID:http://jasznaplo.hu/vetites/toy-story-filmvetites
URL;VALUE=URI:http://jasznaplo.hu/vetites/toy-story-filmvetites
SUMMARY:Toy Story filmvetítés
DESCRIPTION:<p>Malom Film Színház</p>
 
END:VEVENT
BEGIN:VEVENT
DTSTAMP;VALUE=DATE-TIME:20260419T183852Z
DTSTART;VALUE=DATE-TIME:20101204T140000Z
DTEND;VALUE=DATE-TIME:20101204T153000Z
UID:http://jasznaplo.hu/hangverseny/karacsonyi-musor
URL;VALUE=URI:http://jasznaplo.hu/hangverseny/karacsonyi-musor
SUMMARY:Karácsonyi műsor
DESCRIPTION:<p>Déryné Művelődési Központ</p>
 <p>Belvárosi Általános Iskola<br />
 Palotásy János Zeneiskola és Alapfokú Művészetoktatási Intézmány tanulóinak műsora</p>
 
END:VEVENT
BEGIN:VEVENT
DTSTAMP;VALUE=DATE-TIME:20260419T183852Z
DTSTART;VALUE=DATE-TIME:20101205T140000Z
DTEND;VALUE=DATE-TIME:20101205T153000Z
UID:http://jasznaplo.hu/egyeb/mikulasunnepseg
URL;VALUE=URI:http://jasznaplo.hu/egyeb/mikulasunnepseg
SUMMARY:Mikulásünnepség
DESCRIPTION:<p>Főtér - fenyőfa</p>
 
END:VEVENT
BEGIN:VEVENT
DTSTAMP;VALUE=DATE-TIME:20260419T183852Z
DTSTART;VALUE=DATE-TIME:20101205T150000Z
DTEND;VALUE=DATE-TIME:20101205T163000Z
UID:http://jasznaplo.hu/koncert/vandorfelhok-fenn-az-egen-notamusor
URL;VALUE=URI:http://jasznaplo.hu/koncert/vandorfelhok-fenn-az-egen-notamusor
SUMMARY:Vándorfelhők fenn az égen - nótaműsor
DESCRIPTION:<p>Malom Film Színház<br />
 Madarász Katalin és Kökény Róbert nótaműsora</p>
 <p>Közreműködik\: Bakos Melinda\, Dancza Krisztina és mások</p>
 <p>Kísér\: Mága Ernő és zenekara</p>
 
END:VEVENT
BEGIN:VEVENT
DTSTAMP;VALUE=DATE-TIME:20260419T183852Z
DTSTART;VALUE=DATE-TIME:20101206T160000Z
DTEND;VALUE=DATE-TIME:20101206T170000Z
UID:http://jasznaplo.hu/eloadas/jaszbereny-katolikus-elete-konyvbemutato
URL;VALUE=URI:http://jasznaplo.hu/eloadas/jaszbereny-katolikus-elete-konyvbemutato
SUMMARY:Jászberény katolikus élete - könyvbemutató
DESCRIPTION:<p>a Városi könyvtár és Információs Központban</p>
 <p><strong>A 10 éves KÉSZ jubileumi kiállítás</strong></p>
 
END:VEVENT
BEGIN:VEVENT
DTSTAMP;VALUE=DATE-TIME:20260419T183852Z
DTSTART;VALUE=DATE-TIME:20101207T083000Z
DTEND;VALUE=DATE-TIME:20101207T093000Z
UID:http://jasznaplo.hu/szinhaz/holle-anyo-mesejatek
URL;VALUE=URI:http://jasznaplo.hu/szinhaz/holle-anyo-mesejatek
SUMMARY:Holle Anyó - mesejáték
DESCRIPTION:<p>Malom Film Színház </p>
 <p>Regélő Színjátszó Kör\, Jászberény</p>
 
END:VEVENT
BEGIN:VEVENT
DTSTAMP;VALUE=DATE-TIME:20260419T183852Z
DTSTART;VALUE=DATE-TIME:20101207T093000Z
DTEND;VALUE=DATE-TIME:20101207T103000Z
UID:http://jasznaplo.hu/szinhaz/holle-anyo-mesejatek-0
URL;VALUE=URI:http://jasznaplo.hu/szinhaz/holle-anyo-mesejatek-0
SUMMARY:Holle Anyó - mesejáték
DESCRIPTION:<p>Malom Film Színház </p>
 <p>Regélő Színjátszó Kör\, Jászberény</p>
 
END:VEVENT
BEGIN:VEVENT
DTSTAMP;VALUE=DATE-TIME:20260419T183852Z
DTSTART;VALUE=DATE-TIME:20101208T083000Z
DTEND;VALUE=DATE-TIME:20101208T093000Z
UID:http://jasznaplo.hu/szinhaz/holle-anyo-mesejatek-1
URL;VALUE=URI:http://jasznaplo.hu/szinhaz/holle-anyo-mesejatek-1
SUMMARY:Holle Anyó - mesejáték
DESCRIPTION:<p>Malom Film Színház </p>
 <p>Regélő Színjátszó Kör\, Jászberény</p>
 
END:VEVENT
BEGIN:VEVENT
DTSTAMP;VALUE=DATE-TIME:20260419T183852Z
DTSTART;VALUE=DATE-TIME:20101208T093000Z
DTEND;VALUE=DATE-TIME:20101208T103000Z
UID:http://jasznaplo.hu/szinhaz/holle-anyo-mesejatek-2
URL;VALUE=URI:http://jasznaplo.hu/szinhaz/holle-anyo-mesejatek-2
SUMMARY:Holle Anyó - mesejáték
DESCRIPTION:<p>Malom Film Színház </p>
 <p>Regélő Színjátszó Kör\, Jászberény</p>
 
END:VEVENT
BEGIN:VEVENT
DTSTAMP;VALUE=DATE-TIME:20260419T183852Z
DTSTART;VALUE=DATE-TIME:20101208T170000Z
DTEND;VALUE=DATE-TIME:20101208T180000Z
UID:http://jasznaplo.hu/eloadas/jasz-ostorteneti-eloadas
URL;VALUE=URI:http://jasznaplo.hu/eloadas/jasz-ostorteneti-eloadas
SUMMARY:Jász őstörténeti előadás
DESCRIPTION:<p>Déryné Művelődési Központ</p>
 <p>Kiss Zsolt szociálpszichológus előadása a Szarmata - Yazig - Jász rokonságról</p>
 
END:VEVENT
BEGIN:VEVENT
DTSTAMP;VALUE=DATE-TIME:20260419T183852Z
DTSTART;VALUE=DATE-TIME:20101209T160000Z
DTEND;VALUE=DATE-TIME:20101209T180000Z
UID:http://jasznaplo.hu/egyeb/adventi-musor
URL;VALUE=URI:http://jasznaplo.hu/egyeb/adventi-musor
SUMMARY:Adventi műsor
DESCRIPTION:<p><strong>17.30 Lehel Vezér Gimnázium tanulóinak<br />
 adventi mûsora</strong><br />
 Déryné Művelődési Központ </p>
 <p><strong></strong></p>
 
END:VEVENT
BEGIN:VEVENT
DTSTAMP;VALUE=DATE-TIME:20260419T183852Z
DTSTART;VALUE=DATE-TIME:20101211T080000Z
DTEND;VALUE=DATE-TIME:20101211T120000Z
UID:http://jasznaplo.hu/egyeb/iv-jatek-ajandek-es-hobbi-borze
URL;VALUE=URI:http://jasznaplo.hu/egyeb/iv-jatek-ajandek-es-hobbi-borze
SUMMARY:IV. Játék-\, ajándék- és hobbi börze
DESCRIPTION:<p>Családi program!</p>
 <p><strong><em>December 11. 9.00-13.00 óráig<br />
 </em></strong>a DMK Ifjúsági Házban</p>
 
END:VEVENT
BEGIN:VEVENT
DTSTAMP;VALUE=DATE-TIME:20260419T183852Z
DTSTART;VALUE=DATE-TIME:20101211T100000Z
DTEND;VALUE=DATE-TIME:20101211T110000Z
UID:http://jasznaplo.hu/szinhaz/moha-es-pafrany-babmusor-ovodasoknak
URL;VALUE=URI:http://jasznaplo.hu/szinhaz/moha-es-pafrany-babmusor-ovodasoknak
SUMMARY:Moha és Páfrány bábmûsor óvodásoknak
DESCRIPTION:<p>Déryné Művelődési Központ<br />
 A belépés díjtalan.</p>
 
END:VEVENT
BEGIN:VEVENT
DTSTAMP;VALUE=DATE-TIME:20260419T183852Z
DTSTART;VALUE=DATE-TIME:20101211T120000Z
DTEND;VALUE=DATE-TIME:20101211T130000Z
UID:http://jasznaplo.hu/szinhaz/didergo-kiraly-babmusor-kisiskolasoknak
URL;VALUE=URI:http://jasznaplo.hu/szinhaz/didergo-kiraly-babmusor-kisiskolasoknak
SUMMARY:A didergõ király bábmûsor kisiskolásoknak
DESCRIPTION:<p>Déryné Művelődési Központ<br />
 A Belépés díjtalan. </p>
 <p> </p>
 
END:VEVENT
BEGIN:VEVENT
DTSTAMP;VALUE=DATE-TIME:20260419T183852Z
DTSTART;VALUE=DATE-TIME:20101211T183000Z
DTEND;VALUE=DATE-TIME:20101211T193000Z
UID:http://jasznaplo.hu/szinhaz/orfeumjatek
URL;VALUE=URI:http://jasznaplo.hu/szinhaz/orfeumjatek
SUMMARY:Orfeumjáték
DESCRIPTION:<p>Malom Film Színház </p>
 <p>Budapesti mesék - Fehér Anna\, Kerekes József\, Lux Ádám előadása<br />
 Rendező\: Hada János</p>
 
END:VEVENT
BEGIN:VEVENT
DTSTAMP;VALUE=DATE-TIME:20260419T183852Z
DTSTART;VALUE=DATE-TIME:20101212T080000Z
DTEND;VALUE=DATE-TIME:20101212T140000Z
UID:http://jasznaplo.hu/egyeb/luca-napi-nepmuveszeti-vasar-jasz-muzeumban
URL;VALUE=URI:http://jasznaplo.hu/egyeb/luca-napi-nepmuveszeti-vasar-jasz-muzeumban
SUMMARY:Luca napi népművészeti vásár a Jász Múzeumban
DESCRIPTION:<p>Luca napi népművészeti vásár a Jász Múzeumban<br />
 2010. december 12-én (vasárnap)<br />
 9 – 15 óráig<br />
 Gazdag kínálat a jászsági kézművesek munkáiból</p>
 <p>10.00 és 12.00 órakor<br />
 Lucázás\, karácsonyi énekek<br />
 14.00 órakor<br />
 Tombolasorsolás</p>
 <p>Közreműködnek\:<br />
 a Jászsági Hagyományőrző Egylet tagjai</p>
 <p>Minden érdeklődőt szeretettel várunk !</p>
 
END:VEVENT
BEGIN:VEVENT
DTSTAMP;VALUE=DATE-TIME:20260419T183852Z
DTSTART;VALUE=DATE-TIME:20101212T100000Z
DTEND;VALUE=DATE-TIME:20101212T170000Z
UID:http://jasznaplo.hu/egyeb/karacsonyi-musorok-foteri-fenyofanal
URL;VALUE=URI:http://jasznaplo.hu/egyeb/karacsonyi-musorok-foteri-fenyofanal
SUMMARY:Karácsonyi műsorok a főtéri fenyőfánál
DESCRIPTION:<p><strong>11.00 „Szabad-e kendtek házánál Lucázni?”</strong><br />
 adventi szokások a Jászságból - a főtéri fenyőfánál<br />
 <strong>Jászsági Hagyományőrző Egylet</strong><br />
 <strong>15.30 Karácsony köszöntõ </strong>- főtéri fenyőfa<br />
 <strong>Gróf Apponyi A. Ált. Isk. és Alapfokú Művészetokt. Int.</strong><br />
 <strong>16.00 3. Adventi gyertyagyújtás</strong><br />
 <strong>Juhász Dániel</strong> alpolgármester<br />
 <strong>Szabó Róbert</strong> református lelkész</p>
 
END:VEVENT
BEGIN:VEVENT
DTSTAMP;VALUE=DATE-TIME:20260419T183852Z
DTSTART;VALUE=DATE-TIME:20101212T150000Z
DTEND;VALUE=DATE-TIME:20101212T160000Z
UID:http://jasznaplo.hu/szinhaz/pasztorzene-es-mesek
URL;VALUE=URI:http://jasznaplo.hu/szinhaz/pasztorzene-es-mesek
SUMMARY:Pásztorzene és mesék
DESCRIPTION:<p>Malom Film Színház</p>
 <p>Zöld erdőben lakom... - A 93 éves Pál István előadása<br />
 Közreműködik\: Dsupin Pál és Juhász Zoltán (duda\, furulya\, flóta\, citera)</p>
 
END:VEVENT
BEGIN:VEVENT
DTSTAMP;VALUE=DATE-TIME:20260419T183852Z
DTSTART;VALUE=DATE-TIME:20101212T160000Z
DTEND;VALUE=DATE-TIME:20101212T173000Z
UID:http://jasznaplo.hu/koncert/puszta-country-band-koncertje
URL;VALUE=URI:http://jasznaplo.hu/koncert/puszta-country-band-koncertje
SUMMARY:Puszta Country Band koncertje
DESCRIPTION:<p>Déryné Művelődési Központ</p>
 <p>A belépés díjtalan.</p>
 
END:VEVENT
BEGIN:VEVENT
DTSTAMP;VALUE=DATE-TIME:20260419T183852Z
DTSTART;VALUE=DATE-TIME:20101212T170000Z
DTEND;VALUE=DATE-TIME:20101212T180000Z
UID:http://jasznaplo.hu/hangverseny/palotasy-janos-vegyeskar-karacsonyi-hangversenye
URL;VALUE=URI:http://jasznaplo.hu/hangverseny/palotasy-janos-vegyeskar-karacsonyi-hangversenye
SUMMARY:Palotásy János Vegyeskar karácsonyi hangversenye
DESCRIPTION:<p>Ferences Templom<br />
 PALOTÁSY JÁNOS VEGYESKAR KARÁCSONYI HANGVERSENYE<br />
 Zongorán kísér\: Farkasné Szőke Tünde<br />
 Vezényel\: Bedőné Bakki Katalin<br />
 Thormanné Husznay Mária<br />
 A hangverseny keretében a kórus megemlékezik Kodály Zoltán születésének 128. évfordulójáról és a Magyar Kórusok Napjáról.<br />
 A hangversenyre a belépés díjtalan.</p>
 
END:VEVENT
BEGIN:VEVENT
DTSTAMP;VALUE=DATE-TIME:20260419T183852Z
DTSTART;VALUE=DATE-TIME:20101213T080000Z
DTEND;VALUE=DATE-TIME:20101218T150000Z
UID:http://jasznaplo.hu/kiallitas/%E2%80%9Ekaracsonyi-angyalok%E2%80%9D-%E2%80%93-kezmuves-kiallitas
URL;VALUE=URI:http://jasznaplo.hu/kiallitas/%E2%80%9Ekaracsonyi-angyalok%E2%80%9D-%E2%80%93-kezmuves-kiallitas
SUMMARY:„Karácsonyi Angyalok” – kézmûves kiállítás
DESCRIPTION:<p>Déryné Művelődési Központ díszterme</p>
 
END:VEVENT
BEGIN:VEVENT
DTSTAMP;VALUE=DATE-TIME:20260419T183852Z
DTSTART;VALUE=DATE-TIME:20101215T170000Z
DTEND;VALUE=DATE-TIME:20101215T190000Z
UID:http://jasznaplo.hu/eloadas/leleksegek-klub
URL;VALUE=URI:http://jasznaplo.hu/eloadas/leleksegek-klub
SUMMARY:Lélekségek Klub
DESCRIPTION:<p>a Déryné Művelődési Központban</p>
 <p>Téma\: Angyalok földön-égen</p>
 <p>A beszélgetést vezeti\: Horváth Jutka pszichológus<br />
 A belépés díjtalan.<br />
 Szeretettel várjuk Önt is!</p>
 
END:VEVENT
BEGIN:VEVENT
DTSTAMP;VALUE=DATE-TIME:20260419T183852Z
DTSTART;VALUE=DATE-TIME:20101216T153000Z
DTEND;VALUE=DATE-TIME:20101216T163000Z
UID:http://jasznaplo.hu/egyeb/fozocske-klub
URL;VALUE=URI:http://jasznaplo.hu/egyeb/fozocske-klub
SUMMARY:FŐZŐCSKE KLUB
DESCRIPTION:<p>Déryné Mûvelõdési Központ </p>
 <p>&#160\;</p>
 <p><strong></strong></p>
 <p>Gesztenyés ételek</p>
 <p></p>
 <p>Klubvezetõ\: <strong>Kisbakonyi Zoltánné<br />
 </strong>A belépés díjtalan.</p>
 
END:VEVENT
BEGIN:VEVENT
DTSTAMP;VALUE=DATE-TIME:20260419T183852Z
DTSTART;VALUE=DATE-TIME:20101216T163000Z
DTEND;VALUE=DATE-TIME:20101216T180000Z
UID:http://jasznaplo.hu/hangverseny/palotasy-janos-zeneiskola-karacsonyi-novendek-hangversenye
URL;VALUE=URI:http://jasznaplo.hu/hangverseny/palotasy-janos-zeneiskola-karacsonyi-novendek-hangversenye
SUMMARY:Palotásy János Zeneiskola karácsonyi növendék hangversenye
DESCRIPTION:<p>December 16. (csütörtök) 17.30 óra<br />
 Déryné Művelődési Központ díszterme<br />
 PALOTÁSY JÁNOS ZENEISKOLA KARÁCSONYI NÖVENDÉK HANGVERSENYE<br />
 Közreműködnek a Palotásy János Zeneiskola és Alapfokú Művészetoktatási Intézmény növendékei\, tanárai<br />
 A hangversenyre a belépés díjtalan.</p>
 
END:VEVENT
BEGIN:VEVENT
DTSTAMP;VALUE=DATE-TIME:20260419T183852Z
DTSTART;VALUE=DATE-TIME:20101217T170000Z
DTEND;VALUE=DATE-TIME:20101217T180000Z
UID:http://jasznaplo.hu/szinhaz/drama-egy-reszben
URL;VALUE=URI:http://jasznaplo.hu/szinhaz/drama-egy-reszben
SUMMARY:Dráma egy részben
DESCRIPTION:<p>Malom Film Színház</p>
 <p>És Rómeó és Júlia... - Nagy-Kálóczy Eszter és Rudolf Péter előadása</p>
 
END:VEVENT
BEGIN:VEVENT
DTSTAMP;VALUE=DATE-TIME:20260419T183852Z
DTSTART;VALUE=DATE-TIME:20101218T083000Z
DTEND;VALUE=DATE-TIME:20101218T120000Z
UID:http://jasznaplo.hu/egyeb/adventi-fenyek-jatszohaz
URL;VALUE=URI:http://jasznaplo.hu/egyeb/adventi-fenyek-jatszohaz
SUMMARY:Adventi fények - játszóház
DESCRIPTION:<p><strong></strong></p>
 <p>a Déryné Művelődési Központban</p>
 <p>Adventi fények<br />
 Karácsonyi játszóház<br />
 kicsiknek-nagyoknak</p>
 <p>10.30 óra<br />
 Kelepelő Bábcsoport műsora</p>
 <p>Kézműves programok\, bábműsor\,<br />
 Karácsonyi angyal kézműves pályázat eredményhirdetése</p>
 <p></p>
 
END:VEVENT
BEGIN:VEVENT
DTSTAMP;VALUE=DATE-TIME:20260419T183852Z
DTSTART;VALUE=DATE-TIME:20101218T120000Z
DTEND;VALUE=DATE-TIME:20101218T133000Z
UID:http://jasznaplo.hu/vetites/csingiling-es-nagy-tundermentes-cimu-mesefilm-vetitese
URL;VALUE=URI:http://jasznaplo.hu/vetites/csingiling-es-nagy-tundermentes-cimu-mesefilm-vetitese
SUMMARY:Csingiling és a nagy tündérmentés című mesefilm vetítése
DESCRIPTION:<p>Malom Film Színház</p>
 
END:VEVENT
BEGIN:VEVENT
DTSTAMP;VALUE=DATE-TIME:20260419T183852Z
DTSTART;VALUE=DATE-TIME:20101218T150000Z
DTEND;VALUE=DATE-TIME:20101218T160000Z
UID:http://jasznaplo.hu/szinhaz/eneklo-kalendarium
URL;VALUE=URI:http://jasznaplo.hu/szinhaz/eneklo-kalendarium
SUMMARY:Éneklő kalendárium
DESCRIPTION:<p>Malom Film Színház</p>
 <p>Betlehem kis falujában... - BaHorKa Énekegyüttes</p>
 
END:VEVENT
BEGIN:VEVENT
DTSTAMP;VALUE=DATE-TIME:20260419T183852Z
DTSTART;VALUE=DATE-TIME:20101218T160000Z
DTEND;VALUE=DATE-TIME:20101218T170000Z
UID:http://jasznaplo.hu/hangverseny/jaszberenyi-nagyboldogasszony-fotemplom-enekkaranak-karacsonyi-hangversenye
URL;VALUE=URI:http://jasznaplo.hu/hangverseny/jaszberenyi-nagyboldogasszony-fotemplom-enekkaranak-karacsonyi-hangversenye
SUMMARY:A Jászberényi Nagyboldogasszony Főtemplom Énekkarának karácsonyi hangversenye
DESCRIPTION:<p>Főtemplom<br />
 A JÁSZBERÉNYI NAGYBOLDOGASSZONY FŐTEMPLOM ÉNEKKARÁNAK KARÁCSONYI HANGVERSENYE<br />
 Vezényel\: Beniczki Béla<br />
 A hangversenyre a belépés díjtalan.</p>
 
END:VEVENT
BEGIN:VEVENT
DTSTAMP;VALUE=DATE-TIME:20260419T183852Z
DTSTART;VALUE=DATE-TIME:20101219T140000Z
DTEND;VALUE=DATE-TIME:20101219T153000Z
UID:http://jasznaplo.hu/vetites/shrek-itt-vege-fuss-el-vele-filmvetites
URL;VALUE=URI:http://jasznaplo.hu/vetites/shrek-itt-vege-fuss-el-vele-filmvetites
SUMMARY:Shrek itt a vége fuss el véle - filmvetítés
DESCRIPTION:<p>Malom Film Színház</p>
 
END:VEVENT
BEGIN:VEVENT
DTSTAMP;VALUE=DATE-TIME:20260419T183852Z
DTSTART;VALUE=DATE-TIME:20101219T143000Z
DTEND;VALUE=DATE-TIME:20101219T160000Z
UID:http://jasznaplo.hu/hangverseny/deryne-vegyeskar-karacsonyi-hangversenye
URL;VALUE=URI:http://jasznaplo.hu/hangverseny/deryne-vegyeskar-karacsonyi-hangversenye
SUMMARY:Déryné Vegyeskar karácsonyi hangversenye
DESCRIPTION:<p>Ferences Templom<br />
 DÉRYNÉ VEGYESKAR KARÁCSONYI HANGVERSENYE<br />
 Szólót énekel\: Banka Sándorné<br />
 Zongorán kísér\: Gaál Andrea Ferencz Sándor karnagy<br />
 Vezényel\: Ferencz Sándor<br />
 Vendégként fellép az Árokszállási Óvónők Kamarakórusa<br />
 A kórus vezetője Csikós Lászlóné<br />
 A hangversenyre a belépés díjtalan.</p>
 
END:VEVENT
BEGIN:VEVENT
DTSTAMP;VALUE=DATE-TIME:20260419T183852Z
DTSTART;VALUE=DATE-TIME:20101219T150000Z
DTEND;VALUE=DATE-TIME:20101219T170000Z
UID:http://jasznaplo.hu/egyeb/4-adventi-gyertyagyujtas
URL;VALUE=URI:http://jasznaplo.hu/egyeb/4-adventi-gyertyagyujtas
SUMMARY:4. Adventi gyertyagyújtás
DESCRIPTION:<p>a főtéri fenyőfánál<br />
 <strong>Szatmári Antalné</strong> HEB elnöke<br />
 <strong>Kovács Tamás </strong>káplán<br />
 <strong>A 298.sz. Lehel vezér cserkészcsapat és </strong><br />
 <strong>a Jászberényi Nagyboldogasszony <br />
 Főtemplom Énekkarának műsora</strong></p>
 
END:VEVENT
BEGIN:VEVENT
DTSTAMP;VALUE=DATE-TIME:20260419T183852Z
DTSTART;VALUE=DATE-TIME:20101221T130000Z
DTEND;VALUE=DATE-TIME:20101221T140000Z
UID:http://jasznaplo.hu/egyeb/gyermekek-karacsonya
URL;VALUE=URI:http://jasznaplo.hu/egyeb/gyermekek-karacsonya
SUMMARY:Gyermekek karácsonya
DESCRIPTION:<p>Főtemplom</p>
 
END:VEVENT
BEGIN:VEVENT
DTSTAMP;VALUE=DATE-TIME:20260419T183852Z
DTSTART;VALUE=DATE-TIME:20101221T170000Z
DTEND;VALUE=DATE-TIME:20101221T183000Z
UID:http://jasznaplo.hu/szinhaz/deryne-emleknap
URL;VALUE=URI:http://jasznaplo.hu/szinhaz/deryne-emleknap
SUMMARY:Déryné emléknap
DESCRIPTION:<p>Malom Film Színház</p>
 <p>Életjelenetek Déryné naplója alapján - Varga Kata színművésznő\, Sipos Marianna operaénekesnő és Mazalin Wanda zongoraművész előadása</p>
 
END:VEVENT
BEGIN:VEVENT
DTSTAMP;VALUE=DATE-TIME:20260419T183852Z
DTSTART;VALUE=DATE-TIME:20101222T090000Z
DTEND;VALUE=DATE-TIME:20101222T103000Z
UID:http://jasznaplo.hu/egyeb/karacsonyi-kezmuves-jatszohaz
URL;VALUE=URI:http://jasznaplo.hu/egyeb/karacsonyi-kezmuves-jatszohaz
SUMMARY:Karácsonyi kézműves játszóház
DESCRIPTION:<p>a Déryné Művelődési Központban</p>
 <p>Karácsonyi kézműves játszóház</p>
 <p>Karácsonyfadíszek\, ablakdíszek\,<br />
 ünnepi készülődés</p>
 <p>A szünidőben ne unatkozz\, gyere és alkoss!</p>
 
END:VEVENT
END:VCALENDAR
