BEGIN:VCALENDAR
VERSION:2.0
METHOD:PUBLISH
X-WR-CALNAME:Jász Napló |  július 30 2010- augusztus 29 2010
PRODID:-//strange bird labs//Drupal iCal API//EN
BEGIN:VEVENT
DTSTAMP;VALUE=DATE-TIME:20260421T110544Z
DTSTART;VALUE=DATE-TIME:20100705T093200Z
DTEND;VALUE=DATE-TIME:20100831T093200Z
UID:http://jasznaplo.hu/kiallitas/konyv-es-konyvtar-ex-librisen-kiallitas
URL;VALUE=URI:http://jasznaplo.hu/kiallitas/konyv-es-konyvtar-ex-librisen-kiallitas
SUMMARY:Könyv és könyvtár ex librisen - kiállítás
DESCRIPTION:<p>Városi Könyvtár és Információs Központ<br />
 Megnyitó\:<br />
 <strong><em>2010. július. 5. (hétfõ)<br />
 </em></strong>A kiállítás megtekinthetõ a könyvtár nyitvatartási idejében.</p>
 
END:VEVENT
BEGIN:VEVENT
DTSTAMP;VALUE=DATE-TIME:20260421T110544Z
DTSTART;VALUE=DATE-TIME:20100720T090000Z
DTEND;VALUE=DATE-TIME:20100731T120000Z
UID:http://jasznaplo.hu/litkei-jozsef-kiallitasa
URL;VALUE=URI:http://jasznaplo.hu/litkei-jozsef-kiallitasa
SUMMARY:Litkei József kiállítása
DESCRIPTION:<p>Déryné u. 6.<br />
 Megnyitó\:  <strong><em>július 20. (kedd) 16.00 óra<br />
 </em></strong>Megnyitja\: <strong><em>Papp Oszkár </em></strong>Kossuth-díjas festõmûvész<br />
 Látogatható\:<br />
 <strong><em>hétköznap 10.00-17.00 óráig<br />
 szombat 10.00-13.00 óráig<br />
 vasárnap zárva</em></strong></p>
 <p>&#160\;</p>
 
END:VEVENT
BEGIN:VEVENT
DTSTAMP;VALUE=DATE-TIME:20260421T110544Z
DTSTART;VALUE=DATE-TIME:20100721T090000Z
DTEND;VALUE=DATE-TIME:20100731T160000Z
UID:http://jasznaplo.hu/jotekonysagi-kiallitas-es-vasar
URL;VALUE=URI:http://jasznaplo.hu/jotekonysagi-kiallitas-es-vasar
SUMMARY:Jótékonysági kiállítás és vásár
DESCRIPTION:<p>Árpád u. 2. </p>
 <p><strong></strong></p>
 <p>JÓTÉKONYSÁGI KIÁLLÍTÁS ÉS VÁSÁR</p>
 <p><strong></strong></p>
 <p>Farkas Ricsi<br />
 jászberényi kisfiú támogatására</p>
 <p></p>
 <p>&#160\;</p>
 <p>A kiállított tárgyak árverésének idõpontja\: <strong><em>július 31. (szombat) 16.00 óra</em></strong></p>
 <p>Megnyitó\:<br />
 <strong><em>július 21. (szerda) 17.00 óra</em></strong></p>
 <p>Látogatható\:<br />
 <strong><em>naponta 10.00-17.00 óráig</em></strong></p>
 <p>Rendezõ\:<br />
 <strong>Sós Attila és családja<br />
 Jászberényi Asztma Klub</strong></p>
 
END:VEVENT
BEGIN:VEVENT
DTSTAMP;VALUE=DATE-TIME:20260421T110544Z
DTSTART;VALUE=DATE-TIME:20100723T090000Z
DTEND;VALUE=DATE-TIME:20100812T160000Z
UID:http://jasznaplo.hu/%E2%80%9Evastol-az-ezustig-kiallitas
URL;VALUE=URI:http://jasznaplo.hu/%E2%80%9Evastol-az-ezustig-kiallitas
SUMMARY:„Vastól az ezüstig\\" - kiállítás
DESCRIPTION:<p>Városi Bíróság<strong> </strong></p>
 <p>„Vastól az ezüstig&quot\;<br />
 A MAGYAR KÉPZÕMÛVÉSZEK ÉS IPARMÛVÉSZEK SZÖVETSÉGE<br />
 ÖTVÖSMÛVÉSZETI SZAKOSZTÁLYÁNAK ORSZÁGOS KIÁLLÍTÁSA </p>
 <p></p>
 <p>&#160\;</p>
 <p>Megnyitó\:<br />
 <strong><em>július 23. (péntek) 16.00 óra</em></strong> </p>
 <p>Látogatható\:<br />
 <strong><em>hétköznap 10.00-17.00 óráig<br />
 szombat 10.00-13.00 óráig<br />
 augusztus 8-án vasárnap<br />
 10.00-13.00 óráig</em></strong></p>
 
END:VEVENT
BEGIN:VEVENT
DTSTAMP;VALUE=DATE-TIME:20260421T110544Z
DTSTART;VALUE=DATE-TIME:20100730T090000Z
DTEND;VALUE=DATE-TIME:20100807T170000Z
UID:http://jasznaplo.hu/%E2%80%9Ekez-mu-kiallitas
URL;VALUE=URI:http://jasznaplo.hu/%E2%80%9Ekez-mu-kiallitas
SUMMARY:„KÉZ-MŰ\\" - kiállítás
DESCRIPTION:<p>Ipartestület Székháza<br />
 (Petõfi Sándor utca 1.)</p>
 <p><strong></strong></p>
 <p>„KÉZ-MÛ&quot\; JÁSZBERÉNY ÉS KÖRNYÉKE IPARTESTÜLET KIÁLLÍTÁSA</p>
 <p></p>
 <p>Megnyitó\:<br />
 <strong><em>július 30. (péntek) 17.00 óra</em></strong></p>
 <p>Látogatható\:<br />
 <strong><em>10.00-18.00 óráig</em></strong></p>
 
END:VEVENT
BEGIN:VEVENT
DTSTAMP;VALUE=DATE-TIME:20260421T110544Z
DTSTART;VALUE=DATE-TIME:20100730T193000Z
DTEND;VALUE=DATE-TIME:20100730T213000Z
UID:http://jasznaplo.hu/charley-nenje-zenes-bohozat
URL;VALUE=URI:http://jasznaplo.hu/charley-nenje-zenes-bohozat
SUMMARY:Charley nénje - zenés bohózat
DESCRIPTION:<p>Szabadtéri Színpad </p>
 <p>A MALOM Film-Színház nyári színházi programja </p>
 <p>Brandon Thomas- Aldobólyi Nagy György – Szenes Iván<br />
 <strong>Charley nénje </strong>- zenés bohózat két részben - a Pódium Színház elõadásában\, amely nagyrészt a Madách Színház mûvészeibõl és tagjaiból alakult </p>
 <p>&#160\;</p>
 
END:VEVENT
BEGIN:VEVENT
DTSTAMP;VALUE=DATE-TIME:20260421T110544Z
DTSTART;VALUE=DATE-TIME:20100731T150000Z
DTEND;VALUE=DATE-TIME:20100731T163000Z
UID:http://jasznaplo.hu/nota-dal-operett-musor
URL;VALUE=URI:http://jasznaplo.hu/nota-dal-operett-musor
SUMMARY:Nóta-dal-operett műsor
DESCRIPTION:<p>Portelki Általános Iskola udvara</p>
 <p><strong></strong></p>
 <p>NÓTA-DAL-OPERETT MÛSOR</p>
 <p></p>
 <p>Fellépnek a budapesti <strong>Morvay Károly Nóta- és Dalkör</strong> mûvészei.</p>
 <p>Mûsorvezetõ-rendezõ\: <strong>Veiczi Irma</strong> (Cila mama)</p>
 <p>A belépés díjtalan.</p>
 
END:VEVENT
BEGIN:VEVENT
DTSTAMP;VALUE=DATE-TIME:20260421T110544Z
DTSTART;VALUE=DATE-TIME:20100731T180000Z
DTEND;VALUE=DATE-TIME:20100731T210000Z
UID:http://jasznaplo.hu/xvi-tarsastanc-gala
URL;VALUE=URI:http://jasznaplo.hu/xvi-tarsastanc-gala
SUMMARY:XVI. Társastánc gála
DESCRIPTION:<p>Szabadtéri Színpad </p>
 <p><strong></strong></p>
 <p>XVI. TÁRSASTÁNC GÁLA </p>
 <p></p>
 <p>Sztár vendég\:<br />
 Köcse György - Stana Alexandra<br />
 Show tánc VB 2009 és 2010 évi bajnokai<br />
 A belépés díjtalan.</p>
 
END:VEVENT
BEGIN:VEVENT
DTSTAMP;VALUE=DATE-TIME:20260421T110544Z
DTSTART;VALUE=DATE-TIME:20100801T080000Z
DTEND;VALUE=DATE-TIME:20100831T160000Z
UID:http://jasznaplo.hu/diszitomuveszeti-kiallitas-0
URL;VALUE=URI:http://jasznaplo.hu/diszitomuveszeti-kiallitas-0
SUMMARY:Díszítőművészeti kiállítás
DESCRIPTION:<p>Déryné Mûvelõdési Központ aula</p>
 <p><strong></strong></p>
 <p>FEJÉR MÁRIA NÉPI DÍSZITÕMÛVÉSZETI SZAKKÖR KIÁLLÍTÁSA</p>
 <p></p>
 
END:VEVENT
BEGIN:VEVENT
DTSTAMP;VALUE=DATE-TIME:20260421T110544Z
DTSTART;VALUE=DATE-TIME:20100801T090000Z
DTEND;VALUE=DATE-TIME:20100801T170000Z
UID:http://jasznaplo.hu/porciunkula-bucsu
URL;VALUE=URI:http://jasznaplo.hu/porciunkula-bucsu
SUMMARY:PORCIUNKULA BÚCSÚ 
DESCRIPTION:<p>Ferences Templom <br />
 10.00 óra Szentmise majd azt követően körmenet</p>
 
END:VEVENT
BEGIN:VEVENT
DTSTAMP;VALUE=DATE-TIME:20260421T110544Z
DTSTART;VALUE=DATE-TIME:20100803T081000Z
DTEND;VALUE=DATE-TIME:20100807T160000Z
UID:http://jasznaplo.hu/foltvarrok-kiallitasa
URL;VALUE=URI:http://jasznaplo.hu/foltvarrok-kiallitasa
SUMMARY:Foltvarrók kiállítása
DESCRIPTION:<p>Szent István Ház<br />
 Szentháromság tér 3.<br />
 „Szeretettel adni és szeretve kapni”<br />
 BERÉNYFOLT FOLTVARRÓ CSOPORT 5. KIÁLLÍTÁSA ÉS A JÁSZBERÉNYI KÉZIMUNKÁZÓK BARÁTI KÖRÉNEK MUNKÁI<br />
 Megnyitó\: augusztus 3. (kedd) 15.00 óra<br />
 Látogatható\: 10.00-18.00 óráig</p>
 
END:VEVENT
BEGIN:VEVENT
DTSTAMP;VALUE=DATE-TIME:20260421T110544Z
DTSTART;VALUE=DATE-TIME:20100804T080000Z
DTEND;VALUE=DATE-TIME:20100804T120000Z
UID:http://jasznaplo.hu/origami-verseny
URL;VALUE=URI:http://jasznaplo.hu/origami-verseny
SUMMARY:Origami verseny
DESCRIPTION:<p>Városi Könyvtár és Információs Központ Gyermekrészlege</p>
 <p><strong></strong></p>
 <p>ORIGAMI VERSENY</p>
 <p></p>
 
END:VEVENT
BEGIN:VEVENT
DTSTAMP;VALUE=DATE-TIME:20260421T110544Z
DTSTART;VALUE=DATE-TIME:20100804T090000Z
DTEND;VALUE=DATE-TIME:20100815T160000Z
UID:http://jasznaplo.hu/sarkozi-janos-fotokiallitasa-0
URL;VALUE=URI:http://jasznaplo.hu/sarkozi-janos-fotokiallitasa-0
SUMMARY:Sárközi János fotókiállítása
DESCRIPTION:<p>Déryné u. 6.</p>
 <p><strong></strong></p>
 <p>SÁRKÖZI JÁNOS<br />
 „LÁNYOK PARIPÁKKAL&quot\; CÍMÛ FOTÓKIÁLLÍTÁSA</p>
 <p> Megnyitó\: <strong><em>augusztus 4. (szerda) 16.00 óra</em></strong></p>
 <p></p>
 <p>Megnyitja\: <strong>Dr. Gedei József</strong> polgármester </p>
 <p>A kiállítások látogathatók\:<br />
 <strong><em>hétköznap 10.00-17.00 óráig<br />
 </em></strong><strong><em>szombat 10.00-13.00 óráig<br />
 vasárnap 8.00-13.00 óráig</em></strong></p>
 
END:VEVENT
BEGIN:VEVENT
DTSTAMP;VALUE=DATE-TIME:20260421T110544Z
DTSTART;VALUE=DATE-TIME:20100804T090000Z
DTEND;VALUE=DATE-TIME:20100815T160000Z
UID:http://jasznaplo.hu/jasz-szinfolt-foltvarro-klub-kiallitasa
URL;VALUE=URI:http://jasznaplo.hu/jasz-szinfolt-foltvarro-klub-kiallitasa
SUMMARY:Jász-Színfolt Foltvarró Klub kiállítása
DESCRIPTION:<p>Déryné u. 6.</p>
 <p><strong>JÁSZ-SZÍNFOLT FOLTVARRÓ KLUB 15. JUBILEUMI KIÁLLÍTÁSA</strong></p>
 <p>Megnyitó\:<strong> </strong><em><strong>augusztus 4. (szerda) 16.00 óra</strong></em></p>
 <p>Megnyitja\:<strong> </strong><strong>Sas István\,</strong> a Déryné Mûvelõdési Központ igazgatója</p>
 
END:VEVENT
BEGIN:VEVENT
DTSTAMP;VALUE=DATE-TIME:20260421T110544Z
DTSTART;VALUE=DATE-TIME:20100806T090000Z
DTEND;VALUE=DATE-TIME:20100808T160000Z
UID:http://jasznaplo.hu/fa-es-butor-kiallitas
URL;VALUE=URI:http://jasznaplo.hu/fa-es-butor-kiallitas
SUMMARY:Fa és bútor kiállítás
DESCRIPTION:<p> Klapka György SZKI Tornacsarnoka<br />
 7. FA ÉS BÚTOR KIÁLLÍTÁS<br />
 Megnyitó\: augusztus 6. (péntek)<br />
 Rendezők\: Országos Asztalos és Faipari Szövetség Megyei Szervezete Magyar Iparszövetség OKISZ Jász -Nagykun-Szolnok Megyei Kereskedelmi és Iparkamara</p>
 
END:VEVENT
BEGIN:VEVENT
DTSTAMP;VALUE=DATE-TIME:20260421T110544Z
DTSTART;VALUE=DATE-TIME:20100807T070000Z
DTEND;VALUE=DATE-TIME:20100807T180000Z
UID:http://jasznaplo.hu/3-amator-fogathajto-verseny
URL;VALUE=URI:http://jasznaplo.hu/3-amator-fogathajto-verseny
SUMMARY:3. Amatőr fogathajtó verseny
DESCRIPTION:<p>Electrolux Lehel Kft. melletti füves pálya<br />
 3. AMATŐR FOGATHAJTÓ VERSENY<br />
 Rendező\: JSE Fogathajtó Szakosztály<br />
 Információ\: 30/925-34-10</p>
 
END:VEVENT
BEGIN:VEVENT
DTSTAMP;VALUE=DATE-TIME:20260421T110544Z
DTSTART;VALUE=DATE-TIME:20100807T090000Z
DTEND;VALUE=DATE-TIME:20100807T150000Z
UID:http://jasznaplo.hu/egyeb/xxiii-nemzetkozi-mezvasar-es-mehesztalalkozo
URL;VALUE=URI:http://jasznaplo.hu/egyeb/xxiii-nemzetkozi-mezvasar-es-mehesztalalkozo
SUMMARY:XXIII. Nemzetközi mézvásár és méhésztalálkozó
DESCRIPTION:<p>PROGRAMOK<br />
 Bercsényi úti Sportcsarnok (Jászberény\,Bercsényi u. 11.)<br />
 10.00 óra Megnyitó<br />
 10.30 óra Mézkirálynő jelöltek felvonulása<br />
 10.45 óra Élő méhcsalád kezelésének bemutatója méhszúrás veszélye nélkül<br />
 11.00 óra Füstölőgyújtó és keretszegező verseny<br />
 11.30 óra Mézes sütemények\, mézeskalács bemutató<br />
 12.00 óra KULTURÁLIS MŰSOR Sztárvendég\: Eszményi Viktória és Heiligh Gábor<br />
 14.30 óra Mézkirálynő választás Tombolasorsolás Főnyeremény\: 28 NB 1/2 keretes rozsdamentes\, automataszabályzós 220 V-os pergető a Dávid Méhészeti Eszköz és Gépgyártótól – értéke 350.000.-Ft.<br />
 8.00-15.00 óra Méhészeti eszközök kiállítása és vására\,<br />
 kis- és nagytételű mézértékesítés<br />
 Méhészek\, mézfelvásárlók\, méhészeti eszközgyártók találkozója<br />
 Méz és méhészeti termékek kóstolója</p>
 
END:VEVENT
BEGIN:VEVENT
DTSTAMP;VALUE=DATE-TIME:20260421T110544Z
DTSTART;VALUE=DATE-TIME:20100810T170000Z
DTEND;VALUE=DATE-TIME:20100810T190000Z
UID:http://jasznaplo.hu/ifju-muzsikusok-estje-3
URL;VALUE=URI:http://jasznaplo.hu/ifju-muzsikusok-estje-3
SUMMARY:Ifjú muzsikusok estje
DESCRIPTION:<p>Református Templom </p>
 <p>A belépés díjtalan.</p>
 <p>Rendező\:<br />
 Ifjú Muzsikusok Alapítványa</p>
 
END:VEVENT
BEGIN:VEVENT
DTSTAMP;VALUE=DATE-TIME:20260421T110544Z
DTSTART;VALUE=DATE-TIME:20100811T193000Z
DTEND;VALUE=DATE-TIME:20100811T210000Z
UID:http://jasznaplo.hu/molnar-dixieland-band-koncert
URL;VALUE=URI:http://jasznaplo.hu/molnar-dixieland-band-koncert
SUMMARY:Molnár Dixieland Band koncert
DESCRIPTION:<p>Szabadtéri Színpad </p>
 <p>Az együttes vezetője\: <strong>Dr. Molnár Gyula<br />
 </strong>Tagjai\: <strong>Kiszin Miklós</strong>\, <strong>Garay Márta\, </strong><strong>Sallai László\, </strong><strong>Kréter Károly\, </strong><strong>Fajszi Csanád\,<br />
 </strong><strong>Bodó József\, </strong><strong>Mucsi Árpád</strong>\, <strong>Kalocsai Géza<br />
 </strong>Belépődíj\: <strong>1.200.- Ft</strong> </p>
 <p>&#160\;</p>
 
END:VEVENT
BEGIN:VEVENT
DTSTAMP;VALUE=DATE-TIME:20260421T110544Z
DTSTART;VALUE=DATE-TIME:20100812T170000Z
DTEND;VALUE=DATE-TIME:20100812T183000Z
UID:http://jasznaplo.hu/haydn-barytontrio-budapest-egyuttes-koncertje
URL;VALUE=URI:http://jasznaplo.hu/haydn-barytontrio-budapest-egyuttes-koncertje
SUMMARY:Haydn Barytontrio Budapest Együttes koncertje
DESCRIPTION:<p>Jász Múzeum kertje<br />
 A pompakedvelő Esterházy Miklós herceg udvari muzsikája.<br />
 Belépő\: 800.- Ft</p>
 
END:VEVENT
BEGIN:VEVENT
DTSTAMP;VALUE=DATE-TIME:20260421T110544Z
DTSTART;VALUE=DATE-TIME:20100813T080000Z
DTEND;VALUE=DATE-TIME:20100815T170000Z
UID:http://jasznaplo.hu/retsagi-gyula
URL;VALUE=URI:http://jasznaplo.hu/retsagi-gyula
SUMMARY:Rétsági Gyula 
DESCRIPTION:<p>Városi stadion és mûfüves labdarúgópálya</p>
 <p><strong></strong></p>
 <p>RÉTSÁGI GYULA NEMZETKÖZI UTÁNPÓTLÁS LABDARÚGÓ TORNA</p>
 <p></p>
 <p>Információ\:<br />
 <strong>Eszes Kornél<br />
 70/360-91-85</strong></p>
 
END:VEVENT
BEGIN:VEVENT
DTSTAMP;VALUE=DATE-TIME:20260421T110544Z
DTSTART;VALUE=DATE-TIME:20100813T190000Z
DTEND;VALUE=DATE-TIME:20100814T010000Z
UID:http://jasznaplo.hu/atrium-buli-0
URL;VALUE=URI:http://jasznaplo.hu/atrium-buli-0
SUMMARY:Átrium buli
DESCRIPTION:<p>Lehel Vezér Gimnázium udvara<br />
 ÁTRIUM BULI<br />
 Közreműködik az Átrium Zenekar.</p>
 
END:VEVENT
BEGIN:VEVENT
DTSTAMP;VALUE=DATE-TIME:20260421T110544Z
DTSTART;VALUE=DATE-TIME:20100813T193000Z
DTEND;VALUE=DATE-TIME:20100813T220000Z
UID:http://jasznaplo.hu/en-es-kisocsem-zenes-bohozat
URL;VALUE=URI:http://jasznaplo.hu/en-es-kisocsem-zenes-bohozat
SUMMARY:Én és a kisöcsém - zenés bohózat
DESCRIPTION:<p>Szabadtéri Színpad<br />
 A MALOM Film-Színház nyári színházi programja<br />
 Eisemann Mihály - Szilágyi László ÉN ÉS A KISÖCSÉM - zenés bohózat két részben<br />
 - Kelemen Félix Koltai Róbert Kelemen Kató Palcskó Emese Vadász Frici Gyebnár Csekka Andersen Zöld Csaba/ Miklós Attila Sas Ömbölin Pál Vas Király Adrián Zolestyák Fila Balázs/ Cvetkó Sándor Piri Udvarias Anna Bözsi Tóth Anita Végrehajtó Lipták Péter </p>
 <p>Jelmez \: <strong>Szeibert Kati\, Tercs Vera<br />
 </strong>Zenei vezetõ\: <strong>Kemény Gábor<br />
 </strong>Rendezõ\: <strong>Koltai Róbert</strong></p>
 <p>Belépõdíj\: 1.500.- Ft</p>
 
END:VEVENT
BEGIN:VEVENT
DTSTAMP;VALUE=DATE-TIME:20260421T110544Z
DTSTART;VALUE=DATE-TIME:20100813T200000Z
DTEND;VALUE=DATE-TIME:20100813T225900Z
UID:http://jasznaplo.hu/allatkerti-ejszaka-1
URL;VALUE=URI:http://jasznaplo.hu/allatkerti-ejszaka-1
SUMMARY:Állatkerti éjszaka
DESCRIPTION:<p>Állat- és Növénykert </p>
 <p><strong></strong></p>
 <p>ÁLLATKERTI ÉJSZAKA </p>
 <p></p>
 <p>Belépõdíj\:<br />
 Felnõtt\: 900.- Ft<br />
 Gyermek\: 700.- Ft </p>
 <p>Nyitva tartás\:<br />
 <strong><em>minden nap 9.00-18.00 óráig<br />
 </em></strong>Információ\: <strong>57/415-010<br />
 </strong>E-mail\: <strong><a href=\\"mailto\:jaszoo@pr.hu\\" rel=\\"nofollow\\">jaszoo@pr.hu</a><br />
 </strong>Web\: <strong><a href=\\"http\://www.jaszberenyzoo.hu/\\" rel=\\"nofollow\\">www.jaszberenyzoo.hu</a></strong></p>
 
END:VEVENT
BEGIN:VEVENT
DTSTAMP;VALUE=DATE-TIME:20260421T110544Z
DTSTART;VALUE=DATE-TIME:20100814T070000Z
DTEND;VALUE=DATE-TIME:20100814T170000Z
UID:http://jasznaplo.hu/nemzetkozi-gorkorcsolya-verseny-0
URL;VALUE=URI:http://jasznaplo.hu/nemzetkozi-gorkorcsolya-verseny-0
SUMMARY:Nemzetközi görkorcsolya verseny
DESCRIPTION:<p>Városi Görkorcsolyapálya</p>
 <p><strong></strong></p>
 <p>JÁSZ-KUPA NEMZETKÖZI GÖRKORCSOLYA VERSENY</p>
 <p></p>
 <p>Információ\:<br />
 <strong>Belovai József<br />
 30/900-63-37</strong></p>
 
END:VEVENT
BEGIN:VEVENT
DTSTAMP;VALUE=DATE-TIME:20260421T110544Z
DTSTART;VALUE=DATE-TIME:20100814T070000Z
DTEND;VALUE=DATE-TIME:20100814T150000Z
UID:http://jasznaplo.hu/jaszsagi-radiosok-nyilt-nap
URL;VALUE=URI:http://jasznaplo.hu/jaszsagi-radiosok-nyilt-nap
SUMMARY:Jászsági Rádiósok - nyílt nap
DESCRIPTION:<p>Szent István Egyetem Alkalmazott Bölcsészeti Kar 2 sz. épület</p>
 <p><strong>JÁSZSÁGI RÁDIÓSOK EGYESÜLETE NYÍLT NAPJA</strong></p>
 <p><strong>Hívójel a Jászberényi Nyár ideje alatt HA7JVN.</strong></p>
 <p><strong>Minden üzemmódban ezzel a jellel hívható <em>8.00-16.00 óráig.</em></strong></p>
 
END:VEVENT
BEGIN:VEVENT
DTSTAMP;VALUE=DATE-TIME:20260421T110544Z
DTSTART;VALUE=DATE-TIME:20100815T070000Z
DTEND;VALUE=DATE-TIME:20100815T170000Z
UID:http://jasznaplo.hu/streetball-bajnoksag
URL;VALUE=URI:http://jasznaplo.hu/streetball-bajnoksag
SUMMARY:STREETBALL BAJNOKSÁG
DESCRIPTION:<p>Liska József SZKI udvara</p>
 <p>Rendezõ\:<br />
 <strong>Jászberényi Kosárlabda SE</strong> </p>
 <p>Információ\:<br />
 <strong>Nagy József<br />
 30/207-50-25</strong></p>
 
END:VEVENT
BEGIN:VEVENT
DTSTAMP;VALUE=DATE-TIME:20260421T110544Z
DTSTART;VALUE=DATE-TIME:20100815T090000Z
DTEND;VALUE=DATE-TIME:20100815T122400Z
UID:http://jasznaplo.hu/fopapi-szentmise
URL;VALUE=URI:http://jasznaplo.hu/fopapi-szentmise
SUMMARY:Főpapi szentmise
DESCRIPTION:<p>Nagyboldogasszony Római Katolikus Fõtemplom</p>
 <p><strong></strong></p>
 <p>ÜNNEPI FÕPAPI SZENTMISE</p>
 <p></p>
 <p>&#160\;</p>
 <p>Nagyboldogasszony tiszteletére\, ezt követõen KÖRMENET a Szentháromság téren.</p>
 
END:VEVENT
BEGIN:VEVENT
DTSTAMP;VALUE=DATE-TIME:20260421T110544Z
DTSTART;VALUE=DATE-TIME:20100815T193000Z
DTEND;VALUE=DATE-TIME:20100815T220000Z
UID:http://jasznaplo.hu/joy-gospel-music-koncertje
URL;VALUE=URI:http://jasznaplo.hu/joy-gospel-music-koncertje
SUMMARY:JOY GOSPEL MUSIC KONCERTJE 
DESCRIPTION:<p>Szabadtéri Színpad </p>
 <p>A Joy Gospel Music együttes 2006 nyarán a debreceni Főnix Csarnokban mutatkozott be. Az Almási Kornél (karnagy\, jazz előadóművész\, zeneszerző\, a Baptista Teológiai Akadémia tanszékvezető docense) által vezetett\, több mint negyven fős csoport zenei stílusa - Magyarországon egyedülálló módon - széles skálán mozog\: a tradicionális baptista gyökerektől a fehér és fekete gospelig minden megtalálható repertoárjában. A jó hangulatú\, dinamikus csapat nevéhez („Joy”) hűen nagy örömmel és lelkesedéssel lép fel bel- és külföldön egyaránt. Jászberényben első alkalommal adnak koncertet. Bővebb információ az együttesről a <a href=\\"http\://www.joygospelmusic.hu\\" title=\\"www.joygospelmusic.hu\\" rel=\\"nofollow\\">www.joygospelmusic.hu</a> vagy a <a href=\\"http\://www.gospelestek.hu\\" title=\\"www.gospelestek.hu\\" rel=\\"nofollow\\">www.gospelestek.hu</a> internetes oldalakon található. </p>
 <p>A belépés díjtalan.</p>
 
END:VEVENT
BEGIN:VEVENT
DTSTAMP;VALUE=DATE-TIME:20260421T110544Z
DTSTART;VALUE=DATE-TIME:20100818T193000Z
DTEND;VALUE=DATE-TIME:20100818T220000Z
UID:http://jasznaplo.hu/koncert/demjen-koncert
URL;VALUE=URI:http://jasznaplo.hu/koncert/demjen-koncert
SUMMARY:Demjén koncert
DESCRIPTION:<p>Szabadtéri Színpad</p>
 
END:VEVENT
BEGIN:VEVENT
DTSTAMP;VALUE=DATE-TIME:20260421T110544Z
DTSTART;VALUE=DATE-TIME:20100820T190000Z
DTEND;VALUE=DATE-TIME:20100821T000000Z
UID:http://jasznaplo.hu/egyeb/szorakoztato-program
URL;VALUE=URI:http://jasznaplo.hu/egyeb/szorakoztato-program
SUMMARY:Szórakoztató program
DESCRIPTION:<p>Lehel vezér tér<br />
 Szórakoztató program\, Abba Sisters\, L.L. Junoir\, Kozsó 22.10-től utcabál a Sárga Taxi zenekarral</p>
 
END:VEVENT
BEGIN:VEVENT
DTSTAMP;VALUE=DATE-TIME:20260421T110544Z
DTSTART;VALUE=DATE-TIME:20100828T070000Z
DTEND;VALUE=DATE-TIME:20100828T170000Z
UID:http://jasznaplo.hu/sport/i-jaszjakohalmi-ijasztalalkozo-es-viadal
URL;VALUE=URI:http://jasznaplo.hu/sport/i-jaszjakohalmi-ijasztalalkozo-es-viadal
SUMMARY:I. Jászjákóhalmi Íjásztalálkozó és Viadal
DESCRIPTION:<p>A Jászjákóhalmi Hagyományőrző Íjász Egyesület szeretettel meghívja Önt és kedves családját a 2010. augusztus 28-án tartandó Íjásztalálkozó és Viadalra\, Jászjákóhalma Kapitányrétre. A helyszín megközelíthető a 31. számú főúton Jászjákóhalma és Jászapáti között (útbaigazító táblákkal jelölve). Jászjákóhalma Polgármesteri Hivatal elől ingyenes buszjárat indul minden órában. Az Íjásztalálkozó látogatása ingyenes.</p>
 <p>A programok 9\:00 órakor kezdődnek\:</p>
 <p>·	Íjászviadal (a nevezés részletei a <a href=\\"http\://jhik.5mp.eu\\" title=\\"http\://jhik.5mp.eu\\" rel=\\"nofollow\\">http\://jhik.5mp.eu</a> weboldalon találhatók meg)<br />
 ·	Íjászpárbaj<br />
 ·	Kézműves foglalkozások<br />
 ·	Rovásírás oktatás<br />
 ·	Népi gyermek játszóház<br />
 ·	Íjászoktatás\, karikás ostor\, - és szarukürt használat<br />
 ·	Népi piactér<br />
 ·	Jurta állítás</p>
 <p>Minden érdeklődőt szeretettel várunk!</p>
 <p>Jákóhalmi Íjászok</p>
 
END:VEVENT
BEGIN:VEVENT
DTSTAMP;VALUE=DATE-TIME:20260421T110544Z
DTSTART;VALUE=DATE-TIME:20100828T230000Z
DTEND;VALUE=DATE-TIME:20100829T150000Z
UID:http://jasznaplo.hu/sport/iii-zagyvamenti-maraton-jaszbereny
URL;VALUE=URI:http://jasznaplo.hu/sport/iii-zagyvamenti-maraton-jaszbereny
SUMMARY:III. Zagyvamenti Maraton - Jászberény
DESCRIPTION:<p>Zagyvamenti Maraton versenykiírás<br />
 Rendezvény célja\: A futás népszerűsítése Jászberényben és környékén. A jászberényi futók és barátainak találkozása. Jászberény város megismertetése más városok futóival.<br />
 Időpont\: 2010. augusztus 29. vasárnap Rajt-cél\: 9 óra\, Szántai kert Versenyközpont\: Szántai kert sportpálya (Pethes Imre u. Ferencesek tere mellett)<br />
 A versenyközpontban öltöző\, zuhanyzó és értékmegőrző van. Nevezési és információs cím Jászberény Triatlon Egyesület 5100 Jászberény\, Serház u. 2.<br />
 Demeter Gábor\: 0670/214-9164 Keresztesi László\: 0630/347-2402 email\: nevezes @ jasztri.com<br />
 Előnevezés\: 2010. augusztus 22-ig a verseny weblapjáról letölthető nevezési lap elküldésével és az 1500ft/fő előnevezési díj átutalásával vagy számlára történő befizetésével.</p>
 
END:VEVENT
END:VCALENDAR
