BEGIN:VCALENDAR
VERSION:2.0
METHOD:PUBLISH
X-WR-CALNAME:Jász Napló |  július 05 2010- július 12 2010
PRODID:-//strange bird labs//Drupal iCal API//EN
BEGIN:VEVENT
DTSTAMP;VALUE=DATE-TIME:20260422T173304Z
DTSTART;VALUE=DATE-TIME:20100705T093200Z
DTEND;VALUE=DATE-TIME:20100831T093200Z
UID:http://jasznaplo.hu/kiallitas/konyv-es-konyvtar-ex-librisen-kiallitas
URL;VALUE=URI:http://jasznaplo.hu/kiallitas/konyv-es-konyvtar-ex-librisen-kiallitas
SUMMARY:Könyv és könyvtár ex librisen - kiállítás
DESCRIPTION:<p>Városi Könyvtár és Információs Központ<br />
 Megnyitó\:<br />
 <strong><em>2010. július. 5. (hétfõ)<br />
 </em></strong>A kiállítás megtekinthetõ a könyvtár nyitvatartási idejében.</p>
 
END:VEVENT
BEGIN:VEVENT
DTSTAMP;VALUE=DATE-TIME:20260422T173304Z
DTSTART;VALUE=DATE-TIME:20100707T090000Z
DTEND;VALUE=DATE-TIME:20100717T120000Z
UID:http://jasznaplo.hu/gyorbiro-eniko-keramikus-kiallitasa
URL;VALUE=URI:http://jasznaplo.hu/gyorbiro-eniko-keramikus-kiallitasa
SUMMARY:Győrbíró Enikő kerámikus kiállítása
DESCRIPTION:<p>Déryné u. 6. </p>
 <p>&#160\;</p>
 <p><strong></strong></p>
 <p>GYÕRBÍRÓ ENIKÕ kerámikus KIÁLLÍTÁSA<br />
 ÉS JÁSZSÁGI HÍMZÉSEK </p>
 <p>Megnyitó\: <strong><em>július 7. (szerda) 16.00 óra</em></strong> </p>
 <p>Látogatható\:<br />
 <strong><em>hétköznap 10.00-17.00 óráig<br />
 szombat 10.00-13.00 óráig<br />
 vasárnap zárva</em></strong> </p>
 <p></p>
 
END:VEVENT
BEGIN:VEVENT
DTSTAMP;VALUE=DATE-TIME:20260422T173304Z
DTSTART;VALUE=DATE-TIME:20100708T170000Z
DTEND;VALUE=DATE-TIME:20100708T180000Z
UID:http://jasznaplo.hu/nagyszuleink-iskolaja-kiallitas-megnyito
URL;VALUE=URI:http://jasznaplo.hu/nagyszuleink-iskolaja-kiallitas-megnyito
SUMMARY:Nagyszüleink iskolája - kiállítás megnyitó
DESCRIPTION:<p><strong><em>Július 8 - 2011. március 31.<br />
 </em></strong>Jász Múzeum </p>
 <p>&#160\;</p>
 <p><strong>„Nagyszüleink Iskolája&quot\;<br />
 - idõszaki kiállítás - </strong></p>
 <p>&#160\;</p>
 <p>A kiállítás a jászsági iskolát mutatja be\, ahová a 20. század elején a nagyszüleink és dédszüleink jártak.</p>
 <p>Megnyitó\: <strong><em>2010. július 8. (csütörtök) 18.00 óra<br />
 </em></strong>A kiállítás megtekinthetõ a múzeum nyitvatartási idejében.</p>
 <p></p>
 
END:VEVENT
BEGIN:VEVENT
DTSTAMP;VALUE=DATE-TIME:20260422T173304Z
DTSTART;VALUE=DATE-TIME:20100709T200000Z
DTEND;VALUE=DATE-TIME:20100709T210000Z
UID:http://jasznaplo.hu/deryne-vegyeskar-nyaresti-szerenadja-0
URL;VALUE=URI:http://jasznaplo.hu/deryne-vegyeskar-nyaresti-szerenadja-0
SUMMARY:Déryné Vegyeskar nyáresti szerenádja
DESCRIPTION:<p>Déryné Mûvelõdési Központ elõtt</p>
 <p><strong></strong></p>
 <p>&#160\;</p>
 <p></p>
 
END:VEVENT
BEGIN:VEVENT
DTSTAMP;VALUE=DATE-TIME:20260422T173304Z
DTSTART;VALUE=DATE-TIME:20100711T070000Z
DTEND;VALUE=DATE-TIME:20100718T110000Z
UID:http://jasznaplo.hu/nemzetkozi-ifjusagi-eszperanto-nyelvi-tabor
URL;VALUE=URI:http://jasznaplo.hu/nemzetkozi-ifjusagi-eszperanto-nyelvi-tabor
SUMMARY:Nemzetközi Ifjúsági Eszperantó Nyelvi Tábor
DESCRIPTION:<p>2010 július 11 - 18-ig nyelvi tábort rendezünk a Gyerektáborban. A tábor díja 27.500 Ft\, ami magában foglal napi 3-szori étkezést\, szállást\, programokat. Délelőttönként az eszperantó nyelv tanulása kezdő- és haladó szinten külföldi oktatók vezetésével. A délutáni programok is eszperantó nyelvi környezetben lesznek. Hétvégén megmérettetheted magad a próbanyelvvizsgán! Lehet jönni ottalvás nélkül is. Bővebben itt\: <a href=\\"http\://ijl.atw.hu\\" title=\\"http\://ijl.atw.hu\\" rel=\\"nofollow\\">http\://ijl.atw.hu</a></p>
 
END:VEVENT
END:VCALENDAR
