BEGIN:VCALENDAR
VERSION:2.0
METHOD:PUBLISH
X-WR-CALNAME:Jász Napló |  január 17 2010- február 16 2010
PRODID:-//strange bird labs//Drupal iCal API//EN
BEGIN:VEVENT
DTSTAMP;VALUE=DATE-TIME:20260425T071703Z
DTSTART;VALUE=DATE-TIME:20100122T093000Z
DTEND;VALUE=DATE-TIME:20100122T103000Z
UID:http://jasznaplo.hu/nyakiglab-csupahaj-maleszaj
URL;VALUE=URI:http://jasznaplo.hu/nyakiglab-csupahaj-maleszaj
SUMMARY:Nyakigláb\, Csupaháj\, Málészáj
DESCRIPTION:<p>a Malom-Film-Színházban</p>
 <p>Nyakigláb\, Csupaháj\, Málészáj</p>
 <p><strong>Ládafia Bábszínház</strong> előadása</p>
 
END:VEVENT
BEGIN:VEVENT
DTSTAMP;VALUE=DATE-TIME:20260425T071703Z
DTSTART;VALUE=DATE-TIME:20100122T140000Z
DTEND;VALUE=DATE-TIME:20100122T150000Z
UID:http://jasznaplo.hu/magyar-kultura-napja
URL;VALUE=URI:http://jasznaplo.hu/magyar-kultura-napja
SUMMARY:Magyar Kultúra Napja
DESCRIPTION:<p>a Déryné Művelődési Központban </p>
 <p><em></em></p>
 <p>A műsorban közreműködnek\:<br />
 <strong>Kazsimér Andrea főiskolai hallgató<br />
 Palotásy János Zeneiskola és Alapfokú Művészetoktatási Intézmény <strong>tanárai és tanulói</strong></strong> </p>
 <p>Fotó\: <a href=\\"/category/galeria/unnepsegek-2010/magyar-kultura-napja-2010\\" rel=\\"nofollow\\">http\://jasznaplo.hu/category/galeria/unnepsegek-2010/magyar-kultura-napja-2010</a></p>
 <p></p>
 
END:VEVENT
BEGIN:VEVENT
DTSTAMP;VALUE=DATE-TIME:20260425T071703Z
DTSTART;VALUE=DATE-TIME:20100123T130000Z
DTEND;VALUE=DATE-TIME:20100123T160000Z
UID:http://jasznaplo.hu/hullo-kiallitas
URL;VALUE=URI:http://jasznaplo.hu/hullo-kiallitas
SUMMARY:Hüllő kiállítás
DESCRIPTION:<p>a DMK Ifjúsági Házban</p>
 
END:VEVENT
BEGIN:VEVENT
DTSTAMP;VALUE=DATE-TIME:20260425T071703Z
DTSTART;VALUE=DATE-TIME:20100128T090000Z
DTEND;VALUE=DATE-TIME:20100128T100000Z
UID:http://jasznaplo.hu/tizenegy-triko
URL;VALUE=URI:http://jasznaplo.hu/tizenegy-triko
SUMMARY:Tizenegy trikó
DESCRIPTION:<p>Január 28. 10 és 15 óra</p>
 <p>Tizenegy trikó</p>
 <p><strong>Kerekasztal Színházi Nevelési Központ</strong> előadása a Lehel Vezér Gimnázium és a Liska József Szakközépiskola és Gimnázium egy-egy osztálya számára</p>
 
END:VEVENT
BEGIN:VEVENT
DTSTAMP;VALUE=DATE-TIME:20260425T071703Z
DTSTART;VALUE=DATE-TIME:20100128T230000Z
DTEND;VALUE=DATE-TIME:20020203
UID:http://jasznaplo.hu/toser-bela-grafikai-kiallitasa-hamza-muzeumban
URL;VALUE=URI:http://jasznaplo.hu/toser-bela-grafikai-kiallitasa-hamza-muzeumban
SUMMARY:Tősér Béla grafikai kiállítása a Hamza Múzeumban
DESCRIPTION:<p>A jászárokszállási születésű\, több nívódíjjal elismert Tősér Béla ELŐTANULMÁNYOK<br />
 című grafikai kiállítása 2010. február 28-ig\, hétfő kivételével naponta 10 és 16 óra között tekinthető meg a Hamza Múzeumban. A kiállítás anyaga válogatás azokból a művekből\, melyek 2004-ben a művész adományaként kerültek a múzeum gyűjteményébe.<br />
 A tárlatról és a művészről bövebb információ a <a href=\\"http\://www.hamzamuzeum.hu\\" title=\\"www.hamzamuzeum.hu\\" rel=\\"nofollow\\">www.hamzamuzeum.hu</a> honlapon olvasható!</p>
 
END:VEVENT
BEGIN:VEVENT
DTSTAMP;VALUE=DATE-TIME:20260425T071703Z
DTSTART;VALUE=DATE-TIME:20100130T080000Z
DTEND;VALUE=DATE-TIME:20100130T150000Z
UID:http://jasznaplo.hu/x-eskuvoi-kiallitas-es-vasar
URL;VALUE=URI:http://jasznaplo.hu/x-eskuvoi-kiallitas-es-vasar
SUMMARY:X. Esküvői Kiállítás és Vásár
DESCRIPTION:<p>Minden\, amire szükséged lehet egy szép esküvőhöz!<br />
 A kiállításon minden megtekinthető\, felpróbálható és leköthető!<br />
 Tombola értékes nyereményekkel!<br />
 Belépés díjtalan!<br />
 Helyszín\: Sólyom Panzió 5100 Jászberény Sólyom u. 8.<br />
 Érdeklődni lehet\: 0630 915 2183\, 0630 226 1894</p>
 
END:VEVENT
BEGIN:VEVENT
DTSTAMP;VALUE=DATE-TIME:20260425T071703Z
DTSTART;VALUE=DATE-TIME:20100130T170000Z
DTEND;VALUE=DATE-TIME:20100130T190000Z
UID:http://jasznaplo.hu/tamasi-aron-enekes-madar
URL;VALUE=URI:http://jasznaplo.hu/tamasi-aron-enekes-madar
SUMMARY:Tamási Áron\: Énekes madár
DESCRIPTION:<p>a Malom-Film-Színházban</p>
 <p>Tamási Áron\: Énekes madár</p>
 <p>A <strong>jászfényszarui Fortuna Együttes</strong> előadása</p>
 
END:VEVENT
BEGIN:VEVENT
DTSTAMP;VALUE=DATE-TIME:20260425T071703Z
DTSTART;VALUE=DATE-TIME:20100131T090000Z
DTEND;VALUE=DATE-TIME:20100131T150000Z
UID:http://jasznaplo.hu/sakkverseny-6
URL;VALUE=URI:http://jasznaplo.hu/sakkverseny-6
SUMMARY:Sakkverseny
DESCRIPTION:<p>a DMK Ifjúsági Házban</p>
 
END:VEVENT
BEGIN:VEVENT
DTSTAMP;VALUE=DATE-TIME:20260425T071703Z
DTSTART;VALUE=DATE-TIME:20100202T160000Z
DTEND;VALUE=DATE-TIME:20100202T170000Z
UID:http://jasznaplo.hu/cserkeszelet-jaszberenyben-kiallitasmegnyito
URL;VALUE=URI:http://jasznaplo.hu/cserkeszelet-jaszberenyben-kiallitasmegnyito
SUMMARY:Cserkészélet Jászberényben kiállításmegnyitó
DESCRIPTION:<p>Helye\: Városi Könyvtár és Információs Központ (Jászberény Bercsényi u. 1.) <a href=\\"http\://server.jbvk.hu/jbvk/\\" title=\\"http\://server.jbvk.hu/jbvk/\\" rel=\\"nofollow\\">http\://server.jbvk.hu/jbvk/</a><br />
 A kiállítást megnyitja\: Juhász Dániel alpolgármester\, a cserkészcsapat volt tagja. A kiállítás megtekinthető\: 2010. február 28-ig a könyvtár nyitvatartási idejében</p>
 
END:VEVENT
BEGIN:VEVENT
DTSTAMP;VALUE=DATE-TIME:20260425T071703Z
DTSTART;VALUE=DATE-TIME:20100204T093000Z
DTEND;VALUE=DATE-TIME:20100204T103000Z
UID:http://jasznaplo.hu/langaleta-garabonciasok-gyerekszinhaza
URL;VALUE=URI:http://jasznaplo.hu/langaleta-garabonciasok-gyerekszinhaza
SUMMARY:A Langaléta Garabonciások gyerekszínháza
DESCRIPTION:<p>a Malom Film-Színházban</p>
 <p>Vándormuzsikus\, avagy a régi világ hangszereinek meséi</p>
 <p>A <strong>Langaléta Garabonciások</strong> gyerekszínháza</p>
 
END:VEVENT
BEGIN:VEVENT
DTSTAMP;VALUE=DATE-TIME:20260425T071703Z
DTSTART;VALUE=DATE-TIME:20100204T140000Z
DTEND;VALUE=DATE-TIME:20100204T150000Z
UID:http://jasznaplo.hu/langaleta-garabonciasok-gyerekszinhaza-0
URL;VALUE=URI:http://jasznaplo.hu/langaleta-garabonciasok-gyerekszinhaza-0
SUMMARY:A Langaléta Garabonciások gyerekszínháza
DESCRIPTION:<p>a Malom Film-Színházban</p>
 <p>Vándormuzsikus\, avagy a régi világ hangszereinek meséi</p>
 <p>A <strong>Langaléta Garabonciások</strong> gyerekszínháza</p>
 
END:VEVENT
BEGIN:VEVENT
DTSTAMP;VALUE=DATE-TIME:20260425T071703Z
DTSTART;VALUE=DATE-TIME:20100206T090000Z
DTEND;VALUE=DATE-TIME:20100206T170000Z
UID:http://jasznaplo.hu/i-gloriosa-eskuvoi-kiallitas-es-vasar
URL;VALUE=URI:http://jasznaplo.hu/i-gloriosa-eskuvoi-kiallitas-es-vasar
SUMMARY:I. Gloriosa Esküvői Kiállítás és Vásár
DESCRIPTION:<p>Életetek egyik legszebb napját tervezzétek meg velünk<br />
 2010. február 6-án 10-18 óráig Jászberényben a DMK Ifjúsági Házában</p>
 <p>Harmónia és elegancia</p>
 <p>Álomszép és egyedi tervezésű menyasszonyi ruhák\, koszorúslány\,<br />
 menyecske és alkalmi ruhák\, öltönyök<br />
 Népviseletek és népies öltözetek<br />
 Szépségápolási és sminktanácsok\, frizurapróba\,<br />
 körömdekoráció\, műköröm készítés<br />
 Meghívók\, virág- és teremdekoráció\, tűzijáték\, köszönő ok<br />
 Egyedi és fiatalos esküvői fotó és videó<br />
 Nívós\, házias éttermek\, rendezvénytermek és menüválaszték<br />
 Cukrászati mesterművek és kóstolók<br />
 Autókölcsönzés\, nász ok\, nászutas ajánlatok</p>
 
END:VEVENT
BEGIN:VEVENT
DTSTAMP;VALUE=DATE-TIME:20260425T071703Z
DTSTART;VALUE=DATE-TIME:20100208T160000Z
DTEND;VALUE=DATE-TIME:20100208T170000Z
UID:http://jasznaplo.hu/aktualis-nyugdijpolitikai-intezkedesekrol-lakossagi-forum
URL;VALUE=URI:http://jasznaplo.hu/aktualis-nyugdijpolitikai-intezkedesekrol-lakossagi-forum
SUMMARY:Aktuális nyugdíjpolitikai intézkedésekről - lakossági fórum
DESCRIPTION:<p>Tisztelettel meghívom az<br />
 „Aktuális nyugdíjpolitikai intézkedésekről”<br />
 szóló lakossági fórumra.<br />
 Előadó\: Korózs Lajos a Szociális és Munkaügyi Minisztérium államtitkára<br />
 Házigazda\: dr. Gedei József polgármester</p>
 <p>Fórum ideje\: 2010. február 8. (hétfő) 17.00 óra<br />
 Fórum helye\: Ifjúsági Ház Jászberény\, Bercsényi u. 1/a.</p>
 <p>Jászberény\, 2010. február 1.</p>
 <p>Tisztelettel\:<br />
 Dr. Gedei József sk.<br />
 polgármester</p>
 
END:VEVENT
BEGIN:VEVENT
DTSTAMP;VALUE=DATE-TIME:20260425T071703Z
DTSTART;VALUE=DATE-TIME:20100210T130000Z
DTEND;VALUE=DATE-TIME:20100210T150000Z
UID:http://jasznaplo.hu/ado-orak-az-apeh-nel
URL;VALUE=URI:http://jasznaplo.hu/ado-orak-az-apeh-nel
SUMMARY:Adó-órák az APEH-nél
DESCRIPTION:<p>Adó-órák Az APEH Észak-alföldi Regionális Igazgatósága szolnoki központi ügyfélterében (Szolnok\, József Attila út 22-24.) 2010. február 10-én 14 órai kezdettel kerül megrendezésre az ADÓ-ÓRÁK következő előadása. Téma\: BEVALLÁSOKKAL KAPCSOLATOS ÉV ELEJI TEENDŐK Előadó\: Kovács Antalné osztályvezető Várunk minden érdeklődőt! APEH Észak-alföldi Regionális Igazgatósága</p>
 
END:VEVENT
BEGIN:VEVENT
DTSTAMP;VALUE=DATE-TIME:20260425T071703Z
DTSTART;VALUE=DATE-TIME:20100211T170000Z
DTEND;VALUE=DATE-TIME:20100211T180000Z
UID:http://jasznaplo.hu/feherlofia-2
URL;VALUE=URI:http://jasznaplo.hu/feherlofia-2
SUMMARY:Fehérlófia
DESCRIPTION:<p>a Malom Film-Színházban</p>
 <p><strong>Koszecz Sándor</strong> népmesekutató előadása</p>
 
END:VEVENT
BEGIN:VEVENT
DTSTAMP;VALUE=DATE-TIME:20260425T071703Z
DTSTART;VALUE=DATE-TIME:20100212T140000Z
DTEND;VALUE=DATE-TIME:20100212T160000Z
UID:http://jasznaplo.hu/meghivo-kozmeghallgatasra
URL;VALUE=URI:http://jasznaplo.hu/meghivo-kozmeghallgatasra
SUMMARY:Meghívó közmeghallgatásra
DESCRIPTION:<p> </p>
 <p>						 </p>
 <p>						Jászberény Város Önkormányzatának Képviselő-testülete</p>
 <p>						2010. február 12-én (pénteken) 15 órai kezdettel</p>
 <p>						k ö z m e g h a l l g a t á s t</p>
 <p>						tart\, melyre tisztelettel meghívjuk Jászberény város érdeklődő lakosságát\, a társadalmi szervezetek képviselőit.</p>
 
END:VEVENT
BEGIN:VEVENT
DTSTAMP;VALUE=DATE-TIME:20260425T071703Z
DTSTART;VALUE=DATE-TIME:20100214T150000Z
DTEND;VALUE=DATE-TIME:20100214T170000Z
UID:http://jasznaplo.hu/tanccal-haitiert-0
URL;VALUE=URI:http://jasznaplo.hu/tanccal-haitiert-0
SUMMARY:Tánccal Haitiért
DESCRIPTION:<p>a Belvárosi Általános Iskola Sportcsarnokában Jászberény Város Önkormányzata\, a Déryné Művelődési Központ\, a Jászság Népi Együttes és a Magyar Vöröskereszt Jászsági Területi Szervezete jótékonysági rendezvényt és gyűjtést szervez a haiti földrengés károsultjai javára.</p>
 <p>A műsorban közreműködnek\: </p>
 <p>• Dance Fittnes SE<br />
 • Jártató zenekar<br />
 • Jászberényi Hagyományőrző Együttes<br />
 • Jászság Népi Együttes<br />
 • LEHEL-MELODY Tánc- Sport Egyesület<br />
 • Moonwoofers ( Holdugatók )<br />
 • Valentín Tánciskola<br />
 • Viganó Alapfokú Művészeti Iskola növendékei </p>
 <p>Belépődíj\: 500.- Ft / Felülfizetéseket a helyszínen tisztelettel elfogadnak. /</p>
 
END:VEVENT
END:VCALENDAR
