BEGIN:VCALENDAR
VERSION:2.0
METHOD:PUBLISH
X-WR-CALNAME:Jász Napló |  október 27 2009- november 26 2009
PRODID:-//strange bird labs//Drupal iCal API//EN
BEGIN:VEVENT
DTSTAMP;VALUE=DATE-TIME:20260418T125044Z
DTSTART;VALUE=DATE-TIME:20091013T080000Z
DTEND;VALUE=DATE-TIME:20091030T150000Z
UID:http://jasznaplo.hu/20-eves-berenyi-muhely
URL;VALUE=URI:http://jasznaplo.hu/20-eves-berenyi-muhely
SUMMARY:20 éves a Berényi Műhely
DESCRIPTION:<p>a Déryné Művelődési Központ aulájában<br />
 fotók\, emlékek\, dokumentumok a jubiláló alkotóközösség életéből.</p>
 
END:VEVENT
BEGIN:VEVENT
DTSTAMP;VALUE=DATE-TIME:20260418T125044Z
DTSTART;VALUE=DATE-TIME:20091020T230000Z
DTEND;VALUE=DATE-TIME:20091027T153800Z
UID:http://jasznaplo.hu/berenyi-muhely-xx-oszi-tarlata
URL;VALUE=URI:http://jasznaplo.hu/berenyi-muhely-xx-oszi-tarlata
SUMMARY:Berényi Műhely XX. Őszi Tárlata 
DESCRIPTION:<p>a Déryné Művelődési Központ dísztermében<br />
 Látogatható\: október 21\, 22\, 26-án 9.00-17.00 óráig<br />
 Október 23\, 24-én 10.00-14.00 óráig<br />
 Október 27-én 9.00-16.00 óráig<br />
 Október 25-én (vasárnap) zárva </p>
 <p>Fotó\:<br />
 <a href=\\"/category/galeria/kiallitasok-2009/berenyi-muhely-xx-oszi-tarlata-2009\\" rel=\\"nofollow\\">http\://jasznaplo.hu/category/galeria/kiallitasok-2009/berenyi-muhely-xx-oszi-tarlata-2009</a></p>
 
END:VEVENT
BEGIN:VEVENT
DTSTAMP;VALUE=DATE-TIME:20260418T125044Z
DTSTART;VALUE=DATE-TIME:20091027T171500Z
DTEND;VALUE=DATE-TIME:20091027T184500Z
UID:http://jasznaplo.hu/utolso-jelentes-annarol-4
URL;VALUE=URI:http://jasznaplo.hu/utolso-jelentes-annarol-4
SUMMARY:Utolsó jelentés Annáról
DESCRIPTION:<p>színes magyar film\, 100 perc\,<br />
 2009\, 12 éven aluliak számára a megtekintése<br />
 nagykorú felügyelete mellett ajánlott</p>
 <p>rendező\: Mészáros Márta<br />
 forgatókönyvíró\: Pataki Éva\, Mészáros Márta<br />
 operatőr\: Novák Emil<br />
 producer\: Sándor Pál<br />
 konzultáns\: Jancsó Miklós</p>
 <p>szereplő(k)\:<br />
 Eszenyi Enikő<br />
 Beata Fudalej<br />
 Czinkóczi Zsuzsa<br />
 Cserhalmi György</p>
 
END:VEVENT
BEGIN:VEVENT
DTSTAMP;VALUE=DATE-TIME:20260418T125044Z
DTSTART;VALUE=DATE-TIME:20091027T190000Z
DTEND;VALUE=DATE-TIME:20091027T203000Z
UID:http://jasznaplo.hu/no-masik-arca-4
URL;VALUE=URI:http://jasznaplo.hu/no-masik-arca-4
SUMMARY:A nő másik arca
DESCRIPTION:<p>színes magyarul beszélő angol-amerikai<br />
 romantikus dráma\, 84 perc\, 2005<br />
 16 éven aluliak számára nem ajánlott</p>
 <p>rendező\: Hans Canosa<br />
 forgatókönyvíró\: Gabrielle Zevin<br />
 zeneszerző\: Starr Parodi\, Jeff Eden Fair<br />
 operatőr\: Steve Yedlin<br />
 vágó\: Hans Canosa</p>
 <p>szereplő(k)\:<br />
 Aaron Eckhart (a férfi)<br />
 Helena Bonham Carter (a nő)<br />
 Brian Geraghty (a vőlegény)<br />
 Brianna Brown (a menyasszony)</p>
 
END:VEVENT
BEGIN:VEVENT
DTSTAMP;VALUE=DATE-TIME:20260418T125044Z
DTSTART;VALUE=DATE-TIME:20091028T171500Z
DTEND;VALUE=DATE-TIME:20091028T184500Z
UID:http://jasznaplo.hu/utolso-jelentes-annarol-5
URL;VALUE=URI:http://jasznaplo.hu/utolso-jelentes-annarol-5
SUMMARY:Utolsó jelentés Annáról
DESCRIPTION:<p>színes magy. besz.-feliratos magyar film\, 100 perc\,<br />
 2009\, 12 éven aluliak számára a megtekintése<br />
 nagykorú felügyelete mellett ajánlott</p>
 <p>rendező\: Mészáros Márta<br />
 forgatókönyvíró\: Pataki Éva\, Mészáros Márta<br />
 operatőr\: Novák Emil<br />
 producer\: Sándor Pál<br />
 konzultáns\: Jancsó Miklós</p>
 <p>szereplő(k)\:<br />
 Eszenyi Enikő<br />
 Beata Fudalej<br />
 Czinkóczi Zsuzsa<br />
 Cserhalmi György<br />
 Kováts Adél</p>
 
END:VEVENT
BEGIN:VEVENT
DTSTAMP;VALUE=DATE-TIME:20260418T125044Z
DTSTART;VALUE=DATE-TIME:20091028T190000Z
DTEND;VALUE=DATE-TIME:20091028T203000Z
UID:http://jasznaplo.hu/no-masik-arca-5
URL;VALUE=URI:http://jasznaplo.hu/no-masik-arca-5
SUMMARY:A nő másik arca
DESCRIPTION:<p>színes magyarul beszélő angol-amerikai<br />
 romantikus dráma\, 84 perc\, 2005<br />
 16 éven aluliak számára nem ajánlott</p>
 <p>rendező\: Hans Canosa<br />
 forgatókönyvíró\: Gabrielle Zevin<br />
 zeneszerző\: Starr Parodi\, Jeff Eden Fair<br />
 operatőr\: Steve Yedlin<br />
 vágó\: Hans Canosa</p>
 <p>szereplő(k)\:<br />
 Aaron Eckhart (a férfi)<br />
 Helena Bonham Carter (a nő)<br />
 Brian Geraghty (a vőlegény)<br />
 Brianna Brown (a menyasszony)</p>
 
END:VEVENT
BEGIN:VEVENT
DTSTAMP;VALUE=DATE-TIME:20260418T125044Z
DTSTART;VALUE=DATE-TIME:20091029T153000Z
DTEND;VALUE=DATE-TIME:20091029T170000Z
UID:http://jasznaplo.hu/csiribiri
URL;VALUE=URI:http://jasznaplo.hu/csiribiri
SUMMARY:Csiribiri
DESCRIPTION:<p>színes magyar film\, 72 perc\, 2009<br />
 korhatárra tekintet nélkül megtekinthető </p>
 <p>rendező\: Rózsa János<br />
 zeneszerző\: Bródy János\, Móricz Mihály\,<br />
 Tolcsvay László\, Anti Tamás\, Bódi László\,<br />
 Szörényi Szabolcs<br />
 operatőr\: Ragályi Elemér<br />
 producer\: Rózsa János<br />
 társproducer\: Vészits Andrea<br />
 hangmérnök\: Balázs Gábor</p>
 
END:VEVENT
BEGIN:VEVENT
DTSTAMP;VALUE=DATE-TIME:20260418T125044Z
DTSTART;VALUE=DATE-TIME:20091029T170000Z
DTEND;VALUE=DATE-TIME:20091029T183000Z
UID:http://jasznaplo.hu/g-force-ragcsavok
URL;VALUE=URI:http://jasznaplo.hu/g-force-ragcsavok
SUMMARY:G-Force - Rágcsávók
DESCRIPTION:<p>színes magyarul beszélő amerikai film\, 90 perc\,<br />
 2009\, 12 éven aluliak számára a megtekintése<br />
 nagykorú felügyelete mellett ajánlott</p>
 <p>rendező\: Hoyt Yeatman<br />
 forgatókönyvíró\: Hoyt Yeatman\,<br />
 Cormac Wibberley\, Marianne Wibberley\,<br />
 Ted Elliott\, Terry Rossio\, Tim Firth<br />
 zeneszerző\: Trevor Rabin<br />
 operatőr\: Bojan Bazelli<br />
 producer\: Jerry Bruckheimer</p>
 
END:VEVENT
BEGIN:VEVENT
DTSTAMP;VALUE=DATE-TIME:20260418T125044Z
DTSTART;VALUE=DATE-TIME:20091029T180000Z
DTEND;VALUE=DATE-TIME:20091029T193000Z
UID:http://jasznaplo.hu/zoran-koncert-jaszberenyben
URL;VALUE=URI:http://jasznaplo.hu/zoran-koncert-jaszberenyben
SUMMARY:Zorán koncert Jászberényben
DESCRIPTION:<p>a DMK Ifjúsági Házban<br />
 Jegyek kaphatók\:<br />
 boommédia Reklám- és Grafikai Stúdió - Jászberény\, Kossuth L. út 19.<br />
 Déryné Művelődési Központ - Jászberény\, Lehel vezér tér 33.</p>
 
END:VEVENT
BEGIN:VEVENT
DTSTAMP;VALUE=DATE-TIME:20260418T125044Z
DTSTART;VALUE=DATE-TIME:20091029T190000Z
DTEND;VALUE=DATE-TIME:20091029T203000Z
UID:http://jasznaplo.hu/grofno
URL;VALUE=URI:http://jasznaplo.hu/grofno
SUMMARY:A grófnő
DESCRIPTION:<p>színes magyarul beszélő francia-német<br />
 történelmi dráma\, 98 perc\, 2009 </p>
 <p>rendező\: Julie Delpy<br />
 forgatókönyvíró\: Julie Delpy<br />
 zeneszerző\: Julie Delpy<br />
 operatőr\: Martin Ruhe<br />
 producer\: Matthew E. Chausse<br />
 vágó\: Andrew Bird</p>
 <p>szereplő(k)\:<br />
 Julie Delpy (Báthory Erzsébet)</p>
 
END:VEVENT
BEGIN:VEVENT
DTSTAMP;VALUE=DATE-TIME:20260418T125044Z
DTSTART;VALUE=DATE-TIME:20091030T153000Z
DTEND;VALUE=DATE-TIME:20091030T170000Z
UID:http://jasznaplo.hu/csiribiri-0
URL;VALUE=URI:http://jasznaplo.hu/csiribiri-0
SUMMARY:Csiribiri
DESCRIPTION:<p>színes magyar film\, 72 perc\, 2009<br />
 korhatárra tekintet nélkül megtekinthető </p>
 <p>rendező\: Rózsa János<br />
 zeneszerző\: Bródy János\, Móricz Mihály\,<br />
 Tolcsvay László\, Anti Tamás\, Bódi László\,<br />
 Szörényi Szabolcs<br />
 operatőr\: Ragályi Elemér<br />
 producer\: Rózsa János<br />
 társproducer\: Vészits Andrea<br />
 hangmérnök\: Balázs Gábor</p>
 
END:VEVENT
BEGIN:VEVENT
DTSTAMP;VALUE=DATE-TIME:20260418T125044Z
DTSTART;VALUE=DATE-TIME:20091030T170000Z
DTEND;VALUE=DATE-TIME:20091030T183000Z
UID:http://jasznaplo.hu/g-force-ragcsavok-0
URL;VALUE=URI:http://jasznaplo.hu/g-force-ragcsavok-0
SUMMARY:G-Force - Rágcsávók
DESCRIPTION:<p>színes magyarul beszélő amerikai film\, 90 perc\,<br />
 2009\, 12 éven aluliak számára a megtekintése<br />
 nagykorú felügyelete mellett ajánlott</p>
 <p>rendező\: Hoyt Yeatman<br />
 forgatókönyvíró\: Hoyt Yeatman\,<br />
 Cormac Wibberley\, Marianne Wibberley\,<br />
 Ted Elliott\, Terry Rossio\, Tim Firth<br />
 zeneszerző\: Trevor Rabin<br />
 operatőr\: Bojan Bazelli<br />
 producer\: Jerry Bruckheimer</p>
 
END:VEVENT
BEGIN:VEVENT
DTSTAMP;VALUE=DATE-TIME:20260418T125044Z
DTSTART;VALUE=DATE-TIME:20091030T190000Z
DTEND;VALUE=DATE-TIME:20091030T203000Z
UID:http://jasznaplo.hu/grofno-0
URL;VALUE=URI:http://jasznaplo.hu/grofno-0
SUMMARY:A grófnő
DESCRIPTION:<p>színes magyarul beszélő francia-német<br />
 történelmi dráma\, 98 perc\, 2009 </p>
 <p>rendező\: Julie Delpy<br />
 forgatókönyvíró\: Julie Delpy<br />
 zeneszerző\: Julie Delpy<br />
 operatőr\: Martin Ruhe<br />
 producer\: Matthew E. Chausse<br />
 vágó\: Andrew Bird</p>
 <p>szereplő(k)\:<br />
 Julie Delpy (Báthory Erzsébet)</p>
 
END:VEVENT
BEGIN:VEVENT
DTSTAMP;VALUE=DATE-TIME:20260418T125044Z
DTSTART;VALUE=DATE-TIME:20091031T080000Z
DTEND;VALUE=DATE-TIME:20091031T170000Z
UID:http://jasznaplo.hu/galamb-es-kisallat-kiallitas
URL;VALUE=URI:http://jasznaplo.hu/galamb-es-kisallat-kiallitas
SUMMARY:Galamb és kisállat kiállítás
DESCRIPTION:<p>a DMK Ifjúsági Házban</p>
 
END:VEVENT
BEGIN:VEVENT
DTSTAMP;VALUE=DATE-TIME:20260418T125044Z
DTSTART;VALUE=DATE-TIME:20091031T153000Z
DTEND;VALUE=DATE-TIME:20091031T170000Z
UID:http://jasznaplo.hu/csiribiri-1
URL;VALUE=URI:http://jasznaplo.hu/csiribiri-1
SUMMARY:Csiribiri
DESCRIPTION:<p>színes magyar film\, 72 perc\, 2009<br />
 korhatárra tekintet nélkül megtekinthető </p>
 <p>rendező\: Rózsa János<br />
 zeneszerző\: Bródy János\, Móricz Mihály\,<br />
 Tolcsvay László\, Anti Tamás\, Bódi László\,<br />
 Szörényi Szabolcs<br />
 operatőr\: Ragályi Elemér<br />
 producer\: Rózsa János<br />
 társproducer\: Vészits Andrea<br />
 hangmérnök\: Balázs Gábor</p>
 
END:VEVENT
BEGIN:VEVENT
DTSTAMP;VALUE=DATE-TIME:20260418T125044Z
DTSTART;VALUE=DATE-TIME:20091031T170000Z
DTEND;VALUE=DATE-TIME:20091031T183000Z
UID:http://jasznaplo.hu/g-force-ragcsavok-1
URL;VALUE=URI:http://jasznaplo.hu/g-force-ragcsavok-1
SUMMARY:G-Force - Rágcsávók
DESCRIPTION:<p>színes magyarul beszélő amerikai film\, 90 perc\,<br />
 2009\, 12 éven aluliak számára a megtekintése<br />
 nagykorú felügyelete mellett ajánlott</p>
 <p>rendező\: Hoyt Yeatman<br />
 forgatókönyvíró\: Hoyt Yeatman\,<br />
 Cormac Wibberley\, Marianne Wibberley\,<br />
 Ted Elliott\, Terry Rossio\, Tim Firth<br />
 zeneszerző\: Trevor Rabin<br />
 operatőr\: Bojan Bazelli<br />
 producer\: Jerry Bruckheimer</p>
 
END:VEVENT
BEGIN:VEVENT
DTSTAMP;VALUE=DATE-TIME:20260418T125044Z
DTSTART;VALUE=DATE-TIME:20091031T190000Z
DTEND;VALUE=DATE-TIME:20091031T203000Z
UID:http://jasznaplo.hu/grofno-1
URL;VALUE=URI:http://jasznaplo.hu/grofno-1
SUMMARY:A grófnő
DESCRIPTION:<p>színes magyarul beszélő francia-német<br />
 történelmi dráma\, 98 perc\, 2009 </p>
 <p>rendező\: Julie Delpy<br />
 forgatókönyvíró\: Julie Delpy<br />
 zeneszerző\: Julie Delpy<br />
 operatőr\: Martin Ruhe<br />
 producer\: Matthew E. Chausse<br />
 vágó\: Andrew Bird</p>
 <p>szereplő(k)\:<br />
 Julie Delpy (Báthory Erzsébet)</p>
 
END:VEVENT
BEGIN:VEVENT
DTSTAMP;VALUE=DATE-TIME:20260418T125044Z
DTSTART;VALUE=DATE-TIME:20091101T081000Z
DTEND;VALUE=DATE-TIME:20091101T131000Z
UID:http://jasznaplo.hu/galamb-es-kisallat-kiallitas-0
URL;VALUE=URI:http://jasznaplo.hu/galamb-es-kisallat-kiallitas-0
SUMMARY:Galamb és kisállat kiállítás
DESCRIPTION:<p>a DMK Ifjúsági Házban</p>
 
END:VEVENT
BEGIN:VEVENT
DTSTAMP;VALUE=DATE-TIME:20260418T125044Z
DTSTART;VALUE=DATE-TIME:20091101T153000Z
DTEND;VALUE=DATE-TIME:20091101T170000Z
UID:http://jasznaplo.hu/csiribiri-2
URL;VALUE=URI:http://jasznaplo.hu/csiribiri-2
SUMMARY:Csiribiri
DESCRIPTION:<p>színes magyar film\, 72 perc\, 2009<br />
 korhatárra tekintet nélkül megtekinthető </p>
 <p>rendező\: Rózsa János<br />
 zeneszerző\: Bródy János\, Móricz Mihály\,<br />
 Tolcsvay László\, Anti Tamás\, Bódi László\,<br />
 Szörényi Szabolcs<br />
 operatőr\: Ragályi Elemér<br />
 producer\: Rózsa János<br />
 társproducer\: Vészits Andrea<br />
 hangmérnök\: Balázs Gábor</p>
 
END:VEVENT
BEGIN:VEVENT
DTSTAMP;VALUE=DATE-TIME:20260418T125044Z
DTSTART;VALUE=DATE-TIME:20091101T170000Z
DTEND;VALUE=DATE-TIME:20091101T183000Z
UID:http://jasznaplo.hu/g-force-ragcsavok-2
URL;VALUE=URI:http://jasznaplo.hu/g-force-ragcsavok-2
SUMMARY:G-Force - Rágcsávók
DESCRIPTION:<p>színes magyarul beszélő amerikai film\, 90 perc\,<br />
 2009\, 12 éven aluliak számára a megtekintése<br />
 nagykorú felügyelete mellett ajánlott</p>
 <p>rendező\: Hoyt Yeatman<br />
 forgatókönyvíró\: Hoyt Yeatman\,<br />
 Cormac Wibberley\, Marianne Wibberley\,<br />
 Ted Elliott\, Terry Rossio\, Tim Firth<br />
 zeneszerző\: Trevor Rabin<br />
 operatőr\: Bojan Bazelli<br />
 producer\: Jerry Bruckheimer</p>
 
END:VEVENT
BEGIN:VEVENT
DTSTAMP;VALUE=DATE-TIME:20260418T125044Z
DTSTART;VALUE=DATE-TIME:20091101T190000Z
DTEND;VALUE=DATE-TIME:20091101T203000Z
UID:http://jasznaplo.hu/grofno-2
URL;VALUE=URI:http://jasznaplo.hu/grofno-2
SUMMARY:A grófnő
DESCRIPTION:<p>színes magyarul beszélő francia-német<br />
 történelmi dráma\, 98 perc\, 2009 </p>
 <p>rendező\: Julie Delpy<br />
 forgatókönyvíró\: Julie Delpy<br />
 zeneszerző\: Julie Delpy<br />
 operatőr\: Martin Ruhe<br />
 producer\: Matthew E. Chausse<br />
 vágó\: Andrew Bird</p>
 <p>szereplő(k)\:<br />
 Julie Delpy (Báthory Erzsébet)</p>
 
END:VEVENT
BEGIN:VEVENT
DTSTAMP;VALUE=DATE-TIME:20260418T125044Z
DTSTART;VALUE=DATE-TIME:20091102T190000Z
DTEND;VALUE=DATE-TIME:20091102T203000Z
UID:http://jasznaplo.hu/grofno-3
URL;VALUE=URI:http://jasznaplo.hu/grofno-3
SUMMARY:A grófnő
DESCRIPTION:<p>színes magyarul beszélő francia-német<br />
 történelmi dráma\, 98 perc\, 2009 </p>
 <p>rendező\: Julie Delpy<br />
 forgatókönyvíró\: Julie Delpy<br />
 zeneszerző\: Julie Delpy<br />
 operatőr\: Martin Ruhe<br />
 producer\: Matthew E. Chausse<br />
 vágó\: Andrew Bird</p>
 <p>szereplő(k)\:</p>
 
END:VEVENT
BEGIN:VEVENT
DTSTAMP;VALUE=DATE-TIME:20260418T125044Z
DTSTART;VALUE=DATE-TIME:20091103T090000Z
DTEND;VALUE=DATE-TIME:20091103T100000Z
UID:http://jasznaplo.hu/pince
URL;VALUE=URI:http://jasznaplo.hu/pince
SUMMARY:A pince
DESCRIPTION:<p>a Malom Film-Színházban<br />
 a Lehel Vezér Gimnázium 10. n osztályának előadása<br />
 Rendezőtanár\: Fekete Szabó Anikó</p>
 
END:VEVENT
BEGIN:VEVENT
DTSTAMP;VALUE=DATE-TIME:20260418T125044Z
DTSTART;VALUE=DATE-TIME:20091103T190000Z
DTEND;VALUE=DATE-TIME:20091103T203000Z
UID:http://jasznaplo.hu/grofno-4
URL;VALUE=URI:http://jasznaplo.hu/grofno-4
SUMMARY:A grófnő
DESCRIPTION:<p>színes magyarul beszélő francia-német<br />
 történelmi dráma\, 98 perc\, 2009 </p>
 <p>rendező\: Julie Delpy<br />
 forgatókönyvíró\: Julie Delpy<br />
 zeneszerző\: Julie Delpy<br />
 operatőr\: Martin Ruhe<br />
 producer\: Matthew E. Chausse<br />
 vágó\: Andrew Bird</p>
 <p>szereplő(k)\:<br />
 Julie Delpy (Báthory Erzsébet)</p>
 
END:VEVENT
BEGIN:VEVENT
DTSTAMP;VALUE=DATE-TIME:20260418T125044Z
DTSTART;VALUE=DATE-TIME:20091104T150000Z
DTEND;VALUE=DATE-TIME:20091104T160000Z
UID:http://jasznaplo.hu/csillagerinto
URL;VALUE=URI:http://jasznaplo.hu/csillagerinto
SUMMARY:Csillagérintő
DESCRIPTION:<p>a Malom Film-Színházban</p>
 <p>A SZIE ABK <em>Kortárstánc instruktor </em>c. képzés hallgatóinak vizsgabemutatója</p>
 
END:VEVENT
BEGIN:VEVENT
DTSTAMP;VALUE=DATE-TIME:20260418T125044Z
DTSTART;VALUE=DATE-TIME:20091104T160000Z
DTEND;VALUE=DATE-TIME:20091104T170000Z
UID:http://jasznaplo.hu/vilagjaro-sorozat-0
URL;VALUE=URI:http://jasznaplo.hu/vilagjaro-sorozat-0
SUMMARY:Világjáró sorozat
DESCRIPTION:<p>a Déryné Művelődési Központban </p>
 <p>Ég és föld között<br />
 Kovács Béláné Pannika a jászárokszállási Görbe János Színjátszó Egyesület rendezőjének fotókkal illusztrált élménybeszámolója<br />
 Felső-Ausztriáról és a Sasfészekről.</p>
 <p>A belépés díjtalan.</p>
 <p>Minden érdeklődőt szeretettel várunk!</p>
 
END:VEVENT
BEGIN:VEVENT
DTSTAMP;VALUE=DATE-TIME:20260418T125044Z
DTSTART;VALUE=DATE-TIME:20091104T190000Z
DTEND;VALUE=DATE-TIME:20091104T203000Z
UID:http://jasznaplo.hu/grofno-5
URL;VALUE=URI:http://jasznaplo.hu/grofno-5
SUMMARY:A grófnő
DESCRIPTION:<p>színes magyarul beszélő francia-német<br />
 történelmi dráma\, 98 perc\, 2009 </p>
 <p>rendező\: Julie Delpy<br />
 forgatókönyvíró\: Julie Delpy<br />
 zeneszerző\: Julie Delpy<br />
 operatőr\: Martin Ruhe<br />
 producer\: Matthew E. Chausse<br />
 vágó\: Andrew Bird</p>
 <p>szereplő(k)\:<br />
 Julie Delpy (Báthory Erzsébet)</p>
 
END:VEVENT
BEGIN:VEVENT
DTSTAMP;VALUE=DATE-TIME:20260418T125044Z
DTSTART;VALUE=DATE-TIME:20091105T170000Z
DTEND;VALUE=DATE-TIME:20091105T180000Z
UID:http://jasznaplo.hu/eso
URL;VALUE=URI:http://jasznaplo.hu/eso
SUMMARY:ESŐ
DESCRIPTION:<p>a Malom Film-Színházban </p>
 <p>Jász-Nagykun-Szolnok megye irodalmi lapjának élő folyóirat-bemutatója</p>
 
END:VEVENT
BEGIN:VEVENT
DTSTAMP;VALUE=DATE-TIME:20260418T125044Z
DTSTART;VALUE=DATE-TIME:20091106T170000Z
DTEND;VALUE=DATE-TIME:20091106T180000Z
UID:http://jasznaplo.hu/p-csehov-egyfelvonasos-komediak
URL;VALUE=URI:http://jasznaplo.hu/p-csehov-egyfelvonasos-komediak
SUMMARY:A. P. Csehov\: Egyfelvonásos komédiák
DESCRIPTION:<p>a Malom Film-Színházban </p>
 <p>Illyés Gyula Színház\, Beregszász<br />
 Rendező\: Vidnyánszky Attila</p>
 
END:VEVENT
BEGIN:VEVENT
DTSTAMP;VALUE=DATE-TIME:20260418T125044Z
DTSTART;VALUE=DATE-TIME:20091107T170000Z
DTEND;VALUE=DATE-TIME:20091107T180000Z
UID:http://jasznaplo.hu/pince-0
URL;VALUE=URI:http://jasznaplo.hu/pince-0
SUMMARY:A pince
DESCRIPTION:<p>a Malom Film-Színházban<br />
 a Lehel Vezér Gimnázium 10. n osztályának előadása<br />
 Rendezőtanár\: Fekete Szabó Anikó</p>
 
END:VEVENT
BEGIN:VEVENT
DTSTAMP;VALUE=DATE-TIME:20260418T125044Z
DTSTART;VALUE=DATE-TIME:20091108T080000Z
DTEND;VALUE=DATE-TIME:20091108T150000Z
UID:http://jasznaplo.hu/natura-nap-2009
URL;VALUE=URI:http://jasznaplo.hu/natura-nap-2009
SUMMARY:Natura nap 2009
DESCRIPTION:<p>A Déryné Művelődési Központ szeretettel meghívja Önt és ismerőseit a  NATURA NAP programjaira<br />
 Helyszínek\: DMK Ifjúsági Ház  (Jászberény\, Bercsényi u. 1/A)<br />
 és Városi Könyvtár és Információs Központ (Jászberény\, Bercsényi u. 1.) </p>
 <p><strong>Előadások a Városi Könyvtár és Információs Központban</strong> </p>
 <p>9.00 – 9.45<br />
 Dr. Ördögné Vecsey Katalin\:<br />
 A gyerekek öt szeretet nyelve </p>
 <p>10.00-10.45<br />
 Németné Wéber Gabriella\:<br />
 Őseink hagyatéka\: A magyar térrendezés<br />
 (Ízelítő a konyha térrendezéséhez) </p>
 <p>11.00-11.45<br />
 Juhász Márti\:<br />
 A lélek útja a fogantatástól a világrajövetelig </p>
 <p>12.00-12.45<br />
 Dr. Munkácsi Katalin\:<br />
 Gáttáji problémáink        <br />
 Intim – wellnes</p>
 
END:VEVENT
BEGIN:VEVENT
DTSTAMP;VALUE=DATE-TIME:20260418T125044Z
DTSTART;VALUE=DATE-TIME:20091109T160000Z
DTEND;VALUE=DATE-TIME:20091109T200000Z
UID:http://jasznaplo.hu/jaszsagi-meheszegyesulet-eloadas
URL;VALUE=URI:http://jasznaplo.hu/jaszsagi-meheszegyesulet-eloadas
SUMMARY:Jászsági Méhészegyesület - előadás
DESCRIPTION:<p>a DMK Ifjúsági Házban<br />
 Jászsági Méhészegyesület<br />
 Növényvédelem\, méhmérgezés\, kártérítés<br />
 Előadó\: Malya Péter</p>
 
END:VEVENT
BEGIN:VEVENT
DTSTAMP;VALUE=DATE-TIME:20260418T125044Z
DTSTART;VALUE=DATE-TIME:20091112T080000Z
DTEND;VALUE=DATE-TIME:20091112T090000Z
UID:http://jasznaplo.hu/opera-%E2%80%93-keresztmetszet
URL;VALUE=URI:http://jasznaplo.hu/opera-%E2%80%93-keresztmetszet
SUMMARY:OPERA – KERESZTMETSZET
DESCRIPTION:<p>Filharmóniai hangverseny általános iskolásoknak<br />
 <strong></strong><strong>Időpont\:</strong><strong> </strong>2009. november 12. (csütörtök) 9.00 és 10.10 óra</p>
 
END:VEVENT
BEGIN:VEVENT
DTSTAMP;VALUE=DATE-TIME:20260418T125044Z
DTSTART;VALUE=DATE-TIME:20091112T091000Z
DTEND;VALUE=DATE-TIME:20091112T101000Z
UID:http://jasznaplo.hu/opera-%E2%80%93-keresztmetszet-0
URL;VALUE=URI:http://jasznaplo.hu/opera-%E2%80%93-keresztmetszet-0
SUMMARY:OPERA – KERESZTMETSZET
DESCRIPTION:<p>Filharmóniai hangverseny általános iskolásoknak<br />
 <strong>Időpont\:</strong><strong> </strong>2009. november 12. (csütörtök) 9.00 és 10.10 óra<br />
 <strong>Helyszín\:</strong><strong> </strong>DMK Ifjúsági Ház (Jászberény\, Bercsényi út 1/a) <br />
 <strong>Műsor\:</strong>  – az opera keresztmetszete jelmezekkel –  a Szolnoki Szimfonikus Zenekar hangversenye<strong> <br />
 </strong><strong>Vezényel\: </strong>Bali József / Bolyky Zoltán     </p>
 <p>Az előadásra szóló bérlet ára <strong>1.000 Ft</strong>\, amely megvásárolható a Déryné Művelődési Központban hétköznap 8.00 – 16.00 óráig. <br />
 Szóló jegyek korlátozott számban előadás előtt a helyszínen vásárolhatók.</p>
 
END:VEVENT
BEGIN:VEVENT
DTSTAMP;VALUE=DATE-TIME:20260418T125044Z
DTSTART;VALUE=DATE-TIME:20091113T180000Z
DTEND;VALUE=DATE-TIME:20091113T190000Z
UID:http://jasznaplo.hu/viva-rock-and-roll
URL;VALUE=URI:http://jasznaplo.hu/viva-rock-and-roll
SUMMARY:Viva Rock and Roll 
DESCRIPTION:<p>a Malom Film-Színházban</p>
 <p><strong></strong></p>
 <p>MoonWoofers\, Jászberény</p>
 <p></p>
 
END:VEVENT
BEGIN:VEVENT
DTSTAMP;VALUE=DATE-TIME:20260418T125044Z
DTSTART;VALUE=DATE-TIME:20091113T200000Z
DTEND;VALUE=DATE-TIME:20091113T200000Z
UID:http://jasznaplo.hu/retro-disco-3
URL;VALUE=URI:http://jasznaplo.hu/retro-disco-3
SUMMARY:Retro disco
DESCRIPTION:<p>a DMK Ifjúsági Ház</p>
 <p><strong></strong></p>
 <p>Retro disco<br />
 Rezidens\: <strong>DJ. YOKO &amp\; DJ. GUBA<br />
 </strong><br />
 Belépő\: 900.-<br />
 diákigazolvánnyal 600.- Ft.</p>
 <p></p>
 
END:VEVENT
BEGIN:VEVENT
DTSTAMP;VALUE=DATE-TIME:20260418T125044Z
DTSTART;VALUE=DATE-TIME:20091114T160000Z
DTEND;VALUE=DATE-TIME:20091114T170000Z
UID:http://jasznaplo.hu/harmonia-ovonoi-kamarakorus
URL;VALUE=URI:http://jasznaplo.hu/harmonia-ovonoi-kamarakorus
SUMMARY:Harmónia Óvónői Kamarakórus
DESCRIPTION:<p>a Déryné Művelődési Központ dísztermében</p>
 <p>HARMÓNIA ÓVÓNŐI KAMARAKÓRUS<br />
 10 éves jubileumi hangversenye</p>
 <p>A belépés díjtalan.</p>
 
END:VEVENT
BEGIN:VEVENT
DTSTAMP;VALUE=DATE-TIME:20260418T125044Z
DTSTART;VALUE=DATE-TIME:20091118T170000Z
DTEND;VALUE=DATE-TIME:20091118T180000Z
UID:http://jasznaplo.hu/digitalis-show-digirama-bemutato
URL;VALUE=URI:http://jasznaplo.hu/digitalis-show-digirama-bemutato
SUMMARY:\\"Digitális Show\\" digiráma bemutató
DESCRIPTION:<p>A Városi Könyvtár és Információs Központ tetőtéri Kamaratermében. A Jászkun Fotóklub filmklip vetítése.A vetítés előtt Csidér Bálint (E-MAFOSZ) fotóművész tart tájékoztatást a digiráma műfajáról.<br />
 <a href=\\"http\://193.224.158.130/jbvk/media/files/Plakat-2-Jbereny.jpg\\" title=\\"http\://193.224.158.130/jbvk/media/files/Plakat-2-Jbereny.jpg\\" rel=\\"nofollow\\">http\://193.224.158.130/jbvk/media/files/Plakat-2-Jbereny.jpg</a></p>
 
END:VEVENT
BEGIN:VEVENT
DTSTAMP;VALUE=DATE-TIME:20260418T125044Z
DTSTART;VALUE=DATE-TIME:20091120T180000Z
DTEND;VALUE=DATE-TIME:20091120T190000Z
UID:http://jasznaplo.hu/sztele
URL;VALUE=URI:http://jasznaplo.hu/sztele
SUMMARY:Sztélé
DESCRIPTION:<p>a Malom Film-Színházban</p>
 <p><strong></strong></p>
 <p>Artus Táncszínház\, Budapest<br />
 Rendező\: Goda Gábor</p>
 <p></p>
 
END:VEVENT
BEGIN:VEVENT
DTSTAMP;VALUE=DATE-TIME:20260418T125044Z
DTSTART;VALUE=DATE-TIME:20091121T170000Z
DTEND;VALUE=DATE-TIME:20091121T225900Z
UID:http://jasznaplo.hu/40-eves-lehel-tancklub
URL;VALUE=URI:http://jasznaplo.hu/40-eves-lehel-tancklub
SUMMARY:40 éves a Lehel Táncklub
DESCRIPTION:<p><strong></strong></p>
 <p>MEGHÍVÓ<br />
 A 40 éves LEHEL TÁNCKLUB <em>2009. november 21-én<br />
 18.00 órától  </em>várja a régi és mai táncosokat jubileumi összejövetelére a DMK Ifjúsági Házba.<br />
 </p>
 
END:VEVENT
BEGIN:VEVENT
DTSTAMP;VALUE=DATE-TIME:20260418T125044Z
DTSTART;VALUE=DATE-TIME:20091121T180000Z
DTEND;VALUE=DATE-TIME:20091121T190000Z
UID:http://jasznaplo.hu/egy-asszony-es-egyeb-alkotasok
URL;VALUE=URI:http://jasznaplo.hu/egy-asszony-es-egyeb-alkotasok
SUMMARY:Egy asszony és egyéb alkotások
DESCRIPTION:<p><strong></strong></p>
 <p>a Malom Film-Színházban</p>
 <p>Jászság Népi Együttes\, Jászberény<br />
 Közreműködik a BaHorKa Együttes és a Jártató Táncegyüttes\,<br />
 kísér a Zagyva Banda</p>
 <p>Utána 21 órától táncház a Víz utcában </p>
 <p></p>
 
END:VEVENT
BEGIN:VEVENT
DTSTAMP;VALUE=DATE-TIME:20260418T125044Z
DTSTART;VALUE=DATE-TIME:20091122T140000Z
DTEND;VALUE=DATE-TIME:20091122T150000Z
UID:http://jasznaplo.hu/jotekonysagi-hangverseny
URL;VALUE=URI:http://jasznaplo.hu/jotekonysagi-hangverseny
SUMMARY:Jótékonysági hangverseny
DESCRIPTION:<p><strong>MEGHÍVÓ</strong><br />
 A Palotásy Kórus Alapítvány tisztelettel meghívja Önt és kedves családját<br />
 <strong><em>2009. november 22. (vasárnap) 15 órára</em></strong><br />
 JÓTÉKONYSÁGI HANGVERSENYRE<br />
 a Déryné Művelődési Központ dísztermébe<br />
 Fellép\:<br />
 <strong>Palotásy János Vegyeskar<br />
 Velkei Alexandra</strong> – ének – a Budapesti Szent István Konzervatórium hallgatója<br />
 <strong>Terplán Zénó Műszaki és Közgazdasági Szakképző Iskola Vegyeskara</strong><br />
 Vezényel\:<br />
 <strong>Bedőné Bakki Katalin<br />
 Thormanné Husznay Mária<br />
 </strong>Zongorán kísér\:<br />
 <strong>Réz Lóránt</strong> orgonaművész<br />
 Konferál\: <strong>Dr. Kissné Kohári Erzsébet</strong><br />
 A belépés díjtalan.<br />
 Adományokat a Ferences Templom javára a tűz utáni helyreállítás költségeihez köszönettel várunk.<br />
 A hangverseny támogatói\:</p>
 
END:VEVENT
BEGIN:VEVENT
DTSTAMP;VALUE=DATE-TIME:20260418T125044Z
DTSTART;VALUE=DATE-TIME:20091123T093000Z
DTEND;VALUE=DATE-TIME:20091123T103000Z
UID:http://jasznaplo.hu/hamletws
URL;VALUE=URI:http://jasznaplo.hu/hamletws
SUMMARY:hamlet.ws 
DESCRIPTION:<p>Krétakör Színház\, Budapest<br />
 10.30<br />
 Liska József Szakközépiskola és Gimnáziumban<br />
 15.00<br />
 Lehel Vezér Gimnáziumban</p>
 
END:VEVENT
BEGIN:VEVENT
DTSTAMP;VALUE=DATE-TIME:20260418T125044Z
DTSTART;VALUE=DATE-TIME:20091123T160000Z
DTEND;VALUE=DATE-TIME:20091123T170000Z
UID:http://jasznaplo.hu/eltuno-taj-ertekeink-nyomaban
URL;VALUE=URI:http://jasznaplo.hu/eltuno-taj-ertekeink-nyomaban
SUMMARY:Eltűnő táj - értékeink nyomában
DESCRIPTION:<p>Népfőiskolai előadás a Gazdakör helyiségében (Jászberény\, Árpád u. 14.)</p>
 <p>Előadó\: Dr. Tóth Albert a Tessedik Sámuel Főiskola ny. tanszékvezető tanára\, Mezőtúr</p>
 
END:VEVENT
BEGIN:VEVENT
DTSTAMP;VALUE=DATE-TIME:20260418T125044Z
DTSTART;VALUE=DATE-TIME:20091124T233000Z
DTEND;VALUE=DATE-TIME:20091125T093000Z
UID:http://jasznaplo.hu/%E2%80%9E-ragtime-tol-swing-ig%E2%80%9D
URL;VALUE=URI:http://jasznaplo.hu/%E2%80%9E-ragtime-tol-swing-ig%E2%80%9D
SUMMARY:„A RAGTIME-TÓL A SWING-IG”
DESCRIPTION:<p>Filharmóniai hangverseny középiskolásoknak</p>
 <p><strong><em>2009. november 25. (szerda) 9.30 és 11.00 óra<br />
 </em></strong><em>Helyszín\: DMK Ifjúsági Ház </em></p>
 <p><em>Műsor\: </em><strong>„A RAGTIME-TÓL A SWING-IG”<br />
 </strong></p>
 
END:VEVENT
BEGIN:VEVENT
DTSTAMP;VALUE=DATE-TIME:20260418T125044Z
DTSTART;VALUE=DATE-TIME:20091125T100000Z
DTEND;VALUE=DATE-TIME:20091125T110000Z
UID:http://jasznaplo.hu/%E2%80%9E-ragtime-tol-swing-ig%E2%80%9D-0
URL;VALUE=URI:http://jasznaplo.hu/%E2%80%9E-ragtime-tol-swing-ig%E2%80%9D-0
SUMMARY:„A RAGTIME-TÓL A SWING-IG”
DESCRIPTION:<p> Filharmóniai hangverseny középiskolásoknak</p>
 <p><strong><em>2009. november 25. (szerda) 9.30 és 11.00 óra<br />
 </em></strong><em>Helyszín\: DMK Ifjúsági Ház </em></p>
 <p><em>Műsor\: </em><strong>„A RAGTIME-TÓL A SWING-IG”<br />
 </strong></p>
 
END:VEVENT
END:VCALENDAR
