BEGIN:VCALENDAR
VERSION:2.0
METHOD:PUBLISH
X-WR-CALNAME:Jász Napló |  július 01 2009- július 31 2009
PRODID:-//strange bird labs//Drupal iCal API//EN
BEGIN:VEVENT
DTSTAMP;VALUE=DATE-TIME:20260420T105211Z
DTSTART;VALUE=DATE-TIME:20090701T160000Z
DTEND;VALUE=DATE-TIME:20090701T170000Z
UID:http://jasznaplo.hu/neszuri-kepek-fotokiallitas-megnyito
URL;VALUE=URI:http://jasznaplo.hu/neszuri-kepek-fotokiallitas-megnyito
SUMMARY:Neszűri képek fotókiállítás megnyitó
DESCRIPTION:<p><strong><em></em></strong></p>
 <p>Július 1-11.<br />
 Déryné u. 6. </p>
 <p><strong>„NESZŰRI KÉPEK”<br />
 A DIGITÁLISAN FOTÓZÓK KLUBJÁNAK FOTÓKIÁLLÍTÁSA </strong></p>
 <p>Megnyitó\: <strong><em>július 1. (szerda) 17.00 óra<br />
 </em></strong>Látogatható\: hétköznap <strong><em>10.00 – 17.00 óráig<br />
 </em></strong>szombaton <strong><em>14.00 – 17.00 óráig</em></strong> </p>
 <p>Fotók\: <a href=\\"http\://www.jasznaplo.hu/category/galeria/kiallitasok-2009/neszuri-kepek-fotokiallitas-megnyito-2009\\" rel=\\"nofollow\\">http\://www.jasznaplo.hu/category/galeria/kiallitasok-2009/neszuri-kepek-fotokiallitas-megnyito-2009</a></p>
 <p></p>
 
END:VEVENT
BEGIN:VEVENT
DTSTAMP;VALUE=DATE-TIME:20260420T105211Z
DTSTART;VALUE=DATE-TIME:20090701T170000Z
DTEND;VALUE=DATE-TIME:20090701T183000Z
UID:http://jasznaplo.hu/papirrepulok-17
URL;VALUE=URI:http://jasznaplo.hu/papirrepulok-17
SUMMARY:Papírrepülők
DESCRIPTION:<p>színes magyar játékfilm\, 94 perc\, 2009<br />
 16 éven aluliak számára nem ajánlott </p>
 <p>rendező\: Szabó Simon<br />
 forgatókönyvíró\: Szabó Simon<br />
 operatőr\: Czomba Albert<br />
 producer\: Csáky Attila<br />
 vágó\: Czomba Albert</p>
 <p>szereplő(k)\:<br />
 Bódi Eszter<br />
 Hőrich Nóra Lili<br />
 Znamenák István<br />
 Sohonyai Péter<br />
 Szabó Simon<br />
 Müller Fruzsina</p>
 
END:VEVENT
BEGIN:VEVENT
DTSTAMP;VALUE=DATE-TIME:20260420T105211Z
DTSTART;VALUE=DATE-TIME:20090701T190000Z
DTEND;VALUE=DATE-TIME:20090701T203000Z
UID:http://jasznaplo.hu/papirrepulok-18
URL;VALUE=URI:http://jasznaplo.hu/papirrepulok-18
SUMMARY:Papírrepülők
DESCRIPTION:<p>színes magyar játékfilm\, 94 perc\, 2009<br />
 16 éven aluliak számára nem ajánlott </p>
 <p>rendező\: Szabó Simon<br />
 forgatókönyvíró\: Szabó Simon<br />
 operatőr\: Czomba Albert<br />
 producer\: Csáky Attila<br />
 vágó\: Czomba Albert</p>
 <p>szereplő(k)\:<br />
 Bódi Eszter<br />
 Hőrich Nóra Lili<br />
 Znamenák István<br />
 Sohonyai Péter<br />
 Szabó Simon<br />
 Müller Fruzsina</p>
 
END:VEVENT
BEGIN:VEVENT
DTSTAMP;VALUE=DATE-TIME:20260420T105211Z
DTSTART;VALUE=DATE-TIME:20090702T090000Z
DTEND;VALUE=DATE-TIME:20090711T160000Z
UID:http://jasznaplo.hu/neszuri-kepek-fotokiallitas
URL;VALUE=URI:http://jasznaplo.hu/neszuri-kepek-fotokiallitas
SUMMARY:Neszűri képek fotókiállítás 
DESCRIPTION:<p><strong><em></em></strong></p>
 <p>Július 1-11.<br />
 Déryné u. 6. </p>
 <p><strong>„NESZŰRI KÉPEK”<br />
 A DIGITÁLISAN FOTÓZÓK KLUBJÁNAK FOTÓKIÁLLÍTÁSA </strong></p>
 <p>Látogatható\: hétköznap <strong><em>10.00 – 17.00 óráig<br />
 </em></strong>szombaton <strong><em>14.00 – 17.00 óráig</em></strong> </p>
 <p>Fotók\: <a href=\\"http\://www.jasznaplo.hu/category/galeria/kiallitasok-2009/neszuri-kepek-fotokiallitas-megnyito-2009\\" rel=\\"nofollow\\">http\://www.jasznaplo.hu/category/galeria/kiallitasok-2009/neszuri-kepek-fotokiallitas-megnyito-2009</a></p>
 <p></p>
 
END:VEVENT
BEGIN:VEVENT
DTSTAMP;VALUE=DATE-TIME:20260420T105211Z
DTSTART;VALUE=DATE-TIME:20090703T190000Z
DTEND;VALUE=DATE-TIME:20090703T210000Z
UID:http://jasznaplo.hu/hooligans-koncert
URL;VALUE=URI:http://jasznaplo.hu/hooligans-koncert
SUMMARY:Hooligans koncert
DESCRIPTION:<p>Szabadtéri Színpad Belépődíj\: 1.600 Ft</p>
 <p>Fotók\: <a href=\\"http\://www.jasznaplo.hu/category/galeria/koncert-2009/hooligans-koncert-2009\\" rel=\\"nofollow\\">http\://www.jasznaplo.hu/category/galeria/koncert-2009/hooligans-koncert-2009</a></p>
 
END:VEVENT
BEGIN:VEVENT
DTSTAMP;VALUE=DATE-TIME:20260420T105211Z
DTSTART;VALUE=DATE-TIME:20090704T090000Z
DTEND;VALUE=DATE-TIME:20090704T170000Z
UID:http://jasznaplo.hu/kelet-kupa-orszagos-moto-cross-bajnoki-futam
URL;VALUE=URI:http://jasznaplo.hu/kelet-kupa-orszagos-moto-cross-bajnoki-futam
SUMMARY:KELET  KUPA ORSZÁGOS MOTO-CROSS BAJNOKI  FUTAM
DESCRIPTION:<p>Moto-cross pálya (katonák földje) </p>
 <p>Fotók\: <a href=\\"/category/galeria/sport-2009/orszagos-moto-cross-bajnoki-futam-2009\\" rel=\\"nofollow\\">http\://jasznaplo.hu/category/galeria/sport-2009/orszagos-moto-cross-bajnoki-futam-2009</a></p>
 
END:VEVENT
BEGIN:VEVENT
DTSTAMP;VALUE=DATE-TIME:20260420T105211Z
DTSTART;VALUE=DATE-TIME:20090710T190000Z
DTEND;VALUE=DATE-TIME:20090710T210000Z
UID:http://jasznaplo.hu/szolnoki-szigligeti-szinhaz-eloadasa
URL;VALUE=URI:http://jasznaplo.hu/szolnoki-szigligeti-szinhaz-eloadasa
SUMMARY:A SZOLNOKI SZIGLIGETI SZÍNHÁZ ELŐADÁSA
DESCRIPTION:<p><strong>A pénteki előadást - eső miatt - vasárnap 20.00 órakor tartják meg.</strong> </p>
 <p>Július 10-11. (péntek – szombat) 20.00 óra Honvéd Jász Kaszinó (Bercsényi út 27.) esőnap\: július 12. (vasárnap) 20.00 óra Dan Goggin\: APÁCÁK – zenés játék két részben – Fordította\: Téli Márta Versek\: Gebora György Mária Regina\, főnökasszony Császár Gyöngyi Mária Huberta\, nővér Sztárek Andrea Márai Roberta\, nővér Kertész Marcella Mária Amnézia\, nővér Lugosi Claudia Lea\, novícia Sárvári Diána / Huszárik Kata Jelmez és játéktér\: Radó Denise Koreográfus\: Kinczel József Segédrendező\: Kádár Krisztina Zenei vezető\: Rácz Márton Rendező\: RADÓ DENISE Belépődíj\: 1.500 Ft </p>
 <p>Fotók\: <a href=\\"/category/galeria/musor-hangverseny-2009/apacak-szolnoki-szigligeti-szinhaz-eloadasa-2009\\" rel=\\"nofollow\\">http\://jasznaplo.hu/category/galeria/musor-hangverseny-2009/apacak-szolnoki-szigligeti-szinhaz-eloadasa-2009</a></p>
 
END:VEVENT
BEGIN:VEVENT
DTSTAMP;VALUE=DATE-TIME:20260420T105211Z
DTSTART;VALUE=DATE-TIME:20090710T230000Z
DTEND;VALUE=DATE-TIME:20090711T160000Z
UID:http://jasznaplo.hu/xiv-electrolux-dijugrato-lovasverseny
URL;VALUE=URI:http://jasznaplo.hu/xiv-electrolux-dijugrato-lovasverseny
SUMMARY:XIV. ELECTROLUX DÍJUGRATÓ LOVASVERSENY
DESCRIPTION:<p>Jászberény Város Önkormányzat Lehel Sport Kft. sportlétesítményeinek füves pályája A rendezvénnyel egyidőben kerül megrendezésre a meghívásos főzőverseny az „Electrolux Lehel Kft. Főzőbajnoka” címért. Információ\: Fekete Zsanett pr manager 57/416-104\, 30/219-1319 </p>
 <p>Fotók\: <a href=\\"http\://jasznaplo.hu/category/galeria/sport-2009/xiv-electrolux-dijugrato-lovasverseny-2009-i-resz\\" title=\\"http\://jasznaplo.hu/category/galeria/sport-2009/xiv-electrolux-dijugrato-lovasverseny-2009-i-resz\\" rel=\\"nofollow\\">http\://jasznaplo.hu/category/galeria/sport-2009/xiv-electrolux-dijugrato...</a></p>
 
END:VEVENT
BEGIN:VEVENT
DTSTAMP;VALUE=DATE-TIME:20260420T105211Z
DTSTART;VALUE=DATE-TIME:20090711T190000Z
DTEND;VALUE=DATE-TIME:20090711T212600Z
UID:http://jasznaplo.hu/szolnoki-szigligeti-szinhaz-eloadasa-0
URL;VALUE=URI:http://jasznaplo.hu/szolnoki-szigligeti-szinhaz-eloadasa-0
SUMMARY:A SZOLNOKI SZIGLIGETI SZÍNHÁZ ELŐADÁSA
DESCRIPTION:<p><strong>A pénteki előadást -eső miatt - vasárnap 20.00 órakor tartják meg.</strong> </p>
 <p>Július 10-11. (péntek – szombat) 20.00 óra Honvéd Jász Kaszinó (Bercsényi út 27.) esőnap\: július 12. (vasárnap) 20.00 óra Dan Goggin\: APÁCÁK – zenés játék két részben – Fordította\: Téli Márta Versek\: Gebora György Mária Regina\, főnökasszony Császár Gyöngyi Mária Huberta\, nővér Sztárek Andrea Márai Roberta\, nővér Kertész Marcella Mária Amnézia\, nővér Lugosi Claudia Lea\, novícia Sárvári Diána / Huszárik Kata Jelmez és játéktér\: Radó Denise Koreográfus\: Kinczel József Segédrendező\: Kádár Krisztina Zenei vezető\: Rácz Márton Rendező\: RADÓ DENISE Belépődíj\: 1.500 Ft </p>
 <p>Fotók\: <a href=\\"/category/galeria/musor-hangverseny-2009/apacak-szolnoki-szigligeti-szinhaz-eloadasa-2009\\" rel=\\"nofollow\\">http\://jasznaplo.hu/category/galeria/musor-hangverseny-2009/apacak-szolnoki-szigligeti-szinhaz-eloadasa-2009</a></p>
 
END:VEVENT
BEGIN:VEVENT
DTSTAMP;VALUE=DATE-TIME:20260420T105211Z
DTSTART;VALUE=DATE-TIME:20090711T200000Z
DTEND;VALUE=DATE-TIME:20090711T225900Z
UID:http://jasznaplo.hu/etna-koncert-szoloskertben
URL;VALUE=URI:http://jasznaplo.hu/etna-koncert-szoloskertben
SUMMARY:ETNA koncert a Szőlőskertben
DESCRIPTION:<p>ETNA koncert lesz a Szőlőskertben. Mindenkit várunk egy kis kikapcsolódásra a zene segítségével. Rock\, blues\, sör!</p>
 
END:VEVENT
BEGIN:VEVENT
DTSTAMP;VALUE=DATE-TIME:20260420T105211Z
DTSTART;VALUE=DATE-TIME:20090712T190000Z
DTEND;VALUE=DATE-TIME:20090712T210000Z
UID:http://jasznaplo.hu/szolnoki-szigligeti-szinhaz-eloadasa-1
URL;VALUE=URI:http://jasznaplo.hu/szolnoki-szigligeti-szinhaz-eloadasa-1
SUMMARY:A Szolnoki Szigligeti Színház előadása
DESCRIPTION:<p><strong>A pénteki előadást -eső miatt - vasárnap 20.00 órakor tartják meg.</strong> </p>
 <p>Július 10-11. (péntek – szombat) 20.00 óra Honvéd Jász Kaszinó (Bercsényi út 27.) esőnap\: július 12. (vasárnap) 20.00 óra Dan Goggin\: APÁCÁK – zenés játék két részben – Fordította\: Téli Márta Versek\: Gebora György Mária Regina\, főnökasszony Császár Gyöngyi Mária Huberta\, nővér Sztárek Andrea Márai Roberta\, nővér Kertész Marcella Mária Amnézia\, nővér Lugosi Claudia Lea\, novícia Sárvári Diána / Huszárik Kata Jelmez és játéktér\: Radó Denise Koreográfus\: Kinczel József Segédrendező\: Kádár Krisztina Zenei vezető\: Rácz Márton Rendező\: RADÓ DENISE Belépődíj\: 1.500 Ft </p>
 <p>Fotók\: <a href=\\"/category/galeria/musor-hangverseny-2009/apacak-szolnoki-szigligeti-szinhaz-eloadasa-2009\\" rel=\\"nofollow\\">http\://jasznaplo.hu/category/galeria/musor-hangverseny-2009/apacak-szolnoki-szigligeti-szinhaz-eloadasa-2009</a></p>
 
END:VEVENT
BEGIN:VEVENT
DTSTAMP;VALUE=DATE-TIME:20260420T105211Z
DTSTART;VALUE=DATE-TIME:20090713T230000Z
DTEND;VALUE=DATE-TIME:20020203
UID:http://jasznaplo.hu/gomb-es-gyongykepek-kiallitas
URL;VALUE=URI:http://jasznaplo.hu/gomb-es-gyongykepek-kiallitas
SUMMARY:GOMB- ÉS GYÖNGYKÉPEK kiállítás
DESCRIPTION:<p>Déryné Művelődési Központ aulája<br />
 SINKA ISTVÁNNÉ – GOMBOS ROZI – GOMB- ÉS GYÖNGYKÉPEI</p>
 
END:VEVENT
BEGIN:VEVENT
DTSTAMP;VALUE=DATE-TIME:20260420T105211Z
DTSTART;VALUE=DATE-TIME:20090714T210000Z
DTEND;VALUE=DATE-TIME:20090714T220000Z
UID:http://jasznaplo.hu/deryne-vegyeskar-nyaresti-szerenadja
URL;VALUE=URI:http://jasznaplo.hu/deryne-vegyeskar-nyaresti-szerenadja
SUMMARY:A DÉRYNÉ VEGYESKAR NYÁRESTI SZERENÁDJA
DESCRIPTION:<p>Déryné Művelődési Központ előtt Vezényel\: Ferencz Sándor Vendégként fellép a Palotásy János Vegyeskar. Vezényel\: Bedőné Bakki Katalin </p>
 <p>Fotók\: <a href=\\"http\://www.jasznaplo.hu/category/galeria/musor-hangverseny-2009/nyaresti-szerenad-2009\\" rel=\\"nofollow\\">http\://www.jasznaplo.hu/category/galeria/musor-hangverseny-2009/nyaresti-szerenad-2009</a></p>
 
END:VEVENT
BEGIN:VEVENT
DTSTAMP;VALUE=DATE-TIME:20260420T105211Z
DTSTART;VALUE=DATE-TIME:20090714T230000Z
DTEND;VALUE=DATE-TIME:20020203
UID:http://jasznaplo.hu/gang-galeria-%E2%80%93-textil-kiallitasok
URL;VALUE=URI:http://jasznaplo.hu/gang-galeria-%E2%80%93-textil-kiallitasok
SUMMARY:GANG GALÉRIA – TEXTIL KIÁLLÍTÁSOK -
DESCRIPTION:<p>Árpád u. 2.</p>
 <p>GANG GALÉRIA – TEXTIL KIÁLLÍTÁSOK -</p>
 <p>Kiállítók\:	Guba Béláné – hímzés<br />
 		Ingesné Fehér Mónika – foltvarrás<br />
 		Dr. Tóth Józsefné – gobelin<br />
 		Hoffer Judit – gobelin</p>
 <p>Megnyitó\: 	július 15. (szerda) 17.00 óra<br />
 Látogatható\: 	naponta 10.00 – 16.00 óráig</p>
 
END:VEVENT
BEGIN:VEVENT
DTSTAMP;VALUE=DATE-TIME:20260420T105211Z
DTSTART;VALUE=DATE-TIME:20090715T230000Z
DTEND;VALUE=DATE-TIME:20020203
UID:http://jasznaplo.hu/penczner-pal-festomuvesz-kiallitasa
URL;VALUE=URI:http://jasznaplo.hu/penczner-pal-festomuvesz-kiallitasa
SUMMARY:PENCZNER PÁL FESTŐMŰVÉSZ KIÁLLÍTÁSA
DESCRIPTION:<p>Déryné u 6. PENCZNER PÁL FESTŐMŰVÉSZ KIÁLLÍTÁSA Megnyitó\: július 16. (csütörtök) 17.00 óra Látogatható\: hétköznap 10.00 – 17.00 óráig szombaton 14.00 – 17.00 óráig</p>
 <p>Fotók\: <a href=\\"http\://www.jasznaplo.hu/category/galeria/kiallitasok-2009/penczner-pal-festomuvesz-kiallitasa-2009\\" rel=\\"nofollow\\">http\://www.jasznaplo.hu/category/galeria/kiallitasok-2009/penczner-pal-festomuvesz-kiallitasa-2009</a></p>
 
END:VEVENT
BEGIN:VEVENT
DTSTAMP;VALUE=DATE-TIME:20260420T105211Z
DTSTART;VALUE=DATE-TIME:20090717T230000Z
DTEND;VALUE=DATE-TIME:20090718T150000Z
UID:http://jasznaplo.hu/nepi-etelek-8-fozoversenye
URL;VALUE=URI:http://jasznaplo.hu/nepi-etelek-8-fozoversenye
SUMMARY:NÉPI ÉTELEK 8. FŐZŐVERSENYE
DESCRIPTION:<p>Margit-sziget NÉPI ÉTELEK 8. FŐZŐVERSENYE Rendező\: Jászsági Vendéglátók Egyesülete Információ\: Bobák József 30/316-2247 </p>
 <p>Fotó\: <a href=\\"http\://www.jasznaplo.hu/category/galeria/egyeb-rendezvenyek-2009/nepi-etelek-8-fozoversenye-2009\\" rel=\\"nofollow\\">http\://www.jasznaplo.hu/category/galeria/egyeb-rendezvenyek-2009/nepi-etelek-8-fozoversenye-2009</a></p>
 
END:VEVENT
BEGIN:VEVENT
DTSTAMP;VALUE=DATE-TIME:20260420T105211Z
DTSTART;VALUE=DATE-TIME:20090718T170000Z
DTEND;VALUE=DATE-TIME:20090718T200000Z
UID:http://jasznaplo.hu/szorakoztato-programok
URL;VALUE=URI:http://jasznaplo.hu/szorakoztato-programok
SUMMARY:SZÓRAKOZTATÓ PROGRAMOK
DESCRIPTION:<p>Kamaraszínpad<br />
 Déryné Művelődési Központ előtt</p>
 
END:VEVENT
BEGIN:VEVENT
DTSTAMP;VALUE=DATE-TIME:20260420T105211Z
DTSTART;VALUE=DATE-TIME:20090719T153000Z
DTEND;VALUE=DATE-TIME:20090719T170000Z
UID:http://jasznaplo.hu/handel-sandor-unnep
URL;VALUE=URI:http://jasznaplo.hu/handel-sandor-unnep
SUMMARY:HÄNDEL\: SÁNDOR-ÜNNEP
DESCRIPTION:<p>Nagyboldogasszony Római Katolikus Főtemplom HÄNDEL\: SÁNDOR-ÜNNEP Händel “Sándor-ünnep” című oratóriuma Nagy Sándor uralkodásának korát idézi. A mű szövege John Dryden költeménye nyomán készült. Nélkülözi a drámai cselekményt\, nem egyéb\, mint lírikus és ünnepélyes számok sorozata\, ami a zene erejével\, Händel művészetének festői\, ábrázoló hatásával\, rendkívüli népszerűséget ért el. Előadják\: Palotásy János Vegyeskar – Jászberény Esztergomi Balassa Bálint Vegyeskar Esztergomi Szimfonikus Zenekar Karigazgató\: Reményi Károly Vezényel\: Bedőné Bakki Katalin Konferál\: Dr. Kissné Kohári Erzsébet Belépődíj\: 1.000 Ft</p>
 <p>Fotó\: <a href=\\"http\://www.jasznaplo.hu/category/galeria/musor-hangverseny-2009/handel-sandor-unnep-2009\\" rel=\\"nofollow\\">http\://www.jasznaplo.hu/category/galeria/musor-hangverseny-2009/handel-sandor-unnep-2009</a></p>
 
END:VEVENT
BEGIN:VEVENT
DTSTAMP;VALUE=DATE-TIME:20260420T105211Z
DTSTART;VALUE=DATE-TIME:20090719T170000Z
DTEND;VALUE=DATE-TIME:20090719T200000Z
UID:http://jasznaplo.hu/szorakoztato-programok-0
URL;VALUE=URI:http://jasznaplo.hu/szorakoztato-programok-0
SUMMARY:SZÓRAKOZTATÓ PROGRAMOK
DESCRIPTION:<p>Kamaraszínpad Déryné Művelődési Központ előtt SZÓRAKOZTATÓ PROGRAMOK </p>
 <p>Fotó\: <a href=\\"http\://www.jasznaplo.hu/category/galeria/tancok-2009/kamaraszinpad-1-2009\\" rel=\\"nofollow\\">http\://www.jasznaplo.hu/category/galeria/tancok-2009/kamaraszinpad-1-2009</a></p>
 
END:VEVENT
BEGIN:VEVENT
DTSTAMP;VALUE=DATE-TIME:20260420T105211Z
DTSTART;VALUE=DATE-TIME:20090719T230000Z
DTEND;VALUE=DATE-TIME:20020203
UID:http://jasznaplo.hu/sarkozi-janos-fotokiallitasa
URL;VALUE=URI:http://jasznaplo.hu/sarkozi-janos-fotokiallitasa
SUMMARY:SÁRKÖZI JÁNOS FOTÓKIÁLLÍTÁSA
DESCRIPTION:<p>Honvéd Jász Kaszinó (Bercsényi út 27.) SÁRKÖZI JÁNOS FOTÓKIÁLLÍTÁSA A kiállítással egyidőben filmfelvevő és mozgókép filmvetítők is megtekinthetők Sárközi János gyűjteményéből. </p>
 <p>Fotók\: <a href=\\"/category/galeria/archiv-fotok-2009/kiallitasok-2009/sarkozi-janos-fotokiallitasa-2009\\" rel=\\"nofollow\\">http\://www.jasznaplo.hu/category/galeria/archiv-fotok-2009/kiallitasok-2009/sarkozi-janos-fotokiallitasa-2009</a></p>
 <p>&#160\;</p>
 <p>&#160\;</p>
 
END:VEVENT
BEGIN:VEVENT
DTSTAMP;VALUE=DATE-TIME:20260420T105211Z
DTSTART;VALUE=DATE-TIME:20090721T150000Z
DTEND;VALUE=DATE-TIME:20090721T160000Z
UID:http://jasznaplo.hu/balazs-imre-barna-festomuvesz-kiallitasa
URL;VALUE=URI:http://jasznaplo.hu/balazs-imre-barna-festomuvesz-kiallitasa
SUMMARY:BALÁZS IMRE BARNA FESTŐMŰVÉSZ KIÁLLÍTÁSA
DESCRIPTION:<p>Városi Bíróság BALÁZS IMRE BARNA FESTŐMŰVÉSZ KIÁLLÍTÁSA Megnyitó\: július 21. (kedd) 16.00 óra Látogatható\: hétköznap 10.00 – 17.00 óráig szombaton 14.00 – 17.00 óráig</p>
 
END:VEVENT
BEGIN:VEVENT
DTSTAMP;VALUE=DATE-TIME:20260420T105211Z
DTSTART;VALUE=DATE-TIME:20090722T090000Z
DTEND;VALUE=DATE-TIME:20090728T160000Z
UID:http://jasznaplo.hu/balazs-imre-barna-festomuvesz-kiallitasa-0
URL;VALUE=URI:http://jasznaplo.hu/balazs-imre-barna-festomuvesz-kiallitasa-0
SUMMARY:BALÁZS IMRE BARNA FESTŐMŰVÉSZ KIÁLLÍTÁSA
DESCRIPTION:<p>Városi Bíróság BALÁZS IMRE BARNA FESTŐMŰVÉSZ KIÁLLÍTÁSA Megnyitó\: július 21. (kedd) 16.00 óra Látogatható\: hétköznap 10.00 – 17.00 óráig szombaton 14.00 – 17.00 óráig </p>
 <p>Fotók\: <a href=\\"http\://www.jasznaplo.hu/category/galeria/kiallitasok-2009/balazs-imre-barna-kiallitasa-2009\\" rel=\\"nofollow\\">http\://www.jasznaplo.hu/category/galeria/kiallitasok-2009/balazs-imre-barna-kiallitasa-2009</a></p>
 
END:VEVENT
BEGIN:VEVENT
DTSTAMP;VALUE=DATE-TIME:20260420T105211Z
DTSTART;VALUE=DATE-TIME:20090723T190000Z
DTEND;VALUE=DATE-TIME:20090723T210000Z
UID:http://jasznaplo.hu/emlekhangverseny
URL;VALUE=URI:http://jasznaplo.hu/emlekhangverseny
SUMMARY:EMLÉKHANGVERSENY
DESCRIPTION:<p>Szabadtéri Színpad EMLÉKHANGVERSENY Id. Sánta Ferenc Jászberény város díszpolgára\, a Magyar Köztársaság Tiszti Keresztjével kitüntetett hegedűművész és prímás emlékére Közreműködik\: Ifj. Sánta Ferenc Kossuth- és Liszt-díjas hegedűművész\, prímás és zenekara Tarnai-Kiss László énekművész\, a Magyar Rádió főmunkatársa Budai Beatrix a Nefelejcs Nótashow győztese Jónás Ildikó a 2009. évi Csendül a Nóta Nemzetközi Énekverseny ezüstérmese Dócs Péter a 2004. évi Csendül a Nóta Nemzetközi Énekverseny dobogósa Dr. Fehér Eszter a daloló háziorvos Műsorvezető\: Tarnai-Kiss László Belépődíj\: 1.000 Ft</p>
 <p>Fotó\: <a href=\\"http\://www.jasznaplo.hu/category/galeria/musor-hangverseny-2009/id-santa-ferenc-emlekmusor-2009\\" rel=\\"nofollow\\">http\://www.jasznaplo.hu/category/galeria/musor-hangverseny-2009/id-santa-ferenc-emlekmusor-2009</a></p>
 
END:VEVENT
BEGIN:VEVENT
DTSTAMP;VALUE=DATE-TIME:20260420T105211Z
DTSTART;VALUE=DATE-TIME:20090723T230000Z
DTEND;VALUE=DATE-TIME:20020203
UID:http://jasznaplo.hu/12-jasz-expo-kiallitas-es-vasar
URL;VALUE=URI:http://jasznaplo.hu/12-jasz-expo-kiallitas-es-vasar
SUMMARY: 12. JÁSZ EXPO KIÁLLÍTÁS ÉS VÁSÁR
DESCRIPTION:<p>Bercsényi úti sportcsarnok 12. JÁSZ EXPO KIÁLLÍTÁS ÉS VÁSÁR Megnyitó\: július 24. (péntek) 11.00 óra Nyitva\: péntek – szombat 10.00 – 19.00 vasárnap 10.00 – 17.00 A Jász Expo látogatása díjtalan. További információ\: Compexpo Stúdió 56/421-255\, 56/423-260\, 30/289-1090 </p>
 <p>Fotók\: <a href=\\"/category/galeria/fesztival-vasar-2009/12-jasz-expo-2009\\" rel=\\"nofollow\\">http\://www.jasznaplo.hu/category/galeria/fesztival-vasar-2009/12-jasz-expo-2009</a></p>
 
END:VEVENT
BEGIN:VEVENT
DTSTAMP;VALUE=DATE-TIME:20260420T105211Z
DTSTART;VALUE=DATE-TIME:20090723T230000Z
DTEND;VALUE=DATE-TIME:20020203
UID:http://jasznaplo.hu/belyeg-es-erembemutato
URL;VALUE=URI:http://jasznaplo.hu/belyeg-es-erembemutato
SUMMARY:BÉLYEG- ÉS ÉREMBEMUTATÓ
DESCRIPTION:<p>DMK Ifjúsági Ház BÉLYEG- ÉS ÉREMBEMUTATÓ Megnyitó\: július 24. (péntek) 10.00 óra Látogatható\: péntek 18.00 óráig szombat 9.00-16.00 óráig vasárnap 9.00-18.00 óráig </p>
 <p>Fotók\: <a href=\\"http\://www.jasznaplo.hu/category/galeria/kiallitasok-2009/belyeg-es-erem-bemutato-2009\\" rel=\\"nofollow\\">http\://www.jasznaplo.hu/category/galeria/kiallitasok-2009/belyeg-es-erem-bemutato-2009</a></p>
 
END:VEVENT
BEGIN:VEVENT
DTSTAMP;VALUE=DATE-TIME:20260420T105211Z
DTSTART;VALUE=DATE-TIME:20090724T190000Z
DTEND;VALUE=DATE-TIME:20090724T210000Z
UID:http://jasznaplo.hu/piramis-plusz-zenekar-koncertje
URL;VALUE=URI:http://jasznaplo.hu/piramis-plusz-zenekar-koncertje
SUMMARY:Piramis Plusz Zenekar koncertje
DESCRIPTION:<p>Szabadtéri Színpad Piramis Plusz Zenekar koncertje A zenekar tagjai\: Gallai Péter\, Závodi János\, Köves Miklós\, Csoki\, Vörös Gábor Belépődíj\: 1.000 Ft </p>
 <p>Fotók\: <a href=\\"/category/galeria/koncert-2009/piramis-plusz-zenekar-koncertje-2009\\" rel=\\"nofollow\\">http\://jasznaplo.hu/category/galeria/koncert-2009/piramis-plusz-zenekar-koncertje-2009</a></p>
 
END:VEVENT
BEGIN:VEVENT
DTSTAMP;VALUE=DATE-TIME:20260420T105211Z
DTSTART;VALUE=DATE-TIME:20090725T190000Z
DTEND;VALUE=DATE-TIME:20090725T203000Z
UID:http://jasznaplo.hu/golgota-gospel-korus-koncertje
URL;VALUE=URI:http://jasznaplo.hu/golgota-gospel-korus-koncertje
SUMMARY:GOLGOTA GOSPEL KÓRUS KONCERTJE
DESCRIPTION:<p>Szabadtéri Színpad</p>
 <p>GOLGOTA GOSPEL KÓRUS KONCERTJE</p>
 <p>A belépés díjtalan.</p>
 
END:VEVENT
BEGIN:VEVENT
DTSTAMP;VALUE=DATE-TIME:20260420T105211Z
DTSTART;VALUE=DATE-TIME:20090727T160000Z
DTEND;VALUE=DATE-TIME:20090727T173000Z
UID:http://jasznaplo.hu/oszetiai-uti-beszamolo-0
URL;VALUE=URI:http://jasznaplo.hu/oszetiai-uti-beszamolo-0
SUMMARY:Oszétiai úti beszámoló
DESCRIPTION:<p>Észak-oszétiai útjáról tart két helyszínen előadást dr. Dobos László\,<br />
 a Jászok Egyesülete ügyvivője. </p>
 <p>A jászok legközelebb rokonainál tett látogatás tapasztalatait először<br />
 2009. július 27-én\, hétfőn\, 14\,30 órakor Jászapátin\, a Városi<br />
 Könyvtárban hallhatják az érdeklődők. </p>
 <p>Ezt követően\, 17\,00 órától Jászberényben\, a Szent István Házban<br />
 (Szentháromság tér 3.) ismerkedhetünk meg e félmilliós nemzet<br />
 múltjával és jelenével. </p>
 <p>A belépés mindkét találkozóra ingyenes.</p>
 
END:VEVENT
BEGIN:VEVENT
DTSTAMP;VALUE=DATE-TIME:20260420T105211Z
DTSTART;VALUE=DATE-TIME:20090727T193000Z
DTEND;VALUE=DATE-TIME:20090727T210000Z
UID:http://jasznaplo.hu/%E2%80%9Ei-love-piano%E2%80%9D-malek-andrea-musora
URL;VALUE=URI:http://jasznaplo.hu/%E2%80%9Ei-love-piano%E2%80%9D-malek-andrea-musora
SUMMARY:„I LOVE A PIANO” MALEK ANDREA MŰSORA
DESCRIPTION:<p>Co-op Átrium (Szabadság tér 4.) „I LOVE A PIANO” MALEK ANDREA MŰSORA Közreműködik\: Walter Lochmann Belépődíj\: 1.200 Ft</p>
 <p>Fotók\: <a href=\\"/category/galeria/musor-hangverseny-2009/malek-andrea-musora-2009\\" rel=\\"nofollow\\">http\://jasznaplo.hu/category/galeria/musor-hangverseny-2009/malek-andrea-musora-2009</a></p>
 
END:VEVENT
BEGIN:VEVENT
DTSTAMP;VALUE=DATE-TIME:20260420T105211Z
DTSTART;VALUE=DATE-TIME:20090729T170000Z
DTEND;VALUE=DATE-TIME:20090729T183000Z
UID:http://jasznaplo.hu/ifju-muzsikusok-estje
URL;VALUE=URI:http://jasznaplo.hu/ifju-muzsikusok-estje
SUMMARY:IFJÚ MUZSIKUSOK ESTJE
DESCRIPTION:<p><strong><em></em></strong></p>
 <p>Július 29. (szerda) 18.00 óra</p>
 <p>Jász Múzeum</p>
 <p><strong></strong></p>
 <p>IFJÚ MUZSIKUSOK ESTJE</p>
 <p></p>
 
END:VEVENT
BEGIN:VEVENT
DTSTAMP;VALUE=DATE-TIME:20260420T105211Z
DTSTART;VALUE=DATE-TIME:20090730T114900Z
DTEND;VALUE=DATE-TIME:20090808T114900Z
UID:http://jasznaplo.hu/gabri-albert-kiallitasa
URL;VALUE=URI:http://jasznaplo.hu/gabri-albert-kiallitasa
SUMMARY:Gábri Albert kiállítása
DESCRIPTION:<p>Városi Bíróság</p>
 <p><strong>GÁBRI ALBERT (1935-2004)<br />
 FESTŐMŰVÉSZ KIÁLLÍTÁSA </strong></p>
 <p>Megnyitó\:  <strong><em>július 30. (csütörtök) 16.00 óra</em></strong></p>
 <p>Látogatható\:  hétköznap <strong><em>10.00 – 17.00 óráig\, </em></strong>szombaton <strong><em>14.00 – 17.00 óráig</em></strong></p>
 <p></p>
 
END:VEVENT
BEGIN:VEVENT
DTSTAMP;VALUE=DATE-TIME:20260420T105211Z
DTSTART;VALUE=DATE-TIME:20090730T170000Z
DTEND;VALUE=DATE-TIME:20090730T193000Z
UID:http://jasznaplo.hu/xv-tarsastanc-gala
URL;VALUE=URI:http://jasznaplo.hu/xv-tarsastanc-gala
SUMMARY:XV. TÁRSASTÁNC GÁLA
DESCRIPTION:<p><strong>XV. TÁRSASTÁNC </strong><strong>GÁLA<br />
 </strong><strong>a Bercsényi úti Sportcsarnokban<br />
 </strong><strong>Közreműködnek\:<br />
 </strong></p>
 
END:VEVENT
END:VCALENDAR
